BEGIN:VCALENDAR
VERSION:2.0
PRODID:-//Espai Jove Garcilaso - ECPv6.15.13//NONSGML v1.0//EN
CALSCALE:GREGORIAN
METHOD:PUBLISH
X-ORIGINAL-URL:https://espaijovegarcilaso.org
X-WR-CALDESC:Esdeveniments per Espai Jove Garcilaso
REFRESH-INTERVAL;VALUE=DURATION:PT1H
X-Robots-Tag:noindex
X-PUBLISHED-TTL:PT1H
BEGIN:VTIMEZONE
TZID:Europe/Paris
BEGIN:DAYLIGHT
TZOFFSETFROM:+0100
TZOFFSETTO:+0200
TZNAME:CEST
DTSTART:20210328T010000
END:DAYLIGHT
BEGIN:STANDARD
TZOFFSETFROM:+0200
TZOFFSETTO:+0100
TZNAME:CET
DTSTART:20211031T010000
END:STANDARD
BEGIN:DAYLIGHT
TZOFFSETFROM:+0100
TZOFFSETTO:+0200
TZNAME:CEST
DTSTART:20220327T010000
END:DAYLIGHT
BEGIN:STANDARD
TZOFFSETFROM:+0200
TZOFFSETTO:+0100
TZNAME:CET
DTSTART:20221030T010000
END:STANDARD
BEGIN:DAYLIGHT
TZOFFSETFROM:+0100
TZOFFSETTO:+0200
TZNAME:CEST
DTSTART:20230326T010000
END:DAYLIGHT
BEGIN:STANDARD
TZOFFSETFROM:+0200
TZOFFSETTO:+0100
TZNAME:CET
DTSTART:20231029T010000
END:STANDARD
END:VTIMEZONE
BEGIN:VEVENT
DTSTART;TZID=Europe/Paris:20220524T173000
DTEND;TZID=Europe/Paris:20220524T200000
DTSTAMP:20260421T095808
CREATED:20220520T160212Z
LAST-MODIFIED:20220520T160212Z
UID:18893-1653413400-1653422400@espaijovegarcilaso.org
SUMMARY:Taller de teatre - La Sala
DESCRIPTION:Aquesta és la programació del 23 al 27 de maig. 🎭👨‍🍳🎥🤸 \n✍️Inscripcions obertes per qualsevol dubte\, escriu-nos!!
URL:https://espaijovegarcilaso.org/esdeveniments/taller-de-teatre-la-sala-29/
END:VEVENT
BEGIN:VEVENT
DTSTART;TZID=Europe/Paris:20220523T180000
DTEND;TZID=Europe/Paris:20220523T200000
DTSTAMP:20260421T095808
CREATED:20220512T162455Z
LAST-MODIFIED:20220520T163058Z
UID:18913-1653328800-1653336000@espaijovegarcilaso.org
SUMMARY:Taller de dibuix
DESCRIPTION:La segona sessió del taller de manga \n📆 23/05\n⏰de 18:00 a 20:00h \nt’ho perdràs?🤔🤔🤔🤔🤔🤔
URL:https://espaijovegarcilaso.org/esdeveniments/taller-de-dibuix/
ATTACH;FMTTYPE=image/jpeg:https://espaijovegarcilaso.org/wp-content/uploads/2022/05/taller-de-dibuix-1.jpg
END:VEVENT
BEGIN:VEVENT
DTSTART;TZID=Europe/Paris:20220523T173000
DTEND;TZID=Europe/Paris:20220523T200000
DTSTAMP:20260421T095808
CREATED:20220520T160139Z
LAST-MODIFIED:20220520T160139Z
UID:18891-1653327000-1653336000@espaijovegarcilaso.org
SUMMARY:Cinefòrum - La Sala
DESCRIPTION:Aquesta és la programació del 23 al 27 de maig. 🎭👨‍🍳🎥🤸 \n✍️Inscripcions obertes per qualsevol dubte\, escriu-nos!!
URL:https://espaijovegarcilaso.org/esdeveniments/cineforum-la-sala-23/
END:VEVENT
BEGIN:VEVENT
DTSTART;TZID=Europe/Paris:20220520T180000
DTEND;TZID=Europe/Paris:20220520T200000
DTSTAMP:20260421T095808
CREATED:20220520T161339Z
LAST-MODIFIED:20220520T162119Z
UID:18905-1653069600-1653076800@espaijovegarcilaso.org
SUMMARY:Concert: Trencant la barrera del so
DESCRIPTION:Aquest divendres per fi estrenem “trencant la barrera del so”\, i serà amb una actuació molt top de @yuhniversia \nQuè esperes per apuntar-te i venir a gaudir de l’estrena.
URL:https://espaijovegarcilaso.org/esdeveniments/trencant-la-barrera-del-so/
END:VEVENT
BEGIN:VEVENT
DTSTART;TZID=Europe/Paris:20220520T180000
DTEND;TZID=Europe/Paris:20220520T200000
DTSTAMP:20260421T095808
CREATED:20220428T213451Z
LAST-MODIFIED:20220428T213451Z
UID:18814-1653069600-1653076800@espaijovegarcilaso.org
SUMMARY:Renova la Roba (3a sessió)
DESCRIPTION:Personalitza la teva roba per a donar-li un estil propi. Potenciaràs la creativitat a partir d’una pluja d’idees per a generar noves idees i aprendràs tècniques que t’ajudaran a personalitzar les teves peces a través de senzills passos. \nRenova la Roba\, dona-li una segona vida!
URL:https://espaijovegarcilaso.org/esdeveniments/renova-la-roba-3a-sessio/
END:VEVENT
BEGIN:VEVENT
DTSTART;TZID=Europe/Paris:20220519T180000
DTEND;TZID=Europe/Paris:20220519T200000
DTSTAMP:20260421T095808
CREATED:20220504T205351Z
LAST-MODIFIED:20220504T205351Z
UID:18839-1652983200-1652990400@espaijovegarcilaso.org
SUMMARY:Folklóricas & Modernas
DESCRIPTION:Comencem el mes de Maig a tope d’energia!!!! \n🙋🏾🙋‍♀️🙋🏽‍♂️ Per a apuntar-se a les activitats\, recorda que has de reservar plaça enviant-nos un whatsapp o un DM al nostre Instagram.
URL:https://espaijovegarcilaso.org/esdeveniments/folkloricas-modernas-5/
END:VEVENT
BEGIN:VEVENT
DTSTART;TZID=Europe/Paris:20220519T173000
DTEND;TZID=Europe/Paris:20220519T200000
DTSTAMP:20260421T095808
CREATED:20220514T152707Z
LAST-MODIFIED:20220514T152707Z
UID:18884-1652981400-1652990400@espaijovegarcilaso.org
SUMMARY:Autogestió - La Sala
DESCRIPTION:Aquesta és la programació del 16 al 20 de maig. 🎭👨‍🍳🎥🤸 \n✍️Inscripcions obertes per qualsevol dubte\, escriu-nos!!
URL:https://espaijovegarcilaso.org/esdeveniments/autogestio-la-sala-22/
END:VEVENT
BEGIN:VEVENT
DTSTART;TZID=Europe/Paris:20220518T173000
DTEND;TZID=Europe/Paris:20220518T200000
DTSTAMP:20260421T095808
CREATED:20220514T152549Z
LAST-MODIFIED:20220514T152549Z
UID:18882-1652895000-1652904000@espaijovegarcilaso.org
SUMMARY:Taller de cuina a Torre Sagrera
DESCRIPTION:Aquesta és la programació del 16 al 20 de maig. 🎭👨‍🍳🎥🤸 \n✍️Inscripcions obertes per qualsevol dubte\, escriu-nos!!
URL:https://espaijovegarcilaso.org/esdeveniments/taller-de-cuina-a-torre-sagrera-3/
END:VEVENT
BEGIN:VEVENT
DTSTART;TZID=Europe/Paris:20220517T173000
DTEND;TZID=Europe/Paris:20220517T200000
DTSTAMP:20260421T095808
CREATED:20220514T152517Z
LAST-MODIFIED:20220514T152517Z
UID:18880-1652808600-1652817600@espaijovegarcilaso.org
SUMMARY:Taller de teatre - La Sala
DESCRIPTION:Aquesta és la programació del 16 al 20 de maig. 🎭👨‍🍳🎥🤸 \n✍️Inscripcions obertes per qualsevol dubte\, escriu-nos!!
URL:https://espaijovegarcilaso.org/esdeveniments/taller-de-teatre-la-sala-28/
END:VEVENT
BEGIN:VEVENT
DTSTART;TZID=Europe/Paris:20220516T173000
DTEND;TZID=Europe/Paris:20220516T200000
DTSTAMP:20260421T095808
CREATED:20220514T152442Z
LAST-MODIFIED:20220514T152442Z
UID:18878-1652722200-1652731200@espaijovegarcilaso.org
SUMMARY:Cinefòrum - La Sala
DESCRIPTION:Aquesta és la programació del 16 al 20 de maig. 🎭👨‍🍳🎥🤸 \n✍️Inscripcions obertes per qualsevol dubte\, escriu-nos!!
URL:https://espaijovegarcilaso.org/esdeveniments/cineforum-la-sala-22/
END:VEVENT
BEGIN:VEVENT
DTSTART;TZID=Europe/Paris:20220513T214500
DTEND;TZID=Europe/Paris:20220514T010000
DTSTAMP:20260421T095808
CREATED:20220512T201344Z
LAST-MODIFIED:20220512T201344Z
UID:18872-1652478300-1652490000@espaijovegarcilaso.org
SUMMARY:Nit Jove de Navas 2022
DESCRIPTION:Aquest divendres\, 13 de maig\, de 21.45 a 01h estarem a la Pl. Ferran Reyes celebran la Nit Jove de Navas de les Festes de la Primavera. \nUs hi esperem!
URL:https://espaijovegarcilaso.org/esdeveniments/nit-jove-de-navas-2022/
END:VEVENT
BEGIN:VEVENT
DTSTART;TZID=Europe/Paris:20220513T200000
DTEND;TZID=Europe/Paris:20220513T220000
DTSTAMP:20260421T095808
CREATED:20220510T151340Z
LAST-MODIFIED:20220510T151340Z
UID:18867-1652472000-1652479200@espaijovegarcilaso.org
SUMMARY:Concert amb T-NUE
DESCRIPTION:El proper divendres 13 de maig a partir de les 20h gaudirem de concert a l’Espai Jove Garcilaso amb l’actuació de “T-NUE”. \nUs hi esperem! \nEntrada 3€.
URL:https://espaijovegarcilaso.org/esdeveniments/concert-amb-t-nue/
END:VEVENT
BEGIN:VEVENT
DTSTART;TZID=Europe/Paris:20220513T180000
DTEND;TZID=Europe/Paris:20220513T200000
DTSTAMP:20260421T095808
CREATED:20220428T213316Z
LAST-MODIFIED:20220428T213316Z
UID:18812-1652464800-1652472000@espaijovegarcilaso.org
SUMMARY:Renova la Roba (2a sessió)
DESCRIPTION:Personalitza la teva roba per a donar-li un estil propi. Potenciaràs la creativitat a partir d’una pluja d’idees per a generar noves idees i aprendràs tècniques que t’ajudaran a personalitzar les teves peces a través de senzills passos. \nRenova la Roba\, dona-li una segona vida!
URL:https://espaijovegarcilaso.org/esdeveniments/renova-la-roba-2a-sessio/
END:VEVENT
BEGIN:VEVENT
DTSTART;TZID=Europe/Paris:20220513T173000
DTEND;TZID=Europe/Paris:20220513T200000
DTSTAMP:20260421T095808
CREATED:20220505T205300Z
LAST-MODIFIED:20220505T205300Z
UID:18862-1652463000-1652472000@espaijovegarcilaso.org
SUMMARY:Anem al Parc de la Pegaso
DESCRIPTION:Aquesta és la programació del 9 al 13 de maig. 🎭👨‍🍳🎥🤸 \n✍️Inscripcions obertes per qualsevol dubte\, escriu-nos!!
URL:https://espaijovegarcilaso.org/esdeveniments/anem-al-parc-de-la-pegaso/
END:VEVENT
BEGIN:VEVENT
DTSTART;TZID=Europe/Paris:20220512T180000
DTEND;TZID=Europe/Paris:20220512T200000
DTSTAMP:20260421T095808
CREATED:20220504T205032Z
LAST-MODIFIED:20220504T205032Z
UID:18837-1652378400-1652385600@espaijovegarcilaso.org
SUMMARY:Taller de serigrafia
DESCRIPTION:Comencem el mes de Maig a tope d’energia!!!! \n🙋🏾🙋‍♀️🙋🏽‍♂️ Per a apuntar-se a les activitats\, recorda que has de reservar plaça enviant-nos un whatsapp o un DM al nostre Instagram.
URL:https://espaijovegarcilaso.org/esdeveniments/taller-de-serigrafia/
END:VEVENT
BEGIN:VEVENT
DTSTART;TZID=Europe/Paris:20220512T173000
DTEND;TZID=Europe/Paris:20220512T200000
DTSTAMP:20260421T095808
CREATED:20220505T205210Z
LAST-MODIFIED:20220505T205210Z
UID:18860-1652376600-1652385600@espaijovegarcilaso.org
SUMMARY:Autogestió - La Sala
DESCRIPTION:Aquesta és la programació del 9 al 13 de maig. 🎭👨‍🍳🎥🤸 \n✍️Inscripcions obertes per qualsevol dubte\, escriu-nos!!
URL:https://espaijovegarcilaso.org/esdeveniments/autogestio-la-sala-21/
END:VEVENT
BEGIN:VEVENT
DTSTART;TZID=Europe/Paris:20220511T173000
DTEND;TZID=Europe/Paris:20220511T200000
DTSTAMP:20260421T095808
CREATED:20220505T205039Z
LAST-MODIFIED:20220505T205039Z
UID:18858-1652290200-1652299200@espaijovegarcilaso.org
SUMMARY:Taller de cuina a Torre Sagrera
DESCRIPTION:Aquesta és la programació del 9 al 13 de maig. 🎭👨‍🍳🎥🤸 \n✍️Inscripcions obertes per qualsevol dubte\, escriu-nos!!
URL:https://espaijovegarcilaso.org/esdeveniments/taller-de-cuina-a-torre-sagrera-2/
END:VEVENT
BEGIN:VEVENT
DTSTART;TZID=Europe/Paris:20220510T173000
DTEND;TZID=Europe/Paris:20220510T200000
DTSTAMP:20260421T095808
CREATED:20220505T204935Z
LAST-MODIFIED:20220505T204935Z
UID:18856-1652203800-1652212800@espaijovegarcilaso.org
SUMMARY:Taller de teatre - La Sala
DESCRIPTION:Aquesta és la programació del 9 al 13 de maig. 🎭👨‍🍳🎥🤸 \n✍️Inscripcions obertes per qualsevol dubte\, escriu-nos!!
URL:https://espaijovegarcilaso.org/esdeveniments/taller-de-teatre-la-sala-27/
END:VEVENT
BEGIN:VEVENT
DTSTART;TZID=Europe/Paris:20220509T180000
DTEND;TZID=Europe/Paris:20220509T200000
DTSTAMP:20260421T095808
CREATED:20220505T204628Z
LAST-MODIFIED:20220505T204628Z
UID:18852-1652119200-1652126400@espaijovegarcilaso.org
SUMMARY:Taller de dibuix: Estil manga
DESCRIPTION:Aquest dilluns dia 9 tenim la primera sessió del taller de dibuix a l’estil manga. \nSon Goku\, Naruto\, Pokémon\, InuYasha… Tots els podràs dibuixar tu mateix. \nA què esperes per apuntarte?
URL:https://espaijovegarcilaso.org/esdeveniments/taller-de-dibuix-estil-manga/
END:VEVENT
BEGIN:VEVENT
DTSTART;TZID=Europe/Paris:20220509T173000
DTEND;TZID=Europe/Paris:20220509T200000
DTSTAMP:20260421T095808
CREATED:20220505T204825Z
LAST-MODIFIED:20220505T204825Z
UID:18854-1652117400-1652126400@espaijovegarcilaso.org
SUMMARY:Cinefòrum: Pel·lícula de por
DESCRIPTION:Aquesta és la programació del 9 al 13 de maig. 🎭👨‍🍳🎥🤸 \n✍️Inscripcions obertes per qualsevol dubte\, escriu-nos!!
URL:https://espaijovegarcilaso.org/esdeveniments/cineforum-pellicula-de-por/
END:VEVENT
BEGIN:VEVENT
DTSTART;TZID=Europe/Paris:20220506T180000
DTEND;TZID=Europe/Paris:20220506T200000
DTSTAMP:20260421T095808
CREATED:20220428T213238Z
LAST-MODIFIED:20220428T213238Z
UID:18810-1651860000-1651867200@espaijovegarcilaso.org
SUMMARY:Renova la Roba (1a sessió)
DESCRIPTION:Personalitza la teva roba per a donar-li un estil propi. Potenciaràs la creativitat a partir d’una pluja d’idees per a generar noves idees i aprendràs tècniques que t’ajudaran a personalitzar les teves peces a través de senzills passos. \nRenova la Roba\, dona-li una segona vida!
URL:https://espaijovegarcilaso.org/esdeveniments/renova-la-roba-1a-sessio/
END:VEVENT
BEGIN:VEVENT
DTSTART;TZID=Europe/Paris:20220506T173000
DTEND;TZID=Europe/Paris:20220506T200000
DTSTAMP:20260421T095808
CREATED:20220428T214304Z
LAST-MODIFIED:20220428T214304Z
UID:18824-1651858200-1651867200@espaijovegarcilaso.org
SUMMARY:Excursió al Turó de la Peira
DESCRIPTION:Aquesta és la programació del 2 al 6 de maig. 🎭👨‍🍳🎥🤸 \n✍️Inscripcions obertes per qualsevol dubte\, escriu-nos!!
URL:https://espaijovegarcilaso.org/esdeveniments/excursio-al-turo-de-la-peira/
END:VEVENT
BEGIN:VEVENT
DTSTART;TZID=Europe/Paris:20220505T173000
DTEND;TZID=Europe/Paris:20220505T200000
DTSTAMP:20260421T095808
CREATED:20220428T214141Z
LAST-MODIFIED:20220428T214141Z
UID:18822-1651771800-1651780800@espaijovegarcilaso.org
SUMMARY:Autogestió - La Sala
DESCRIPTION:Aquesta és la programació del 2 al 6 de maig. 🎭👨‍🍳🎥🤸 \n✍️Inscripcions obertes per qualsevol dubte\, escriu-nos!!
URL:https://espaijovegarcilaso.org/esdeveniments/autogestio-la-sala-20/
END:VEVENT
BEGIN:VEVENT
DTSTART;TZID=Europe/Paris:20220504T173000
DTEND;TZID=Europe/Paris:20220504T200000
DTSTAMP:20260421T095808
CREATED:20220428T213752Z
LAST-MODIFIED:20220428T213752Z
UID:18820-1651685400-1651694400@espaijovegarcilaso.org
SUMMARY:Taller de cuina a Torre Sagrera - La Sala
DESCRIPTION:Aquesta és la programació del 2 al 6 de maig. 🎭👨‍🍳🎥🤸 \n✍️Inscripcions obertes per qualsevol dubte\, escriu-nos!!
URL:https://espaijovegarcilaso.org/esdeveniments/taller-de-cuina-a-torre-sagrera-la-sala-4/
END:VEVENT
BEGIN:VEVENT
DTSTART;TZID=Europe/Paris:20220503T190000
DTEND;TZID=Europe/Paris:20220503T210000
DTSTAMP:20260421T095808
CREATED:20220428T211548Z
LAST-MODIFIED:20220428T211548Z
UID:18796-1651604400-1651611600@espaijovegarcilaso.org
SUMMARY:Tècniques d'estudi
DESCRIPTION:Dimarts 03/05 a les 19h \nPer poder superar aquest últim trimestre que millor que un taller sobre tècniques d’estudi i organització. Planta-li cara a l’últim sprint de la millor manera.
URL:https://espaijovegarcilaso.org/esdeveniments/tecniques-destudi/
END:VEVENT
BEGIN:VEVENT
DTSTART;TZID=Europe/Paris:20220503T173000
DTEND;TZID=Europe/Paris:20220503T200000
DTSTAMP:20260421T095808
CREATED:20220428T213658Z
LAST-MODIFIED:20220428T213658Z
UID:18818-1651599000-1651608000@espaijovegarcilaso.org
SUMMARY:Taller de teatre - La Sala
DESCRIPTION:Aquesta és la programació del 2 al 6 de maig. 🎭👨‍🍳🎥🤸 \n✍️Inscripcions obertes per qualsevol dubte\, escriu-nos!!
URL:https://espaijovegarcilaso.org/esdeveniments/taller-de-teatre-la-sala-26/
END:VEVENT
BEGIN:VEVENT
DTSTART;TZID=Europe/Paris:20220502T200000
DTEND;TZID=Europe/Paris:20220502T233000
DTSTAMP:20260421T095808
CREATED:20220427T221959Z
LAST-MODIFIED:20220427T221959Z
UID:18791-1651521600-1651534200@espaijovegarcilaso.org
SUMMARY:Obertura sala d'estudi puntual
DESCRIPTION:Aprofita al màxim la teva concentració a les sales d’estudi. \nA partir del proper dilluns 2 de maig\, Barcelona reforça els horaris habituals de les sales d’estudi de dilluns a dijous de 20 a 23.30h\, i també el dissabte 11/06 i diumenge 12/06 d’11 a 23.30h. \nConsulta en temps real els espais disponibles a barcelona.cat/joventut
URL:https://espaijovegarcilaso.org/esdeveniments/obertura-sala-destudi-puntual/
END:VEVENT
BEGIN:VEVENT
DTSTART;TZID=Europe/Paris:20220502T180000
DTEND;TZID=Europe/Paris:20220502T200000
DTSTAMP:20260421T095808
CREATED:20220504T204335Z
LAST-MODIFIED:20220504T204335Z
UID:18831-1651514400-1651521600@espaijovegarcilaso.org
SUMMARY:Cómeme el Donut - Taller sobre la sexualitat
DESCRIPTION:Comencem el mes de Maig a tope d’energia!!!! \n🙋🏾🙋‍♀️🙋🏽‍♂️ Per a apuntar-se a les activitats\, recorda que has de reservar plaça enviant-nos un whatsapp o un DM al nostre Instagram.
URL:https://espaijovegarcilaso.org/esdeveniments/comeme-el-donut-taller-sobre-la-sexualitat-2/
END:VEVENT
BEGIN:VEVENT
DTSTART;TZID=Europe/Paris:20220502T173000
DTEND;TZID=Europe/Paris:20220502T200000
DTSTAMP:20260421T095808
CREATED:20220428T213613Z
LAST-MODIFIED:20220428T213613Z
UID:18816-1651512600-1651521600@espaijovegarcilaso.org
SUMMARY:Cinefòrum - La Sala
DESCRIPTION:Aquesta és la programació del 2 al 6 de maig. 🎭👨‍🍳🎥🤸 \n✍️Inscripcions obertes per qualsevol dubte\, escriu-nos!!
URL:https://espaijovegarcilaso.org/esdeveniments/cineforum-la-sala-21/
END:VEVENT
BEGIN:VEVENT
DTSTART;TZID=Europe/Paris:20220502T170000
DTEND;TZID=Europe/Paris:20220502T203000
DTSTAMP:20260421T095808
CREATED:20220403T152249Z
LAST-MODIFIED:20220403T152448Z
UID:18646-1651510800-1651523400@espaijovegarcilaso.org
SUMMARY:Inici dels tallers trimestrals
DESCRIPTION:Inscripció: \nDel 4 al 18 d’abril al web espaijovegarcilaso.org \nPagament presencial amb targeta bancària: del 19 al 29 d’abril amb cita prèvia (us contactarem per reservar-vos cita). \n  \nInici dels tallers: \nSetmana del 2 de maig. \n  \nLes places són limitades\, es considera la plaça reservada un cop s’ha fet efectiu el pagament que ha de ser presencial. Aquest import s’ha de realitzar amb targeta bancària. Un cop feta la inscripció online \ncontactarem amb vosaltres per a agendar cita prèvia per a fer el pagament del taller/s trimestral/s. En cap cas es retornaran els diners\, excepte si l’organització anul·la el taller per falta de persones inscrites. \nTots els tallers seran presencials\, sempre i quan la situació de la pandèmia ho permeti. \n\n					Tallers d’1 h o 1:15 h\nJoves de 12 a 17 anys: 8\,21 €\nJoves de 18 a 25 anys: 23\,95 €\nJoves de 26 a 35 anys: 31\,85 € \n\n					Tallers d’1:30 h\nJoves de 12 a 17 anys: 12\,32 €\nJoves de 18 a 25 anys: 35\,93 €\nJoves de 26 a 35 anys: 47\,36 € \n\n					TALLERS DE BALL\n\n\n					 \nK-POP [Inscriu-te aquí]\n \n +info  \nDilluns de 17:45 a 19 h (12 a 18 anys) \nDimecres de 17:45 a 19 h (+18 anys) \nEl k-pop és la nova tendència musical coreana del moment que ha aconseguit captivar a milions de joves de tot el món amb les seves coreografies! \nJoves de 12 a 35 anys. Diferents grups segons l’edat. \n  -info \n\n					 \nBATXATA [Inscriu-te aquí]\n \n +info  \nDilluns de 19 a 20 h \nLa Batxata és un gènere musical que prové de la República Dominicana. Es considera un derivat del “bolero” més rítmic\, combinat amb diversos estils com el son cubà\, el merenga i altres! \nJoves de 12 a 35 anys. \n  -info \n\n					 \nURBAN REGGAETON [Inscriu-te aquí]\n \n +info  \nDimarts de 17 a 18:15 h \nTaller de ball que combina la dansa urbana amb el reggeaton! \nJoves de 12 a 35 anys. \n  -info \n\n					 \nDANCE HALL [Inscriu-te aquí]\n \n +info  \nDijous de 18:45 a 20 h \nTaller on s’inclouen diferents estils de ball centrats en la Dansa Urbana. Un estil Jamaicà creat a finals dels setanta! \nJoves de 12 a 35 anys. \n  -info \n\n					COS I MENT\n\n\n					 \nMAKE UP [Inscriu-te aquí]\n \n +info  \nDimecres de 19 a 20 h \nIniciació al Maquillatge és un taller que té per objectiu desenvolupar les habilitats de les participants en les tècniques bàsiques del maquillatge\, així com aprendre a autoconèixer-se\, estils innovadors… T’hi animes? \n  -info \n\n					TALLERS MUSICALS\n\n\n					 \nTÈCNICA VOCAL [Inscriu-te aquí]\n \n +info  \nDilluns de 19 a 20:30 h \nClasses de cant\, veu i cos\, per adquirir eines i tècniques que et permetin desenvolupar la veu com a instrument i potenciar la teva capacitat comunicativa i expressiva. \nJoves de 12 a 35 anys. \n  -info \n\n					 \nGUITARRA [Inscriu-te aquí]\n \n +info  \nDimarts de 19 a 20:30 h \nVine i aprèn o perfecciona aquest instrument\, amb les diferents tècniques\, ritmes i acords. De forma fàcil i divertida\, aprendràs a interpretar les teves cançons preferides. Cal que portis la teva guitarra clàssica o acústica. \nJoves de 12 a 35 anys. \n  -info \n\n					 \nHOME STUDIO [Inscriu-te aquí]\n \n +info  \nDilluns de 19 a 20:30 h \nAdreçat a músics que busquen iniciar-se en el món de la gravació i la producció de les seves composicions des de casa. Aprendràs quins elements i quines eines són necessàries per poder captar\, mesclar i exportar les teves cançons. \nJoves de 12 a 35 anys. \n  -info \n\n					TALLER D’IDIOMES (GRATUÏT)\n\n\n					 \nCATALÀ BÀSIC [Inscriu-te aquí] Gratuït\n \n +info  \nDimarts de 17:30 a 19 h \nÉs necessari tenir nocions bàsiques de català! \nJoves de 12 a 15 anys. \n  -info \n\n					AQUÍ T’ESCOLTEM (TALLERS GRATUÏTS)\n\n\n					 \nENFRONTA’T: ARTS MARCIALS I EMOCIONS [Inscriu-te aquí] Gratuït\n \n +info  \nDimarts de 17:30 a 19:30 h \nDel 26 d’abril al 14 de juny. \nCom treus la ràbia? I la frustració? Sabries canalitzar-la en benefici propi? Descobreix els teus propis recursos\, pren consciència de les teves emocions i posa’t en forma! Des de l’Enfronta’t podràs aprendre tècniques d’autodefensa\, conèixer els teus punts febles i enfortir-te tan físicament com emocionalment. T’atreveixes a enfrontar-te a tu mateixa? \n  -info \n\n					 \nEN PRIMERA PERSONA [Inscriu-te aquí] Gratuït\n \n +info  \nDimecres de 18 a 19:30 h \nDel 27 d’abril al 15 de juny. \nDestinat a joves d’entre 16 i 20 anys. \nDona’t espai\, pensa’t i escolta’t. En primera persona és un taller per aturar el ritme frenètic del teu dia a dia i observar-te. Un espai on posar nom a allò que ens travessa\, donar-li la volta al full i aprendre a estimar-te amb una nova mirada. Fem un espai de cures\, des d’on conèixer la teva veu i afirmar-te en primera persona! \n  -info \n\n					 \nENS COMPARTIM: EL MEU COS ÉS ÚNIC! [Inscriu-te aquí] Gratuït\n \n +info  \nDijous de 17:30 a 19:30 h \nDel 28 d’abril al 16 de juny. \nApropa’t a fomentar i parlar sobre la diversitat corporal\, tot fent un treball personal per millorar el teu autoconcepte i autoestima\, compartint dubtes\, experiències i quina està sent la teva relació amb el teu cos. En un espai de seguretat i confiança xerrar i escoltar altres persones\, aprendre i desaprendre! \n  -info \n\n					 \nPARLEM-NE: MASCULINITATS A FLOR DE PELL [Inscriu-te aquí] Gratuït\n \n +info  \nDilluns 2\, 16 i 30 de maig\, i 13 de juny\, de 18 a 19:30 h \nT’has plantejat perquè fas el que fas? I com ho fas? Quines són les teves creences? El que sents que pots fer i el que no? Vine al Parlem-ne! Un espai de reflexió i dubtes sobre tot allò que vulguis posar a la taula\, des del respecte i travessant la incomoditat. \n  -info
URL:https://espaijovegarcilaso.org/esdeveniments/inici-dels-tallers-trimestrals/
END:VEVENT
END:VCALENDAR