BEGIN:VCALENDAR
VERSION:2.0
PRODID:-//Espai Jove Garcilaso - ECPv6.15.13//NONSGML v1.0//EN
CALSCALE:GREGORIAN
METHOD:PUBLISH
X-ORIGINAL-URL:https://espaijovegarcilaso.org
X-WR-CALDESC:Esdeveniments per Espai Jove Garcilaso
REFRESH-INTERVAL;VALUE=DURATION:PT1H
X-Robots-Tag:noindex
X-PUBLISHED-TTL:PT1H
BEGIN:VTIMEZONE
TZID:Europe/Paris
BEGIN:DAYLIGHT
TZOFFSETFROM:+0100
TZOFFSETTO:+0200
TZNAME:CEST
DTSTART:20210328T010000
END:DAYLIGHT
BEGIN:STANDARD
TZOFFSETFROM:+0200
TZOFFSETTO:+0100
TZNAME:CET
DTSTART:20211031T010000
END:STANDARD
BEGIN:DAYLIGHT
TZOFFSETFROM:+0100
TZOFFSETTO:+0200
TZNAME:CEST
DTSTART:20220327T010000
END:DAYLIGHT
BEGIN:STANDARD
TZOFFSETFROM:+0200
TZOFFSETTO:+0100
TZNAME:CET
DTSTART:20221030T010000
END:STANDARD
BEGIN:DAYLIGHT
TZOFFSETFROM:+0100
TZOFFSETTO:+0200
TZNAME:CEST
DTSTART:20230326T010000
END:DAYLIGHT
BEGIN:STANDARD
TZOFFSETFROM:+0200
TZOFFSETTO:+0100
TZNAME:CET
DTSTART:20231029T010000
END:STANDARD
END:VTIMEZONE
BEGIN:VEVENT
DTSTART;TZID=Europe/Paris:20220426T180000
DTEND;TZID=Europe/Paris:20220426T200000
DTSTAMP:20260421T144610
CREATED:20220404T171457Z
LAST-MODIFIED:20220425T200637Z
UID:18662-1650996000-1651003200@espaijovegarcilaso.org
SUMMARY:Conecta2 - Taller sobre xarxes socials
DESCRIPTION:Aquest dimarts tenim Conecta2\, un taller on es treballen els perills i els avantatges que hi ha a la xarxa.\n📱📱📱📱📱📱📱📱📱\nVeurem què hi ha darrera de les xarxes socials\, les fake news\, les cookies… I altres tipus de curiositats.
URL:https://espaijovegarcilaso.org/esdeveniments/conecta2-taller-sobre-xarxes-socials/
END:VEVENT
BEGIN:VEVENT
DTSTART;TZID=Europe/Paris:20220426T173000
DTEND;TZID=Europe/Paris:20220426T200000
DTSTAMP:20260421T144610
CREATED:20220422T170352Z
LAST-MODIFIED:20220422T170754Z
UID:18737-1650994200-1651003200@espaijovegarcilaso.org
SUMMARY:Taller de teatre - La Sala
DESCRIPTION:Aquesta és la programació del 25 al 29 d’abril. 🎭👨‍🍳🎥🤸 \n✍️Inscripcions obertes per qualsevol dubte\, escriu-nos!!
URL:https://espaijovegarcilaso.org/esdeveniments/taller-de-teatre-la-sala-25/
END:VEVENT
BEGIN:VEVENT
DTSTART;TZID=Europe/Paris:20220425T173000
DTEND;TZID=Europe/Paris:20220425T200000
DTSTAMP:20260421T144610
CREATED:20220422T170306Z
LAST-MODIFIED:20220422T170720Z
UID:18735-1650907800-1650916800@espaijovegarcilaso.org
SUMMARY:Cinefòrum - La Sala
DESCRIPTION:Aquesta és la programació del 25 al 29 d’abril. 🎭👨‍🍳🎥🤸 \n✍️Inscripcions obertes per qualsevol dubte\, escriu-nos!!
URL:https://espaijovegarcilaso.org/esdeveniments/cineforum-la-sala-18/
END:VEVENT
BEGIN:VEVENT
DTSTART;TZID=Europe/Paris:20220422T180000
DTEND;TZID=Europe/Paris:20220422T210000
DTSTAMP:20260421T144610
CREATED:20220413T225948Z
LAST-MODIFIED:20220422T175605Z
UID:18706-1650650400-1650661200@espaijovegarcilaso.org
SUMMARY:Micro Obert Sant Jordi - Literatura i música en directe
DESCRIPTION:Us esperem el proper divendres 22 d’abril per celebrar el Sant Jordi amb literatura i música en directe a la Plaça Virginia Woolf! (Justa davant de l’Espai Jove) a partir de les 18 h. fins a les 21 h. \n \nDe 18 a 19:30 h. gaudirem d’un micro obert conduït a càrrec de Jota i a les 20 h. gaudirem de la música de Canciones de Nadie.\n \nEn aquest formulari us podeu inscriure per si voleu participar en el micro obert!\n  \n\n\n  \n\n\n\n\n	Nom i cognoms:\n\n	 \n\n\n	Mail de contacte:\n\n	 \n\n\n	Telèfon:\n\n	 \n\n\n	Estil:\nProsaPoesia\n	 \n\n \n \nDe conformitat amb el GDPR 2016/679 de 27 d’abril i amb la Llei Orgànica 15/1999\, de 13 de desembre\, de Protecció de Dades de Caràcter Personal\, l’informem que\, havent signat l’autoritzció\, les seves dades personals s’incorporaran en un fitxer automatitzat del qual és titular el Centre Garcilaso de l’Ajuntament de Barcelona\, Districte de Sant Andreu. Aquest fitxer té com a finalitat gestionar la seva relació amb el centre i mantenir-lo informat dels serveis que ofereix. Les seves dades no seran cedides a cap altra entitat. Consenteix expressament en el tractament de les seves dades per la finalitat indicada. Finalment\, l’informem que podreu exercitar en qualsevol moment els drets d’accés\, rectificació\, cancel·lació i oposició en els termes establerts en la legislació vigent sobre protecció de dades\, adreçant-vos per escrit al Registre General de l’Ajuntament: Pl. San Miquel 5-6\, 08002 Barcelona\, indicant clarament en l’assumpte Exercici de Dret.\n \n\n Δ \n\n\n\n  \nNo us ho podeu perdre. Activitat gratuïta. Salut\, música i cultura!\n 
URL:https://espaijovegarcilaso.org/esdeveniments/micro-obert-sant-jordi-literatura-i-musica-en-directe/
END:VEVENT
BEGIN:VEVENT
DTSTART;TZID=Europe/Paris:20220422T173000
DTEND;TZID=Europe/Paris:20220422T200000
DTSTAMP:20260421T144610
CREATED:20220422T165707Z
LAST-MODIFIED:20220422T165717Z
UID:18730-1650648600-1650657600@espaijovegarcilaso.org
SUMMARY:Excursions i Sorpreses - La Sala
DESCRIPTION:Aquesta és la programació del 2n trimestre.🎭👨‍🍳🎥🤸 \n✍️Inscripcions obertes per qualsevol dubte\, escriu-nos!!
URL:https://espaijovegarcilaso.org/esdeveniments/excursions-i-sorpreses-la-sala/
END:VEVENT
BEGIN:VEVENT
DTSTART;TZID=Europe/Paris:20220421T180000
DTEND;TZID=Europe/Paris:20220421T200000
DTSTAMP:20260421T144610
CREATED:20220404T171246Z
LAST-MODIFIED:20220504T205258Z
UID:18658-1650564000-1650571200@espaijovegarcilaso.org
SUMMARY:Folklóricas & Modernas - Concerts i actuacions de diferents modalitats artístiques
DESCRIPTION:Comencem el mes d’abril amb energia primaveral!!! \n🙋🏾🙋‍♀️🙋🏽‍♂️ Per a apuntar-se a les activitats\, recorda que has de reservar plaça enviant-nos un whatsapp o un DM al nostre Instagram.
URL:https://espaijovegarcilaso.org/esdeveniments/folkloricas-modernas-4/
END:VEVENT
BEGIN:VEVENT
DTSTART;TZID=Europe/Paris:20220421T173000
DTEND;TZID=Europe/Paris:20220421T200000
DTSTAMP:20260421T144610
CREATED:20220422T165622Z
LAST-MODIFIED:20220422T165622Z
UID:18728-1650562200-1650571200@espaijovegarcilaso.org
SUMMARY:Autogestió - La Sala
DESCRIPTION:Aquesta és la programació del 2n trimestre.🎭👨‍🍳🎥🤸 \n✍️Inscripcions obertes per qualsevol dubte\, escriu-nos!!
URL:https://espaijovegarcilaso.org/esdeveniments/autogestio-la-sala-17/
END:VEVENT
BEGIN:VEVENT
DTSTART;TZID=Europe/Paris:20220420T173000
DTEND;TZID=Europe/Paris:20220420T200000
DTSTAMP:20260421T144610
CREATED:20220422T165545Z
LAST-MODIFIED:20220422T165545Z
UID:18726-1650475800-1650484800@espaijovegarcilaso.org
SUMMARY:Taller de cuina - La Sala
DESCRIPTION:Aquesta és la programació del 2n trimestre.🎭👨‍🍳🎥🤸 \n✍️Inscripcions obertes per qualsevol dubte\, escriu-nos!!
URL:https://espaijovegarcilaso.org/esdeveniments/taller-de-cuina-la-sala-15/
END:VEVENT
BEGIN:VEVENT
DTSTART;TZID=Europe/Paris:20220419T173000
DTEND;TZID=Europe/Paris:20220419T200000
DTSTAMP:20260421T144610
CREATED:20220422T165450Z
LAST-MODIFIED:20220422T165450Z
UID:18724-1650389400-1650398400@espaijovegarcilaso.org
SUMMARY:Taller de teatre - La Sala
DESCRIPTION:Aquesta és la programació del 2n trimestre.🎭👨‍🍳🎥🤸 \n✍️Inscripcions obertes per qualsevol dubte\, escriu-nos!!
URL:https://espaijovegarcilaso.org/esdeveniments/taller-de-teatre-la-sala-24/
END:VEVENT
BEGIN:VEVENT
DTSTART;TZID=Europe/Paris:20220414T180000
DTEND;TZID=Europe/Paris:20220414T200000
DTSTAMP:20260421T144610
CREATED:20220404T171121Z
LAST-MODIFIED:20220408T212701Z
UID:18656-1649959200-1649966400@espaijovegarcilaso.org
SUMMARY:Torneig de Ping Pong
DESCRIPTION:Per fi ha arribat el moment de demostrar quanta habilitat teniu… \nÉs el moment del torneig de Ping pong!!! \nNomés podrà quedar un\, hauries de ser tu? 🏓🏓🏓\nHo realitzarem a l’aire lliure al parc de la pegaso\, no faltis.
URL:https://espaijovegarcilaso.org/esdeveniments/torneig-de-ping-pong-2/
END:VEVENT
BEGIN:VEVENT
DTSTART;TZID=Europe/Paris:20220412T180000
DTEND;TZID=Europe/Paris:20220412T200000
DTSTAMP:20260421T144610
CREATED:20220408T211847Z
LAST-MODIFIED:20220408T211847Z
UID:18690-1649786400-1649793600@espaijovegarcilaso.org
SUMMARY:Move it\, taller de moviment corporal
DESCRIPTION:Dimarts que ve dia 12 d’abril us esperem amb gran energia amb un taller ple de moviment. \nSi t’agrada moure’t aquest és el teu taller. 💃💃💃💃
URL:https://espaijovegarcilaso.org/esdeveniments/move-it-taller-de-moviment-corporal/
END:VEVENT
BEGIN:VEVENT
DTSTART;TZID=Europe/Paris:20220408T171500
DTEND;TZID=Europe/Paris:20220408T200000
DTSTAMP:20260421T144610
CREATED:20220405T181507Z
LAST-MODIFIED:20220405T181507Z
UID:18680-1649438100-1649448000@espaijovegarcilaso.org
SUMMARY:Autogestió - La Sala
DESCRIPTION:Aquí teniu les activitats setmanals que es realitzaran a La Sala del 4 al 8 d’abril.
URL:https://espaijovegarcilaso.org/esdeveniments/autogestio-la-sala-12/
END:VEVENT
BEGIN:VEVENT
DTSTART;TZID=Europe/Paris:20220407T190000
DTEND;TZID=Europe/Paris:20220407T203000
DTSTAMP:20260421T144610
CREATED:20220402T170427Z
LAST-MODIFIED:20220402T170427Z
UID:18554-1649358000-1649363400@espaijovegarcilaso.org
SUMMARY:Workshop: Història del Heavy
DESCRIPTION:Aquest dijous xerrada sobre la història del Heavy Metal.\na càrrec de @rocknerdpedrostuomala\nVeniu\, que segur sortim fent cuernos!!🤘😅 \nActivitat gratuïta. Reserves via WhatsApp al 699 62 88 34
URL:https://espaijovegarcilaso.org/esdeveniments/workshop-historia-del-heavy/
END:VEVENT
BEGIN:VEVENT
DTSTART;TZID=Europe/Paris:20220407T171500
DTEND;TZID=Europe/Paris:20220407T200000
DTSTAMP:20260421T144610
CREATED:20220405T181432Z
LAST-MODIFIED:20220405T181432Z
UID:18678-1649351700-1649361600@espaijovegarcilaso.org
SUMMARY:Excursió final de trimestre - La Sala
DESCRIPTION:Aquí teniu les activitats setmanals que es realitzaran a La Sala del 4 al 8 d’abril.
URL:https://espaijovegarcilaso.org/esdeveniments/excursio-final-de-trimestre-la-sala/
END:VEVENT
BEGIN:VEVENT
DTSTART;TZID=Europe/Paris:20220406T171500
DTEND;TZID=Europe/Paris:20220406T200000
DTSTAMP:20260421T144610
CREATED:20220405T181344Z
LAST-MODIFIED:20220405T181344Z
UID:18676-1649265300-1649275200@espaijovegarcilaso.org
SUMMARY:Taller de cuina - La Sala
DESCRIPTION:Aquí teniu les activitats setmanals que es realitzaran a La Sala del 4 al 8 d’abril.
URL:https://espaijovegarcilaso.org/esdeveniments/taller-de-cuina-la-sala-14/
END:VEVENT
BEGIN:VEVENT
DTSTART;TZID=Europe/Paris:20220405T180000
DTEND;TZID=Europe/Paris:20220405T200000
DTSTAMP:20260421T144610
CREATED:20220404T170951Z
LAST-MODIFIED:20220404T170951Z
UID:18652-1649181600-1649188800@espaijovegarcilaso.org
SUMMARY:Cómeme el Donut - Taller sobre la sexualitat
DESCRIPTION:Comencem el mes d’abril amb energia primaveral!!! \n🙋🏾🙋‍♀️🙋🏽‍♂️ Per a apuntar-se a les activitats\, recorda que has de reservar plaça enviant-nos un whatsapp o un DM al nostre Instagram.
URL:https://espaijovegarcilaso.org/esdeveniments/comeme-el-donut-taller-sobre-la-sexualitat/
END:VEVENT
BEGIN:VEVENT
DTSTART;TZID=Europe/Paris:20220405T171500
DTEND;TZID=Europe/Paris:20220405T200000
DTSTAMP:20260421T144610
CREATED:20220405T181200Z
LAST-MODIFIED:20220405T181200Z
UID:18674-1649178900-1649188800@espaijovegarcilaso.org
SUMMARY:Taller de teatre - La Sala
DESCRIPTION:Aquí teniu les activitats setmanals que es realitzaran a La Sala del 4 al 8 d’abril.
URL:https://espaijovegarcilaso.org/esdeveniments/taller-de-teatre-la-sala-20/
END:VEVENT
BEGIN:VEVENT
DTSTART;TZID=Europe/Paris:20220404T171500
DTEND;TZID=Europe/Paris:20220404T200000
DTSTAMP:20260421T144610
CREATED:20220405T181119Z
LAST-MODIFIED:20220405T181119Z
UID:18672-1649092500-1649102400@espaijovegarcilaso.org
SUMMARY:Cinefòrum - La Sala
DESCRIPTION:Aquí teniu les activitats setmanals que es realitzaran a La Sala del 4 al 8 d’abril.
URL:https://espaijovegarcilaso.org/esdeveniments/cineforum-la-sala-14/
END:VEVENT
BEGIN:VEVENT
DTSTART;TZID=Europe/Paris:20220404T080000
DTEND;TZID=Europe/Paris:20220404T234500
DTSTAMP:20260421T144610
CREATED:20220403T152014Z
LAST-MODIFIED:20220403T152702Z
UID:18644-1649059200-1649115900@espaijovegarcilaso.org
SUMMARY:Inici inscripció online als tallers trimestrals
DESCRIPTION:Inscripció: \nDel 4 al 18 d’abril al web espaijovegarcilaso.org \nPagament presencial amb targeta bancària: del 19 al 29 d’abril amb cita prèvia (us contactarem per reservar-vos cita). \n  \nInici dels tallers: \nSetmana del 2 de maig. \n  \nLes places són limitades\, es considera la plaça reservada un cop s’ha fet efectiu el pagament que ha de ser presencial. Aquest import s’ha de realitzar amb targeta bancària. Un cop feta la inscripció online \ncontactarem amb vosaltres per a agendar cita prèvia per a fer el pagament del taller/s trimestral/s. En cap cas es retornaran els diners\, excepte si l’organització anul·la el taller per falta de persones inscrites. \nTots els tallers seran presencials\, sempre i quan la situació de la pandèmia ho permeti. \n\n					Tallers d’1 h o 1:15 h\nJoves de 12 a 17 anys: 8\,21 €\nJoves de 18 a 25 anys: 23\,95 €\nJoves de 26 a 35 anys: 31\,85 € \n\n					Tallers d’1:30 h\nJoves de 12 a 17 anys: 12\,32 €\nJoves de 18 a 25 anys: 35\,93 €\nJoves de 26 a 35 anys: 47\,36 € \n\n					TALLERS DE BALL\n\n\n					 \nK-POP [Inscriu-te aquí]\n \n +info  \nDilluns de 17:45 a 19 h (12 a 18 anys) \nDimecres de 17:45 a 19 h (+18 anys) \nEl k-pop és la nova tendència musical coreana del moment que ha aconseguit captivar a milions de joves de tot el món amb les seves coreografies! \nJoves de 12 a 35 anys. Diferents grups segons l’edat. \n  -info \n\n					 \nBATXATA [Inscriu-te aquí]\n \n +info  \nDilluns de 19 a 20 h \nLa Batxata és un gènere musical que prové de la República Dominicana. Es considera un derivat del “bolero” més rítmic\, combinat amb diversos estils com el son cubà\, el merenga i altres! \nJoves de 12 a 35 anys. \n  -info \n\n					 \nURBAN REGGAETON [Inscriu-te aquí]\n \n +info  \nDimarts de 17 a 18:15 h \nTaller de ball que combina la dansa urbana amb el reggeaton! \nJoves de 12 a 35 anys. \n  -info \n\n					 \nDANCE HALL [Inscriu-te aquí]\n \n +info  \nDijous de 18:45 a 20 h \nTaller on s’inclouen diferents estils de ball centrats en la Dansa Urbana. Un estil Jamaicà creat a finals dels setanta! \nJoves de 12 a 35 anys. \n  -info \n\n					COS I MENT\n\n\n					 \nMAKE UP [Inscriu-te aquí]\n \n +info  \nDimecres de 19 a 20 h \nIniciació al Maquillatge és un taller que té per objectiu desenvolupar les habilitats de les participants en les tècniques bàsiques del maquillatge\, així com aprendre a autoconèixer-se\, estils innovadors… T’hi animes? \n  -info \n\n					TALLERS MUSICALS\n\n\n					 \nTÈCNICA VOCAL [Inscriu-te aquí]\n \n +info  \nDilluns de 19 a 20:30 h \nClasses de cant\, veu i cos\, per adquirir eines i tècniques que et permetin desenvolupar la veu com a instrument i potenciar la teva capacitat comunicativa i expressiva. \nJoves de 12 a 35 anys. \n  -info \n\n					 \nGUITARRA [Inscriu-te aquí]\n \n +info  \nDimarts de 19 a 20:30 h \nVine i aprèn o perfecciona aquest instrument\, amb les diferents tècniques\, ritmes i acords. De forma fàcil i divertida\, aprendràs a interpretar les teves cançons preferides. Cal que portis la teva guitarra clàssica o acústica. \nJoves de 12 a 35 anys. \n  -info \n\n					 \nHOME STUDIO [Inscriu-te aquí]\n \n +info  \nDilluns de 19 a 20:30 h \nAdreçat a músics que busquen iniciar-se en el món de la gravació i la producció de les seves composicions des de casa. Aprendràs quins elements i quines eines són necessàries per poder captar\, mesclar i exportar les teves cançons. \nJoves de 12 a 35 anys. \n  -info \n\n					TALLER D’IDIOMES (GRATUÏT)\n\n\n					 \nCATALÀ BÀSIC [Inscriu-te aquí] Gratuït\n \n +info  \nDimarts de 17:30 a 19 h \nÉs necessari tenir nocions bàsiques de català! \nJoves de 12 a 15 anys. \n  -info \n\n					AQUÍ T’ESCOLTEM (TALLERS GRATUÏTS)\n\n\n					 \nENFRONTA’T: ARTS MARCIALS I EMOCIONS [Inscriu-te aquí] Gratuït\n \n +info  \nDimarts de 17:30 a 19:30 h \nDel 26 d’abril al 14 de juny. \nCom treus la ràbia? I la frustració? Sabries canalitzar-la en benefici propi? Descobreix els teus propis recursos\, pren consciència de les teves emocions i posa’t en forma! Des de l’Enfronta’t podràs aprendre tècniques d’autodefensa\, conèixer els teus punts febles i enfortir-te tan físicament com emocionalment. T’atreveixes a enfrontar-te a tu mateixa? \n  -info \n\n					 \nEN PRIMERA PERSONA [Inscriu-te aquí] Gratuït\n \n +info  \nDimecres de 18 a 19:30 h \nDel 27 d’abril al 15 de juny. \nDestinat a joves d’entre 16 i 20 anys. \nDona’t espai\, pensa’t i escolta’t. En primera persona és un taller per aturar el ritme frenètic del teu dia a dia i observar-te. Un espai on posar nom a allò que ens travessa\, donar-li la volta al full i aprendre a estimar-te amb una nova mirada. Fem un espai de cures\, des d’on conèixer la teva veu i afirmar-te en primera persona! \n  -info \n\n					 \nENS COMPARTIM: EL MEU COS ÉS ÚNIC! [Inscriu-te aquí] Gratuït\n \n +info  \nDijous de 17:30 a 19:30 h \nDel 28 d’abril al 16 de juny. \nApropa’t a fomentar i parlar sobre la diversitat corporal\, tot fent un treball personal per millorar el teu autoconcepte i autoestima\, compartint dubtes\, experiències i quina està sent la teva relació amb el teu cos. En un espai de seguretat i confiança xerrar i escoltar altres persones\, aprendre i desaprendre! \n  -info \n\n					 \nPARLEM-NE: MASCULINITATS A FLOR DE PELL [Inscriu-te aquí] Gratuït\n \n +info  \nDilluns 2\, 16 i 30 de maig\, i 13 de juny\, de 18 a 19:30 h \nT’has plantejat perquè fas el que fas? I com ho fas? Quines són les teves creences? El que sents que pots fer i el que no? Vine al Parlem-ne! Un espai de reflexió i dubtes sobre tot allò que vulguis posar a la taula\, des del respecte i travessant la incomoditat. \n  -info
URL:https://espaijovegarcilaso.org/esdeveniments/inici-inscripcio-online-als-tallers-trimestrals/
END:VEVENT
BEGIN:VEVENT
DTSTART;TZID=Europe/Paris:20220401T171500
DTEND;TZID=Europe/Paris:20220401T200000
DTSTAMP:20260421T144610
CREATED:20220327T141223Z
LAST-MODIFIED:20220327T141223Z
UID:18531-1648833300-1648843200@espaijovegarcilaso.org
SUMMARY:Activitat pel dia de la visibilitat trans
DESCRIPTION:Aquí teniu les activitats setmanals que es realitzaran a La Sala del 28 de març a l’1 d’abril.
URL:https://espaijovegarcilaso.org/esdeveniments/activitat-pel-dia-de-la-visibilitat-trans/
END:VEVENT
BEGIN:VEVENT
DTSTART;TZID=Europe/Paris:20220331T180000
DTEND;TZID=Europe/Paris:20220331T200000
DTSTAMP:20260421T144610
CREATED:20220327T141424Z
LAST-MODIFIED:20220330T060050Z
UID:18533-1648749600-1648756800@espaijovegarcilaso.org
SUMMARY:Cupcakes sex education
DESCRIPTION:Aquest dijous farem uns cupcakes una mica especials. Has vist el sex education? ara podràs sentir-te a la sèrie fent els cupcakes que fan per salvar l’institut.
URL:https://espaijovegarcilaso.org/esdeveniments/cupcakes-sex-education/
END:VEVENT
BEGIN:VEVENT
DTSTART;TZID=Europe/Paris:20220331T180000
DTEND;TZID=Europe/Paris:20220331T200000
DTSTAMP:20260421T144610
CREATED:20220221T185426Z
LAST-MODIFIED:20220307T194539Z
UID:18323-1648749600-1648756800@espaijovegarcilaso.org
SUMMARY:Cluedo gegant
DESCRIPTION:Comencem el mes de març a tope d’energia!!! \n🙋🏾🙋‍♀️🙋🏽‍♂️ Per a apuntar-se a les activitats\, recorda que has de reservar plaça enviant-nos un whatsapp o un DM al nostre Instagram.
URL:https://espaijovegarcilaso.org/esdeveniments/cluedo-gegant/
END:VEVENT
BEGIN:VEVENT
DTSTART;TZID=Europe/Paris:20220331T171500
DTEND;TZID=Europe/Paris:20220331T200000
DTSTAMP:20260421T144610
CREATED:20220116T152448Z
LAST-MODIFIED:20220116T152448Z
UID:18075-1648746900-1648756800@espaijovegarcilaso.org
SUMMARY:Autogestió - La Sala
DESCRIPTION:Aquí teniu les activitats setmanals que es realitzaran a La Sala durant el 2n trimestre.
URL:https://espaijovegarcilaso.org/esdeveniments/autogestio-la-sala-19/
END:VEVENT
BEGIN:VEVENT
DTSTART;TZID=Europe/Paris:20220330T171500
DTEND;TZID=Europe/Paris:20220330T200000
DTSTAMP:20260421T144610
CREATED:20220116T151831Z
LAST-MODIFIED:20220327T141121Z
UID:18051-1648660500-1648670400@espaijovegarcilaso.org
SUMMARY:Taller de cuina - La Sala
DESCRIPTION:Aquí teniu les activitats setmanals que es realitzaran a La Sala del 28 de març a l’1 d’abril.
URL:https://espaijovegarcilaso.org/esdeveniments/taller-de-cuina-la-sala-13/
END:VEVENT
BEGIN:VEVENT
DTSTART;TZID=Europe/Paris:20220329T171500
DTEND;TZID=Europe/Paris:20220329T200000
DTSTAMP:20260421T144610
CREATED:20220116T151129Z
LAST-MODIFIED:20220327T141051Z
UID:18027-1648574100-1648584000@espaijovegarcilaso.org
SUMMARY:Taller de teatre - La Sala
DESCRIPTION:Aquí teniu les activitats setmanals que es realitzaran a La Sala del 28 de març a l’1 d’abril.
URL:https://espaijovegarcilaso.org/esdeveniments/taller-de-teatre-la-sala-23/
END:VEVENT
BEGIN:VEVENT
DTSTART;TZID=Europe/Paris:20220328T180000
DTEND;TZID=Europe/Paris:20220328T200000
DTSTAMP:20260421T144610
CREATED:20220221T185334Z
LAST-MODIFIED:20220330T061836Z
UID:18321-1648490400-1648497600@espaijovegarcilaso.org
SUMMARY:Conecta2 (taller sobre xarxes socials)
DESCRIPTION:Conecta2: taller on es treballa els perills i els avantatges que hi ha a la xarxa. Veurem que hi ha darrere de les xarxes socials\, les fake news\, les galetes… i un altre tipus de curiositats.
URL:https://espaijovegarcilaso.org/esdeveniments/community-manager/
END:VEVENT
BEGIN:VEVENT
DTSTART;TZID=Europe/Paris:20220328T171500
DTEND;TZID=Europe/Paris:20220328T200000
DTSTAMP:20260421T144610
CREATED:20220116T144402Z
LAST-MODIFIED:20220327T141003Z
UID:18001-1648487700-1648497600@espaijovegarcilaso.org
SUMMARY:Cinefòrum - La Sala
DESCRIPTION:Aquí teniu les activitats setmanals que es realitzaran a La Sala del 28 de març a l’1 d’abril.
URL:https://espaijovegarcilaso.org/esdeveniments/cineforum-la-sala-20/
END:VEVENT
BEGIN:VEVENT
DTSTART;TZID=Europe/Paris:20220327T110000
DTEND;TZID=Europe/Paris:20220327T120000
DTSTAMP:20260421T144610
CREATED:20220131T190901Z
LAST-MODIFIED:20220131T190901Z
UID:18186-1648378800-1648382400@espaijovegarcilaso.org
SUMMARY:Futbol setmanal
DESCRIPTION:Requereix compromís de participació i continuïtat en totes les activitats\, tant esportives com de seguiment i orientació. \nL’activitat es desenvoluparà tots els diumenges de 11 h a 12 h\, d’acord amb el calendari escolar. \nInscripcions obertes\, informa’t al Punt InfoJove de Sant Andreu i no badallis que les places són limitades!!
URL:https://espaijovegarcilaso.org/esdeveniments/futbol-setmanal-8/
END:VEVENT
BEGIN:VEVENT
DTSTART;TZID=Europe/Paris:20220325T200000
DTEND;TZID=Europe/Paris:20220325T220000
DTSTAMP:20260421T144610
CREATED:20211224T115110Z
LAST-MODIFIED:20220321T202009Z
UID:17888-1648238400-1648245600@espaijovegarcilaso.org
SUMMARY:Concert amb "Gattari"
DESCRIPTION:El proper divendres 25 de març a partir de les 20h gaudirem de concert a l’Espai Jove Garcilaso amb l’actuació de “Gattari”. \nUs hi esperem! \nEntrada 3€. Aforament limitat. Confirmació d’assistència via Whatsapp al 699 628 834.
URL:https://espaijovegarcilaso.org/esdeveniments/concert-amb-gattari/
END:VEVENT
BEGIN:VEVENT
DTSTART;TZID=Europe/Paris:20220325T171500
DTEND;TZID=Europe/Paris:20220325T200000
DTSTAMP:20260421T144610
CREATED:20220116T164559Z
LAST-MODIFIED:20220321T203733Z
UID:18097-1648228500-1648238400@espaijovegarcilaso.org
SUMMARY:Excursió al mirador del MNAC- La Sala
DESCRIPTION:Aquí teniu les activitats setmanals que es realitzaran a La Sala del 21 al 25 de març.
URL:https://espaijovegarcilaso.org/esdeveniments/excursio-mirador-mnac-la-sala/
END:VEVENT
END:VCALENDAR