BEGIN:VCALENDAR
VERSION:2.0
PRODID:-//Espai Jove Garcilaso - ECPv6.15.13//NONSGML v1.0//EN
CALSCALE:GREGORIAN
METHOD:PUBLISH
X-WR-CALNAME:Espai Jove Garcilaso
X-ORIGINAL-URL:https://espaijovegarcilaso.org
X-WR-CALDESC:Esdeveniments per Espai Jove Garcilaso
REFRESH-INTERVAL;VALUE=DURATION:PT1H
X-Robots-Tag:noindex
X-PUBLISHED-TTL:PT1H
BEGIN:VTIMEZONE
TZID:Europe/Paris
BEGIN:DAYLIGHT
TZOFFSETFROM:+0100
TZOFFSETTO:+0200
TZNAME:CEST
DTSTART:20210328T010000
END:DAYLIGHT
BEGIN:STANDARD
TZOFFSETFROM:+0200
TZOFFSETTO:+0100
TZNAME:CET
DTSTART:20211031T010000
END:STANDARD
BEGIN:DAYLIGHT
TZOFFSETFROM:+0100
TZOFFSETTO:+0200
TZNAME:CEST
DTSTART:20220327T010000
END:DAYLIGHT
BEGIN:STANDARD
TZOFFSETFROM:+0200
TZOFFSETTO:+0100
TZNAME:CET
DTSTART:20221030T010000
END:STANDARD
BEGIN:DAYLIGHT
TZOFFSETFROM:+0100
TZOFFSETTO:+0200
TZNAME:CEST
DTSTART:20230326T010000
END:DAYLIGHT
BEGIN:STANDARD
TZOFFSETFROM:+0200
TZOFFSETTO:+0100
TZNAME:CET
DTSTART:20231029T010000
END:STANDARD
END:VTIMEZONE
BEGIN:VEVENT
DTSTART;TZID=Europe/Paris:20220329T171500
DTEND;TZID=Europe/Paris:20220329T200000
DTSTAMP:20260421T175814
CREATED:20220116T151129Z
LAST-MODIFIED:20220327T141051Z
UID:18027-1648574100-1648584000@espaijovegarcilaso.org
SUMMARY:Taller de teatre - La Sala
DESCRIPTION:Aquí teniu les activitats setmanals que es realitzaran a La Sala del 28 de març a l’1 d’abril.
URL:https://espaijovegarcilaso.org/esdeveniments/taller-de-teatre-la-sala-23/
END:VEVENT
BEGIN:VEVENT
DTSTART;TZID=Europe/Paris:20220328T180000
DTEND;TZID=Europe/Paris:20220328T200000
DTSTAMP:20260421T175814
CREATED:20220221T185334Z
LAST-MODIFIED:20220330T061836Z
UID:18321-1648490400-1648497600@espaijovegarcilaso.org
SUMMARY:Conecta2 (taller sobre xarxes socials)
DESCRIPTION:Conecta2: taller on es treballa els perills i els avantatges que hi ha a la xarxa. Veurem que hi ha darrere de les xarxes socials\, les fake news\, les galetes… i un altre tipus de curiositats.
URL:https://espaijovegarcilaso.org/esdeveniments/community-manager/
END:VEVENT
BEGIN:VEVENT
DTSTART;TZID=Europe/Paris:20220328T171500
DTEND;TZID=Europe/Paris:20220328T200000
DTSTAMP:20260421T175814
CREATED:20220116T144402Z
LAST-MODIFIED:20220327T141003Z
UID:18001-1648487700-1648497600@espaijovegarcilaso.org
SUMMARY:Cinefòrum - La Sala
DESCRIPTION:Aquí teniu les activitats setmanals que es realitzaran a La Sala del 28 de març a l’1 d’abril.
URL:https://espaijovegarcilaso.org/esdeveniments/cineforum-la-sala-20/
END:VEVENT
BEGIN:VEVENT
DTSTART;TZID=Europe/Paris:20220327T110000
DTEND;TZID=Europe/Paris:20220327T120000
DTSTAMP:20260421T175814
CREATED:20220131T190901Z
LAST-MODIFIED:20220131T190901Z
UID:18186-1648378800-1648382400@espaijovegarcilaso.org
SUMMARY:Futbol setmanal
DESCRIPTION:Requereix compromís de participació i continuïtat en totes les activitats\, tant esportives com de seguiment i orientació. \nL’activitat es desenvoluparà tots els diumenges de 11 h a 12 h\, d’acord amb el calendari escolar. \nInscripcions obertes\, informa’t al Punt InfoJove de Sant Andreu i no badallis que les places són limitades!!
URL:https://espaijovegarcilaso.org/esdeveniments/futbol-setmanal-8/
END:VEVENT
BEGIN:VEVENT
DTSTART;TZID=Europe/Paris:20220325T200000
DTEND;TZID=Europe/Paris:20220325T220000
DTSTAMP:20260421T175814
CREATED:20211224T115110Z
LAST-MODIFIED:20220321T202009Z
UID:17888-1648238400-1648245600@espaijovegarcilaso.org
SUMMARY:Concert amb "Gattari"
DESCRIPTION:El proper divendres 25 de març a partir de les 20h gaudirem de concert a l’Espai Jove Garcilaso amb l’actuació de “Gattari”. \nUs hi esperem! \nEntrada 3€. Aforament limitat. Confirmació d’assistència via Whatsapp al 699 628 834.
URL:https://espaijovegarcilaso.org/esdeveniments/concert-amb-gattari/
END:VEVENT
BEGIN:VEVENT
DTSTART;TZID=Europe/Paris:20220325T171500
DTEND;TZID=Europe/Paris:20220325T200000
DTSTAMP:20260421T175814
CREATED:20220116T164559Z
LAST-MODIFIED:20220321T203733Z
UID:18097-1648228500-1648238400@espaijovegarcilaso.org
SUMMARY:Excursió al mirador del MNAC- La Sala
DESCRIPTION:Aquí teniu les activitats setmanals que es realitzaran a La Sala del 21 al 25 de març.
URL:https://espaijovegarcilaso.org/esdeveniments/excursio-mirador-mnac-la-sala/
END:VEVENT
BEGIN:VEVENT
DTSTART;TZID=Europe/Paris:20220324T200000
DTEND;TZID=Europe/Paris:20220324T213000
DTSTAMP:20260421T175814
CREATED:20220317T220926Z
LAST-MODIFIED:20220317T225158Z
UID:18454-1648152000-1648157400@espaijovegarcilaso.org
SUMMARY:Workshop Musical amb Lalo López
DESCRIPTION:Lalo López\, guitarrista de Fundación Tony Manero i personatge clau dins l’escena funk estatal\, ens presenta\, d’una manera didàctica i desenfadada\, un passeig per un estil i un moment clau de la història de la música popular del segle XX.\nEl funk\, fill del soul i el rhythm’n’blues\, va representar una revolució musical en un moment de lluita pels drets civils i contra el racisme als EUA i es va convertir en la seva banda sonora enunciant “I’m black and I’m proud!” (“Sóc negre i n’estic orgullós!”).\nA partir de l’anàlisi del paper de la guitarra dins el funk\, i a través de la música dels seus principals protagonistes (James Brown\, George Clinton\, Sly Stone\, Prince\, etc…) ens introduirem guitarra en ma\, en un estil que ha marcat l’esdevenir de la música popu-\nlar fins als nostres dies. \nEntrada gratuïta amb aforament limitat. Reserva prèvia via WhatsApp al 699 62 88 34.
URL:https://espaijovegarcilaso.org/esdeveniments/workshop-musical-amb-lalo-lopez/
END:VEVENT
BEGIN:VEVENT
DTSTART;TZID=Europe/Paris:20220324T180000
DTEND;TZID=Europe/Paris:20220324T200000
DTSTAMP:20260421T175814
CREATED:20220221T185247Z
LAST-MODIFIED:20220317T224925Z
UID:18319-1648144800-1648152000@espaijovegarcilaso.org
SUMMARY:DROL (taller sobre les addiccions)
DESCRIPTION:Dijous 24 de març a les 18h \nIntercanviador DROL. Viu una aventura diferent! Parlem de drogues i salut.
URL:https://espaijovegarcilaso.org/esdeveniments/drol-taller-sobre-les-addiccions/
END:VEVENT
BEGIN:VEVENT
DTSTART;TZID=Europe/Paris:20220324T171500
DTEND;TZID=Europe/Paris:20220324T200000
DTSTAMP:20260421T175814
CREATED:20220116T152404Z
LAST-MODIFIED:20220321T203520Z
UID:18073-1648142100-1648152000@espaijovegarcilaso.org
SUMMARY:Activitat amb Yasss! - La Sala
DESCRIPTION:Aquí teniu les activitats setmanals que es realitzaran a La Sala del 21 al 25 de març.
URL:https://espaijovegarcilaso.org/esdeveniments/activitat-amb-yasss-la-sala-22/
END:VEVENT
BEGIN:VEVENT
DTSTART;TZID=Europe/Paris:20220323T171500
DTEND;TZID=Europe/Paris:20220323T200000
DTSTAMP:20260421T175814
CREATED:20220116T151803Z
LAST-MODIFIED:20220321T203416Z
UID:18049-1648055700-1648065600@espaijovegarcilaso.org
SUMMARY:Taller de cuina - La Sala
DESCRIPTION:Aquí teniu les activitats setmanals que es realitzaran a La Sala del 21 al 25 de març.
URL:https://espaijovegarcilaso.org/esdeveniments/taller-de-cuina-la-sala-12/
END:VEVENT
BEGIN:VEVENT
DTSTART;TZID=Europe/Paris:20220322T171500
DTEND;TZID=Europe/Paris:20220322T200000
DTSTAMP:20260421T175814
CREATED:20220116T151055Z
LAST-MODIFIED:20220321T203347Z
UID:18025-1647969300-1647979200@espaijovegarcilaso.org
SUMMARY:Taller de teatre - La Sala
DESCRIPTION:Aquí teniu les activitats setmanals que es realitzaran a La Sala del 21 al 25 de març.
URL:https://espaijovegarcilaso.org/esdeveniments/taller-de-teatre-la-sala-22/
END:VEVENT
BEGIN:VEVENT
DTSTART;TZID=Europe/Paris:20220321T180000
DTEND;TZID=Europe/Paris:20220321T200000
DTSTAMP:20260421T175814
CREATED:20220221T185153Z
LAST-MODIFIED:20220317T225942Z
UID:18317-1647885600-1647892800@espaijovegarcilaso.org
SUMMARY:Move it\, taller de moviment corporal
DESCRIPTION:Dilluns 21 de març\, de 18 a 20h \nMove it (taller de moviment corporal)
URL:https://espaijovegarcilaso.org/esdeveniments/move-it-move-it-taller-de-moviment-corporal/
END:VEVENT
BEGIN:VEVENT
DTSTART;TZID=Europe/Paris:20220321T171500
DTEND;TZID=Europe/Paris:20220321T200000
DTSTAMP:20260421T175814
CREATED:20220116T144301Z
LAST-MODIFIED:20220321T203302Z
UID:17999-1647882900-1647892800@espaijovegarcilaso.org
SUMMARY:Cinefòrum - La Sala
DESCRIPTION:Aquí teniu les activitats setmanals que es realitzaran a La Sala del 21 al 25 de març.
URL:https://espaijovegarcilaso.org/esdeveniments/cineforum-la-sala-19/
END:VEVENT
BEGIN:VEVENT
DTSTART;TZID=Europe/Paris:20220320T110000
DTEND;TZID=Europe/Paris:20220320T120000
DTSTAMP:20260421T175814
CREATED:20220131T190741Z
LAST-MODIFIED:20220131T190741Z
UID:18184-1647774000-1647777600@espaijovegarcilaso.org
SUMMARY:Futbol setmanal
DESCRIPTION:Requereix compromís de participació i continuïtat en totes les activitats\, tant esportives com de seguiment i orientació. \nL’activitat es desenvoluparà tots els diumenges de 11 h a 12 h\, d’acord amb el calendari escolar. \nInscripcions obertes\, informa’t al Punt InfoJove de Sant Andreu i no badallis que les places són limitades!!
URL:https://espaijovegarcilaso.org/esdeveniments/futbol-setmanal-7/
END:VEVENT
BEGIN:VEVENT
DTSTART;TZID=Europe/Paris:20220318T200000
DTEND;TZID=Europe/Paris:20220318T220000
DTSTAMP:20260421T175814
CREATED:20211224T115018Z
LAST-MODIFIED:20220316T151911Z
UID:17886-1647633600-1647640800@espaijovegarcilaso.org
SUMMARY:Concert amb "Salmon Duke"
DESCRIPTION:El proper divendres 18 de març a partir de les 20h gaudirem de concert a l’Espai Jove Garcilaso amb l’actuació de “Salmon Duke”. \nUs hi esperem! \nTaquilla inversa. Aforament limitat. Confirmació d’assistència via Whatsapp al 699 628 834. \n 
URL:https://espaijovegarcilaso.org/esdeveniments/concert-amb-salmon-duke/
END:VEVENT
BEGIN:VEVENT
DTSTART;TZID=Europe/Paris:20220318T180000
DTEND;TZID=Europe/Paris:20220318T200000
DTSTAMP:20260421T175814
CREATED:20220302T221910Z
LAST-MODIFIED:20220302T221910Z
UID:18340-1647626400-1647633600@espaijovegarcilaso.org
SUMMARY:Qui cuida el barri?
DESCRIPTION:S’acosta el 8 de març\, Dia de la Dona Treballadora\, i l’Espai Jove Garcilaso ha organitzat diverses activitats! \nL’11 de març a les 18 h es farà un Bingo Musical amb una mirada de gènere on es reflexionarà sobre els estils musicals\, les lletres\, les oportunitats de la dona dins del món de les arts…\nSeguidament\, a les 20 h tindrem amb nosaltres l’espectacle de Cabaret: Rinclowner@s por el Mundo\, creat per El Rinclowncito: “un projecte que neix a l’inici del 2021\, amb motiu del 10è aniversari d’El Rinclowncito. Perquè les pallasses són el motor d’aquesta casa\, el nostre orgull i la nostra motivació per continuar endavant. Us esperem aquest divendres per compartir amb vosaltres i continuar fent camí dins aquest ofici de clown.” \nEl 18 de març proposem l’activitat: Qui cuida el barri? Aquesta té la intenció de reflexionar i conèixer el nostre entorn més proper. Es farà un recorregut pels diferents espais del territori per fer una anàlisi amb una mirada de gènere. \nUs hi esperem! \nInscripció prèvia a: 648767459\nActivitats gratuïtes\nEspai Jove Garcilaso (C/Garcilaso\, 103)\n \n \nACTIVITATS MES DE MARÇ  \n\n11 de març:\n– Bingo Musical de 18 a 19:30 h\n– Cabaret: Rinclowner@s por el Mundo de 20 a 21:30 h\n18 de març:\n– Qui cuida el barri? De 18 a 20 h 
URL:https://espaijovegarcilaso.org/esdeveniments/qui-cuida-el-barri/
END:VEVENT
BEGIN:VEVENT
DTSTART;TZID=Europe/Paris:20220318T171500
DTEND;TZID=Europe/Paris:20220318T200000
DTSTAMP:20260421T175814
CREATED:20220116T164448Z
LAST-MODIFIED:20220317T231250Z
UID:18095-1647623700-1647633600@espaijovegarcilaso.org
SUMMARY:Ruta feminista - La Sala
DESCRIPTION:Aquí teniu les activitats setmanals que es realitzaran a La Sala del 14 al 18 de març.
URL:https://espaijovegarcilaso.org/esdeveniments/ruta-feminista-la-sala/
END:VEVENT
BEGIN:VEVENT
DTSTART;TZID=Europe/Paris:20220317T200000
DTEND;TZID=Europe/Paris:20220317T220000
DTSTAMP:20260421T175814
CREATED:20220221T185035Z
LAST-MODIFIED:20220307T194318Z
UID:18315-1647547200-1647554400@espaijovegarcilaso.org
SUMMARY:Folklóricas & Modernas
DESCRIPTION:Comencem el mes de març a tope d’energia!!! \n🙋🏾🙋‍♀️🙋🏽‍♂️ Per a apuntar-se a les activitats\, recorda que has de reservar plaça enviant-nos un whatsapp o un DM al nostre Instagram.
URL:https://espaijovegarcilaso.org/esdeveniments/folkloricas-modernas-3/
END:VEVENT
BEGIN:VEVENT
DTSTART;TZID=Europe/Paris:20220317T171500
DTEND;TZID=Europe/Paris:20220317T200000
DTSTAMP:20260421T175814
CREATED:20220116T152334Z
LAST-MODIFIED:20220317T231100Z
UID:18071-1647537300-1647547200@espaijovegarcilaso.org
SUMMARY:Teatrefòrum: Sortint del mirall
DESCRIPTION:Aquí teniu les activitats setmanals que es realitzaran a La Sala del 14 al 18 de març.
URL:https://espaijovegarcilaso.org/esdeveniments/teatreforum-sortint-del-mirall-7/
END:VEVENT
BEGIN:VEVENT
DTSTART;TZID=Europe/Paris:20220316T171500
DTEND;TZID=Europe/Paris:20220316T200000
DTSTAMP:20260421T175814
CREATED:20220116T151728Z
LAST-MODIFIED:20220317T230907Z
UID:18047-1647450900-1647460800@espaijovegarcilaso.org
SUMMARY:Taller de cuina - La Sala
DESCRIPTION:Aquí teniu les activitats setmanals que es realitzaran a La Sala del 14 al 18 de març.
URL:https://espaijovegarcilaso.org/esdeveniments/taller-de-cuina-la-sala-11/
END:VEVENT
BEGIN:VEVENT
DTSTART;TZID=Europe/Paris:20220315T171500
DTEND;TZID=Europe/Paris:20220315T200000
DTSTAMP:20260421T175814
CREATED:20220116T150926Z
LAST-MODIFIED:20220317T230824Z
UID:18022-1647364500-1647374400@espaijovegarcilaso.org
SUMMARY:Taller de teatre - La Sala
DESCRIPTION:Aquí teniu les activitats setmanals que es realitzaran a La Sala del 14 al 18 de març.
URL:https://espaijovegarcilaso.org/esdeveniments/taller-de-teatre-la-sala-21/
END:VEVENT
BEGIN:VEVENT
DTSTART;TZID=Europe/Paris:20220314T180000
DTEND;TZID=Europe/Paris:20220314T200000
DTSTAMP:20260421T175814
CREATED:20220221T184822Z
LAST-MODIFIED:20220307T194240Z
UID:18313-1647280800-1647288000@espaijovegarcilaso.org
SUMMARY:Cómeme el donut (taller de sexualitat)
DESCRIPTION:Comencem el mes de març a tope d’energia!!! \n🙋🏾🙋‍♀️🙋🏽‍♂️ Per a apuntar-se a les activitats\, recorda que has de reservar plaça enviant-nos un whatsapp o un DM al nostre Instagram.
URL:https://espaijovegarcilaso.org/esdeveniments/comeme-el-donut-taller-de-sexualitat/
END:VEVENT
BEGIN:VEVENT
DTSTART;TZID=Europe/Paris:20220314T171500
DTEND;TZID=Europe/Paris:20220314T200000
DTSTAMP:20260421T175814
CREATED:20220116T144228Z
LAST-MODIFIED:20220317T230748Z
UID:17997-1647278100-1647288000@espaijovegarcilaso.org
SUMMARY:Sortida: Museu Eròtic
DESCRIPTION:Aquí teniu les activitats setmanals que es realitzaran a La Sala del 14 al 18 de març.
URL:https://espaijovegarcilaso.org/esdeveniments/sortida-museu-erotic/
END:VEVENT
BEGIN:VEVENT
DTSTART;TZID=Europe/Paris:20220313T110000
DTEND;TZID=Europe/Paris:20220313T120000
DTSTAMP:20260421T175814
CREATED:20220131T190702Z
LAST-MODIFIED:20220131T190702Z
UID:18182-1647169200-1647172800@espaijovegarcilaso.org
SUMMARY:Futbol setmanal
DESCRIPTION:Requereix compromís de participació i continuïtat en totes les activitats\, tant esportives com de seguiment i orientació. \nL’activitat es desenvoluparà tots els diumenges de 11 h a 12 h\, d’acord amb el calendari escolar. \nInscripcions obertes\, informa’t al Punt InfoJove de Sant Andreu i no badallis que les places són limitades!!
URL:https://espaijovegarcilaso.org/esdeveniments/futbol-setmanal-6/
END:VEVENT
BEGIN:VEVENT
DTSTART;TZID=Europe/Paris:20220311T200000
DTEND;TZID=Europe/Paris:20220311T220000
DTSTAMP:20260421T175814
CREATED:20211224T114929Z
LAST-MODIFIED:20211224T114929Z
UID:17884-1647028800-1647036000@espaijovegarcilaso.org
SUMMARY:Concert pel Dia de la dona treballadora
DESCRIPTION:Programació de música en directe els divendres a l’Espai Jove Garcilaso\, seguirem amb el cicle “Acústic-Tast”\, donarem continuïtat al projecte “Mes enllà del Trap” i farem accions de creació musical. Tot per seguir gaudint de la cultura! Si vols estar al dia de la nostra programació\, segueix-nos per les nostres xarxes socials!\nInstagram: @musicagarcilaso\nFacebook: @projectemusicalgarcilaso\nAixí podràs conèixer tota la programació\, adaptada a les restriccions sanitàries del moment. \nReferents: Jordi o Víctor.\nmusica@espaijovegarcilaso.org
URL:https://espaijovegarcilaso.org/esdeveniments/concert-pel-dia-de-la-dona-treballadora/
END:VEVENT
BEGIN:VEVENT
DTSTART;TZID=Europe/Paris:20220311T200000
DTEND;TZID=Europe/Paris:20220311T213000
DTSTAMP:20260421T175814
CREATED:20220302T221827Z
LAST-MODIFIED:20220302T221827Z
UID:18338-1647028800-1647034200@espaijovegarcilaso.org
SUMMARY:Cabaret: Rinclowner@s por el Mundo
DESCRIPTION:S’acosta el 8 de març\, Dia de la Dona Treballadora\, i l’Espai Jove Garcilaso ha organitzat diverses activitats! \nL’11 de març a les 18 h es farà un Bingo Musical amb una mirada de gènere on es reflexionarà sobre els estils musicals\, les lletres\, les oportunitats de la dona dins del món de les arts…\nSeguidament\, a les 20 h tindrem amb nosaltres l’espectacle de Cabaret: Rinclowner@s por el Mundo\, creat per El Rinclowncito: “un projecte que neix a l’inici del 2021\, amb motiu del 10è aniversari d’El Rinclowncito. Perquè les pallasses són el motor d’aquesta casa\, el nostre orgull i la nostra motivació per continuar endavant. Us esperem aquest divendres per compartir amb vosaltres i continuar fent camí dins aquest ofici de clown.” \nEl 18 de març proposem l’activitat: Qui cuida el barri? Aquesta té la intenció de reflexionar i conèixer el nostre entorn més proper. Es farà un recorregut pels diferents espais del territori per fer una anàlisi amb una mirada de gènere. \nUs hi esperem! \nInscripció prèvia a: 648767459\nActivitats gratuïtes\nEspai Jove Garcilaso (C/Garcilaso\, 103)\n \n \nACTIVITATS MES DE MARÇ  \n\n11 de març:\n– Bingo Musical de 18 a 19:30 h\n– Cabaret: Rinclowner@s por el Mundo de 20 a 21:30 h\n18 de març:\n– Qui cuida el barri? De 18 a 20 h 
URL:https://espaijovegarcilaso.org/esdeveniments/cabaret-rinclowners-por-el-mundo/
END:VEVENT
BEGIN:VEVENT
DTSTART;TZID=Europe/Paris:20220311T183000
DTEND;TZID=Europe/Paris:20220311T193000
DTSTAMP:20260421T175814
CREATED:20220302T221637Z
LAST-MODIFIED:20220302T221710Z
UID:18334-1647023400-1647027000@espaijovegarcilaso.org
SUMMARY:Bingo Musical
DESCRIPTION:S’acosta el 8 de març\, Dia de la Dona Treballadora\, i l’Espai Jove Garcilaso ha organitzat diverses activitats! \nL’11 de març a les 18 h es farà un Bingo Musical amb una mirada de gènere on es reflexionarà sobre els estils musicals\, les lletres\, les oportunitats de la dona dins del món de les arts…\nSeguidament\, a les 20 h tindrem amb nosaltres l’espectacle de Cabaret: Rinclowner@s por el Mundo\, creat per El Rinclowncito: “un projecte que neix a l’inici del 2021\, amb motiu del 10è aniversari d’El Rinclowncito. Perquè les pallasses són el motor d’aquesta casa\, el nostre orgull i la nostra motivació per continuar endavant. Us esperem aquest divendres per compartir amb vosaltres i continuar fent camí dins aquest ofici de clown.” \nEl 18 de març proposem l’activitat: Qui cuida el barri? Aquesta té la intenció de reflexionar i conèixer el nostre entorn més proper. Es farà un recorregut pels diferents espais del territori per fer una anàlisi amb una mirada de gènere. \nUs hi esperem! \nInscripció prèvia a: 648767459\nActivitats gratuïtes\nEspai Jove Garcilaso (C/Garcilaso\, 103)\n \n \nACTIVITATS MES DE MARÇ  \n\n11 de març:\n– Bingo Musical de 18 a 19:30 h\n– Cabaret: Rinclowner@s por el Mundo de 20 a 21:30 h\n18 de març:\n– Qui cuida el barri? De 18 a 20 h 
URL:https://espaijovegarcilaso.org/esdeveniments/bingo-musical-2/
END:VEVENT
BEGIN:VEVENT
DTSTART;TZID=Europe/Paris:20220310T190000
DTEND;TZID=Europe/Paris:20220310T210000
DTSTAMP:20260421T175814
CREATED:20220221T184700Z
LAST-MODIFIED:20220221T184700Z
UID:18311-1646938800-1646946000@espaijovegarcilaso.org
SUMMARY:Workshop musical
DESCRIPTION:Ja podeu consultar les activitats que es realitzaran al llarg d’aquest trimestre a la nova agenda d’hivern de l’Espai Jove Garcilaso! També podeu accedir al programa virtual escanejant el codi QR adjunt. \n  \nProgramació d’hivern – Espai Jove Garcilaso
URL:https://espaijovegarcilaso.org/esdeveniments/workshop-musical-3/
END:VEVENT
BEGIN:VEVENT
DTSTART;TZID=Europe/Paris:20220310T180000
DTEND;TZID=Europe/Paris:20220310T200000
DTSTAMP:20260421T175814
CREATED:20220307T194142Z
LAST-MODIFIED:20220307T194142Z
UID:18370-1646935200-1646942400@espaijovegarcilaso.org
SUMMARY:DROL (taller sobre les addiccions)
DESCRIPTION:Comencem el mes de març a tope d’energia!!! \n🙋🏾🙋‍♀️🙋🏽‍♂️ Per a apuntar-se a les activitats\, recorda que has de reservar plaça enviant-nos un whatsapp o un DM al nostre Instagram.
URL:https://espaijovegarcilaso.org/esdeveniments/drol-taller-sobre-les-addiccions-2/
END:VEVENT
BEGIN:VEVENT
DTSTART;TZID=Europe/Paris:20220310T171500
DTEND;TZID=Europe/Paris:20220310T200000
DTSTAMP:20260421T175814
CREATED:20220116T152308Z
LAST-MODIFIED:20220307T193541Z
UID:18069-1646932500-1646942400@espaijovegarcilaso.org
SUMMARY:Autogestió - La Sala
DESCRIPTION:Aquí teniu les activitats setmanals que es realitzaran a La Sala del 7 al 11 de març.
URL:https://espaijovegarcilaso.org/esdeveniments/autogestio-la-sala-16/
END:VEVENT
END:VCALENDAR