BEGIN:VCALENDAR
VERSION:2.0
PRODID:-//Espai Jove Garcilaso - ECPv6.15.13//NONSGML v1.0//EN
CALSCALE:GREGORIAN
METHOD:PUBLISH
X-ORIGINAL-URL:https://espaijovegarcilaso.org
X-WR-CALDESC:Esdeveniments per Espai Jove Garcilaso
REFRESH-INTERVAL;VALUE=DURATION:PT1H
X-Robots-Tag:noindex
X-PUBLISHED-TTL:PT1H
BEGIN:VTIMEZONE
TZID:Europe/Paris
BEGIN:DAYLIGHT
TZOFFSETFROM:+0100
TZOFFSETTO:+0200
TZNAME:CEST
DTSTART:20210328T010000
END:DAYLIGHT
BEGIN:STANDARD
TZOFFSETFROM:+0200
TZOFFSETTO:+0100
TZNAME:CET
DTSTART:20211031T010000
END:STANDARD
BEGIN:DAYLIGHT
TZOFFSETFROM:+0100
TZOFFSETTO:+0200
TZNAME:CEST
DTSTART:20220327T010000
END:DAYLIGHT
BEGIN:STANDARD
TZOFFSETFROM:+0200
TZOFFSETTO:+0100
TZNAME:CET
DTSTART:20221030T010000
END:STANDARD
BEGIN:DAYLIGHT
TZOFFSETFROM:+0100
TZOFFSETTO:+0200
TZNAME:CEST
DTSTART:20230326T010000
END:DAYLIGHT
BEGIN:STANDARD
TZOFFSETFROM:+0200
TZOFFSETTO:+0100
TZNAME:CET
DTSTART:20231029T010000
END:STANDARD
END:VTIMEZONE
BEGIN:VEVENT
DTSTART;TZID=Europe/Paris:20220311T200000
DTEND;TZID=Europe/Paris:20220311T220000
DTSTAMP:20260421T211459
CREATED:20211224T114929Z
LAST-MODIFIED:20211224T114929Z
UID:17884-1647028800-1647036000@espaijovegarcilaso.org
SUMMARY:Concert pel Dia de la dona treballadora
DESCRIPTION:Programació de música en directe els divendres a l’Espai Jove Garcilaso\, seguirem amb el cicle “Acústic-Tast”\, donarem continuïtat al projecte “Mes enllà del Trap” i farem accions de creació musical. Tot per seguir gaudint de la cultura! Si vols estar al dia de la nostra programació\, segueix-nos per les nostres xarxes socials!\nInstagram: @musicagarcilaso\nFacebook: @projectemusicalgarcilaso\nAixí podràs conèixer tota la programació\, adaptada a les restriccions sanitàries del moment. \nReferents: Jordi o Víctor.\nmusica@espaijovegarcilaso.org
URL:https://espaijovegarcilaso.org/esdeveniments/concert-pel-dia-de-la-dona-treballadora/
END:VEVENT
BEGIN:VEVENT
DTSTART;TZID=Europe/Paris:20220311T200000
DTEND;TZID=Europe/Paris:20220311T213000
DTSTAMP:20260421T211459
CREATED:20220302T221827Z
LAST-MODIFIED:20220302T221827Z
UID:18338-1647028800-1647034200@espaijovegarcilaso.org
SUMMARY:Cabaret: Rinclowner@s por el Mundo
DESCRIPTION:S’acosta el 8 de març\, Dia de la Dona Treballadora\, i l’Espai Jove Garcilaso ha organitzat diverses activitats! \nL’11 de març a les 18 h es farà un Bingo Musical amb una mirada de gènere on es reflexionarà sobre els estils musicals\, les lletres\, les oportunitats de la dona dins del món de les arts…\nSeguidament\, a les 20 h tindrem amb nosaltres l’espectacle de Cabaret: Rinclowner@s por el Mundo\, creat per El Rinclowncito: “un projecte que neix a l’inici del 2021\, amb motiu del 10è aniversari d’El Rinclowncito. Perquè les pallasses són el motor d’aquesta casa\, el nostre orgull i la nostra motivació per continuar endavant. Us esperem aquest divendres per compartir amb vosaltres i continuar fent camí dins aquest ofici de clown.” \nEl 18 de març proposem l’activitat: Qui cuida el barri? Aquesta té la intenció de reflexionar i conèixer el nostre entorn més proper. Es farà un recorregut pels diferents espais del territori per fer una anàlisi amb una mirada de gènere. \nUs hi esperem! \nInscripció prèvia a: 648767459\nActivitats gratuïtes\nEspai Jove Garcilaso (C/Garcilaso\, 103)\n \n \nACTIVITATS MES DE MARÇ  \n\n11 de març:\n– Bingo Musical de 18 a 19:30 h\n– Cabaret: Rinclowner@s por el Mundo de 20 a 21:30 h\n18 de març:\n– Qui cuida el barri? De 18 a 20 h 
URL:https://espaijovegarcilaso.org/esdeveniments/cabaret-rinclowners-por-el-mundo/
END:VEVENT
BEGIN:VEVENT
DTSTART;TZID=Europe/Paris:20220311T183000
DTEND;TZID=Europe/Paris:20220311T193000
DTSTAMP:20260421T211459
CREATED:20220302T221637Z
LAST-MODIFIED:20220302T221710Z
UID:18334-1647023400-1647027000@espaijovegarcilaso.org
SUMMARY:Bingo Musical
DESCRIPTION:S’acosta el 8 de març\, Dia de la Dona Treballadora\, i l’Espai Jove Garcilaso ha organitzat diverses activitats! \nL’11 de març a les 18 h es farà un Bingo Musical amb una mirada de gènere on es reflexionarà sobre els estils musicals\, les lletres\, les oportunitats de la dona dins del món de les arts…\nSeguidament\, a les 20 h tindrem amb nosaltres l’espectacle de Cabaret: Rinclowner@s por el Mundo\, creat per El Rinclowncito: “un projecte que neix a l’inici del 2021\, amb motiu del 10è aniversari d’El Rinclowncito. Perquè les pallasses són el motor d’aquesta casa\, el nostre orgull i la nostra motivació per continuar endavant. Us esperem aquest divendres per compartir amb vosaltres i continuar fent camí dins aquest ofici de clown.” \nEl 18 de març proposem l’activitat: Qui cuida el barri? Aquesta té la intenció de reflexionar i conèixer el nostre entorn més proper. Es farà un recorregut pels diferents espais del territori per fer una anàlisi amb una mirada de gènere. \nUs hi esperem! \nInscripció prèvia a: 648767459\nActivitats gratuïtes\nEspai Jove Garcilaso (C/Garcilaso\, 103)\n \n \nACTIVITATS MES DE MARÇ  \n\n11 de març:\n– Bingo Musical de 18 a 19:30 h\n– Cabaret: Rinclowner@s por el Mundo de 20 a 21:30 h\n18 de març:\n– Qui cuida el barri? De 18 a 20 h 
URL:https://espaijovegarcilaso.org/esdeveniments/bingo-musical-2/
END:VEVENT
BEGIN:VEVENT
DTSTART;TZID=Europe/Paris:20220310T190000
DTEND;TZID=Europe/Paris:20220310T210000
DTSTAMP:20260421T211459
CREATED:20220221T184700Z
LAST-MODIFIED:20220221T184700Z
UID:18311-1646938800-1646946000@espaijovegarcilaso.org
SUMMARY:Workshop musical
DESCRIPTION:Ja podeu consultar les activitats que es realitzaran al llarg d’aquest trimestre a la nova agenda d’hivern de l’Espai Jove Garcilaso! També podeu accedir al programa virtual escanejant el codi QR adjunt. \n  \nProgramació d’hivern – Espai Jove Garcilaso
URL:https://espaijovegarcilaso.org/esdeveniments/workshop-musical-3/
END:VEVENT
BEGIN:VEVENT
DTSTART;TZID=Europe/Paris:20220310T180000
DTEND;TZID=Europe/Paris:20220310T200000
DTSTAMP:20260421T211459
CREATED:20220307T194142Z
LAST-MODIFIED:20220307T194142Z
UID:18370-1646935200-1646942400@espaijovegarcilaso.org
SUMMARY:DROL (taller sobre les addiccions)
DESCRIPTION:Comencem el mes de març a tope d’energia!!! \n🙋🏾🙋‍♀️🙋🏽‍♂️ Per a apuntar-se a les activitats\, recorda que has de reservar plaça enviant-nos un whatsapp o un DM al nostre Instagram.
URL:https://espaijovegarcilaso.org/esdeveniments/drol-taller-sobre-les-addiccions-2/
END:VEVENT
BEGIN:VEVENT
DTSTART;TZID=Europe/Paris:20220310T171500
DTEND;TZID=Europe/Paris:20220310T200000
DTSTAMP:20260421T211459
CREATED:20220116T152308Z
LAST-MODIFIED:20220307T193541Z
UID:18069-1646932500-1646942400@espaijovegarcilaso.org
SUMMARY:Autogestió - La Sala
DESCRIPTION:Aquí teniu les activitats setmanals que es realitzaran a La Sala del 7 al 11 de març.
URL:https://espaijovegarcilaso.org/esdeveniments/autogestio-la-sala-16/
END:VEVENT
BEGIN:VEVENT
DTSTART;TZID=Europe/Paris:20220309T171500
DTEND;TZID=Europe/Paris:20220309T200000
DTSTAMP:20260421T211459
CREATED:20220116T151657Z
LAST-MODIFIED:20220307T193523Z
UID:18045-1646846100-1646856000@espaijovegarcilaso.org
SUMMARY:Taller de cuina - La Sala
DESCRIPTION:Aquí teniu les activitats setmanals que es realitzaran a La Sala del 7 al 11 de març.
URL:https://espaijovegarcilaso.org/esdeveniments/taller-de-cuina-la-sala-10/
END:VEVENT
BEGIN:VEVENT
DTSTART;TZID=Europe/Paris:20220308T171500
DTEND;TZID=Europe/Paris:20220308T200000
DTSTAMP:20260421T211459
CREATED:20220116T150847Z
LAST-MODIFIED:20220307T193452Z
UID:18020-1646759700-1646769600@espaijovegarcilaso.org
SUMMARY:8M - La Sala
DESCRIPTION:Aquí teniu les activitats setmanals que es realitzaran a La Sala del 7 al 11 de març.
URL:https://espaijovegarcilaso.org/esdeveniments/8m-la-sala-2022/
END:VEVENT
BEGIN:VEVENT
DTSTART;TZID=Europe/Paris:20220307T171500
DTEND;TZID=Europe/Paris:20220307T200000
DTSTAMP:20260421T211459
CREATED:20220116T144154Z
LAST-MODIFIED:20220307T193432Z
UID:17995-1646673300-1646683200@espaijovegarcilaso.org
SUMMARY:Cinefòrum - La Sala
DESCRIPTION:Aquí teniu les activitats setmanals que es realitzaran a La Sala del 7 al 11 de març.
URL:https://espaijovegarcilaso.org/esdeveniments/cineforum-la-sala-17/
END:VEVENT
BEGIN:VEVENT
DTSTART;TZID=Europe/Paris:20220306T110000
DTEND;TZID=Europe/Paris:20220306T120000
DTSTAMP:20260421T211459
CREATED:20220131T190619Z
LAST-MODIFIED:20220131T190619Z
UID:18180-1646564400-1646568000@espaijovegarcilaso.org
SUMMARY:Futbol setmanal
DESCRIPTION:Requereix compromís de participació i continuïtat en totes les activitats\, tant esportives com de seguiment i orientació. \nL’activitat es desenvoluparà tots els diumenges de 11 h a 12 h\, d’acord amb el calendari escolar. \nInscripcions obertes\, informa’t al Punt InfoJove de Sant Andreu i no badallis que les places són limitades!!
URL:https://espaijovegarcilaso.org/esdeveniments/futbol-setmanal-5/
END:VEVENT
BEGIN:VEVENT
DTSTART;TZID=Europe/Paris:20220304T200000
DTEND;TZID=Europe/Paris:20220304T220000
DTSTAMP:20260421T211459
CREATED:20220302T221516Z
LAST-MODIFIED:20220302T221516Z
UID:18332-1646424000-1646431200@espaijovegarcilaso.org
SUMMARY:Presentació de l'associació cultural El Fogón
DESCRIPTION:Molt contentes d’acollir la presentació de l’associació cultural @fogonbarcelona aquest divendres. Millor manera que celebrar-ho amb música no sabríem. Us hi esperem! \nEntrada gratuïta. \nReserva prèvia via WhatsApp al 699 62 88 34
URL:https://espaijovegarcilaso.org/esdeveniments/presentacio-de-lassociacio-cultural-el-fogon/
END:VEVENT
BEGIN:VEVENT
DTSTART;TZID=Europe/Paris:20220304T180000
DTEND;TZID=Europe/Paris:20220304T200000
DTSTAMP:20260421T211459
CREATED:20220307T193952Z
LAST-MODIFIED:20220307T193952Z
UID:18367-1646416800-1646424000@espaijovegarcilaso.org
SUMMARY:Torneig FIFA
DESCRIPTION:Comencem el mes de març a tope d’energia!!! \n🙋🏾🙋‍♀️🙋🏽‍♂️ Per a apuntar-se a les activitats\, recorda que has de reservar plaça enviant-nos un whatsapp o un DM al nostre Instagram.
URL:https://espaijovegarcilaso.org/esdeveniments/torneig-fifa/
END:VEVENT
BEGIN:VEVENT
DTSTART;TZID=Europe/Paris:20220304T171500
DTEND;TZID=Europe/Paris:20220304T200000
DTSTAMP:20260421T211459
CREATED:20220116T164307Z
LAST-MODIFIED:20220116T164307Z
UID:18091-1646414100-1646424000@espaijovegarcilaso.org
SUMMARY:Excursions i Circ - La Sala
DESCRIPTION:Aquí teniu les activitats setmanals que es realitzaran a La Sala durant el 2n trimestre.
URL:https://espaijovegarcilaso.org/esdeveniments/excursions-i-circ-la-sala-8/
END:VEVENT
BEGIN:VEVENT
DTSTART;TZID=Europe/Paris:20220303T180000
DTEND;TZID=Europe/Paris:20220303T200000
DTSTAMP:20260421T211459
CREATED:20220221T184437Z
LAST-MODIFIED:20220307T193856Z
UID:18309-1646330400-1646337600@espaijovegarcilaso.org
SUMMARY:Braille - Intercanviador Jove
DESCRIPTION:Comencem el mes de març a tope d’energia!!! \n🙋🏾🙋‍♀️🙋🏽‍♂️ Per a apuntar-se a les activitats\, recorda que has de reservar plaça enviant-nos un whatsapp o un DM al nostre Instagram.
URL:https://espaijovegarcilaso.org/esdeveniments/braille-intercanviador-jove/
END:VEVENT
BEGIN:VEVENT
DTSTART;TZID=Europe/Paris:20220303T173000
DTEND;TZID=Europe/Paris:20220303T193000
DTSTAMP:20260421T211459
CREATED:20220215T221214Z
LAST-MODIFIED:20220215T221214Z
UID:18287-1646328600-1646335800@espaijovegarcilaso.org
SUMMARY:Jornada de graus universitaris - In-Forma't
DESCRIPTION:Professorat expert t’explicarà quin és el funcionament del grau que t’interessa. Si vols saber com és el pla d’estudis o quines són les sortides professionals inscriu-te a: barcelona.cat/informat \n  \n2 de març \n17:30h Educació infantil i primària \n18:30h Estudis de gènere \n  \n3 de març \n17:30h Ciències\, tecnologia i humanitats \n18:30h Educació social / treball social \n 
URL:https://espaijovegarcilaso.org/esdeveniments/jornada-de-graus-universitaris-in-format-2/
END:VEVENT
BEGIN:VEVENT
DTSTART;TZID=Europe/Paris:20220303T171500
DTEND;TZID=Europe/Paris:20220303T200000
DTSTAMP:20260421T211459
CREATED:20220116T152245Z
LAST-MODIFIED:20220116T152245Z
UID:18067-1646327700-1646337600@espaijovegarcilaso.org
SUMMARY:Autogestió - La Sala
DESCRIPTION:Aquí teniu les activitats setmanals que es realitzaran a La Sala durant el 2n trimestre.
URL:https://espaijovegarcilaso.org/esdeveniments/autogestio-la-sala-15/
END:VEVENT
BEGIN:VEVENT
DTSTART;TZID=Europe/Paris:20220302T173000
DTEND;TZID=Europe/Paris:20220302T193000
DTSTAMP:20260421T211459
CREATED:20220215T221115Z
LAST-MODIFIED:20220215T221115Z
UID:18285-1646242200-1646249400@espaijovegarcilaso.org
SUMMARY:Jornada de graus universitaris - In-Forma't
DESCRIPTION:Professorat expert t’explicarà quin és el funcionament del grau que t’interessa. Si vols saber com és el pla d’estudis o quines són les sortides professionals inscriu-te a: barcelona.cat/informat \n  \n2 de març \n17:30h Educació infantil i primària \n18:30h Estudis de gènere \n  \n3 de març \n17:30h Ciències\, tecnologia i humanitats \n18:30h Educació social / treball social \n 
URL:https://espaijovegarcilaso.org/esdeveniments/jornada-de-graus-universitaris-in-format/
END:VEVENT
BEGIN:VEVENT
DTSTART;TZID=Europe/Paris:20220302T171500
DTEND;TZID=Europe/Paris:20220302T200000
DTSTAMP:20260421T211459
CREATED:20220116T151624Z
LAST-MODIFIED:20220116T151624Z
UID:18043-1646241300-1646251200@espaijovegarcilaso.org
SUMMARY:Taller de cuina - La Sala
DESCRIPTION:Aquí teniu les activitats setmanals que es realitzaran a La Sala durant el 2n trimestre.
URL:https://espaijovegarcilaso.org/esdeveniments/taller-de-cuina-la-sala-9/
END:VEVENT
BEGIN:VEVENT
DTSTART;TZID=Europe/Paris:20220301T171500
DTEND;TZID=Europe/Paris:20220301T200000
DTSTAMP:20260421T211459
CREATED:20220116T150816Z
LAST-MODIFIED:20220116T150816Z
UID:18018-1646154900-1646164800@espaijovegarcilaso.org
SUMMARY:Taller de teatre - La Sala
DESCRIPTION:Aquí teniu les activitats setmanals que es realitzaran a La Sala durant el 2n trimestre.
URL:https://espaijovegarcilaso.org/esdeveniments/taller-de-teatre-la-sala-19/
END:VEVENT
BEGIN:VEVENT
DTSTART;TZID=Europe/Paris:20220228T180000
DTEND;TZID=Europe/Paris:20220228T200000
DTSTAMP:20260421T211459
CREATED:20220208T213941Z
LAST-MODIFIED:20220208T213941Z
UID:18252-1646071200-1646078400@espaijovegarcilaso.org
SUMMARY:Conecta2 - Taller sobre les xarxes socials
DESCRIPTION:Comencem el mes de febrer a tope d’energia!!! \n🙋🏾🙋‍♀️🙋🏽‍♂️ Per a apuntar-se a les activitats\, recorda que has de reservar plaça enviant-nos un whatsapp o un DM al nostre Instagram.
URL:https://espaijovegarcilaso.org/esdeveniments/conecta2-taller-sobre-les-xarxes-socials/
END:VEVENT
BEGIN:VEVENT
DTSTART;TZID=Europe/Paris:20220228T171500
DTEND;TZID=Europe/Paris:20220228T200000
DTSTAMP:20260421T211459
CREATED:20220116T144117Z
LAST-MODIFIED:20220116T144117Z
UID:17993-1646068500-1646078400@espaijovegarcilaso.org
SUMMARY:Cinefòrum - La Sala
DESCRIPTION:Aquí teniu les activitats setmanals que es realitzaran a La Sala durant el 2n trimestre.
URL:https://espaijovegarcilaso.org/esdeveniments/cineforum-la-sala-16/
END:VEVENT
BEGIN:VEVENT
DTSTART;TZID=Europe/Paris:20220227T110000
DTEND;TZID=Europe/Paris:20220227T120000
DTSTAMP:20260421T211459
CREATED:20220131T190536Z
LAST-MODIFIED:20220131T190536Z
UID:18178-1645959600-1645963200@espaijovegarcilaso.org
SUMMARY:Futbol setmanal
DESCRIPTION:Requereix compromís de participació i continuïtat en totes les activitats\, tant esportives com de seguiment i orientació. \nL’activitat es desenvoluparà tots els diumenges de 11 h a 12 h\, d’acord amb el calendari escolar. \nInscripcions obertes\, informa’t al Punt InfoJove de Sant Andreu i no badallis que les places són limitades!!
URL:https://espaijovegarcilaso.org/esdeveniments/futbol-setmanal-4/
END:VEVENT
BEGIN:VEVENT
DTSTART;TZID=Europe/Paris:20220225T171500
DTEND;TZID=Europe/Paris:20220225T200000
DTSTAMP:20260421T211459
CREATED:20220116T164210Z
LAST-MODIFIED:20220116T164210Z
UID:18089-1645809300-1645819200@espaijovegarcilaso.org
SUMMARY:Excursions i Circ - La Sala
DESCRIPTION:Aquí teniu les activitats setmanals que es realitzaran a La Sala durant el 2n trimestre.
URL:https://espaijovegarcilaso.org/esdeveniments/excursions-i-circ-la-sala-7/
END:VEVENT
BEGIN:VEVENT
DTSTART;VALUE=DATE:20220225
DTEND;VALUE=DATE:20220226
DTSTAMP:20260421T211459
CREATED:20220131T200116Z
LAST-MODIFIED:20220131T200116Z
UID:18203-1645747200-1645833599@espaijovegarcilaso.org
SUMMARY:Carnestoltes
DESCRIPTION:Ja podeu consultar les activitats que es realitzaran al llarg d’aquest trimestre a la nova agenda d’hivern de l’Espai Jove Garcilaso! També podeu accedir al programa virtual escanejant el codi QR adjunt. \n  \nProgramació d’hivern – Espai Jove Garcilaso
URL:https://espaijovegarcilaso.org/esdeveniments/carnestoltes-2/
END:VEVENT
BEGIN:VEVENT
DTSTART;TZID=Europe/Paris:20220224T171500
DTEND;TZID=Europe/Paris:20220224T200000
DTSTAMP:20260421T211459
CREATED:20220116T152203Z
LAST-MODIFIED:20220116T152203Z
UID:18065-1645722900-1645732800@espaijovegarcilaso.org
SUMMARY:Autogestió - La Sala
DESCRIPTION:Aquí teniu les activitats setmanals que es realitzaran a La Sala durant el 2n trimestre.
URL:https://espaijovegarcilaso.org/esdeveniments/autogestio-la-sala-14/
END:VEVENT
BEGIN:VEVENT
DTSTART;TZID=Europe/Paris:20220223T171500
DTEND;TZID=Europe/Paris:20220223T200000
DTSTAMP:20260421T211459
CREATED:20220116T151538Z
LAST-MODIFIED:20220116T151538Z
UID:18041-1645636500-1645646400@espaijovegarcilaso.org
SUMMARY:Taller de cuina - La Sala
DESCRIPTION:Aquí teniu les activitats setmanals que es realitzaran a La Sala durant el 2n trimestre.
URL:https://espaijovegarcilaso.org/esdeveniments/taller-de-cuina-la-sala-8/
END:VEVENT
BEGIN:VEVENT
DTSTART;TZID=Europe/Paris:20220222T171500
DTEND;TZID=Europe/Paris:20220222T200000
DTSTAMP:20260421T211459
CREATED:20220116T150744Z
LAST-MODIFIED:20220116T150744Z
UID:18016-1645550100-1645560000@espaijovegarcilaso.org
SUMMARY:Taller de teatre - La Sala
DESCRIPTION:Aquí teniu les activitats setmanals que es realitzaran a La Sala durant el 2n trimestre.
URL:https://espaijovegarcilaso.org/esdeveniments/taller-de-teatre-la-sala-18/
END:VEVENT
BEGIN:VEVENT
DTSTART;TZID=Europe/Paris:20220221T180000
DTEND;TZID=Europe/Paris:20220221T200000
DTSTAMP:20260421T211459
CREATED:20220208T212455Z
LAST-MODIFIED:20220208T212455Z
UID:18240-1645466400-1645473600@espaijovegarcilaso.org
SUMMARY:Màscares de guix - Taller per a fer màscares
DESCRIPTION:Comencem el mes de febrer a tope d’energia!!! \n🙋🏾🙋‍♀️🙋🏽‍♂️ Per a apuntar-se a les activitats\, recorda que has de reservar plaça enviant-nos un whatsapp o un DM al nostre Instagram.
URL:https://espaijovegarcilaso.org/esdeveniments/mascares-de-guix-taller-per-a-fer-mascares-2/
END:VEVENT
BEGIN:VEVENT
DTSTART;TZID=Europe/Paris:20220221T171500
DTEND;TZID=Europe/Paris:20220221T200000
DTSTAMP:20260421T211459
CREATED:20220116T144037Z
LAST-MODIFIED:20220116T144037Z
UID:17991-1645463700-1645473600@espaijovegarcilaso.org
SUMMARY:Cinefòrum - La Sala
DESCRIPTION:Aquí teniu les activitats setmanals que es realitzaran a La Sala durant el 2n trimestre.
URL:https://espaijovegarcilaso.org/esdeveniments/cineforum-la-sala-15/
END:VEVENT
BEGIN:VEVENT
DTSTART;TZID=Europe/Paris:20220220T110000
DTEND;TZID=Europe/Paris:20220220T120000
DTSTAMP:20260421T211459
CREATED:20220131T190432Z
LAST-MODIFIED:20220131T190432Z
UID:18176-1645354800-1645358400@espaijovegarcilaso.org
SUMMARY:Futbol setmanal
DESCRIPTION:Requereix compromís de participació i continuïtat en totes les activitats\, tant esportives com de seguiment i orientació. \nL’activitat es desenvoluparà tots els diumenges de 11 h a 12 h\, d’acord amb el calendari escolar. \nInscripcions obertes\, informa’t al Punt InfoJove de Sant Andreu i no badallis que les places són limitades!!
URL:https://espaijovegarcilaso.org/esdeveniments/futbol-setmanal-3/
END:VEVENT
END:VCALENDAR