BEGIN:VCALENDAR
VERSION:2.0
PRODID:-//Espai Jove Garcilaso - ECPv6.15.13//NONSGML v1.0//EN
CALSCALE:GREGORIAN
METHOD:PUBLISH
X-ORIGINAL-URL:https://espaijovegarcilaso.org
X-WR-CALDESC:Esdeveniments per Espai Jove Garcilaso
REFRESH-INTERVAL;VALUE=DURATION:PT1H
X-Robots-Tag:noindex
X-PUBLISHED-TTL:PT1H
BEGIN:VTIMEZONE
TZID:Europe/Paris
BEGIN:DAYLIGHT
TZOFFSETFROM:+0100
TZOFFSETTO:+0200
TZNAME:CEST
DTSTART:20210328T010000
END:DAYLIGHT
BEGIN:STANDARD
TZOFFSETFROM:+0200
TZOFFSETTO:+0100
TZNAME:CET
DTSTART:20211031T010000
END:STANDARD
BEGIN:DAYLIGHT
TZOFFSETFROM:+0100
TZOFFSETTO:+0200
TZNAME:CEST
DTSTART:20220327T010000
END:DAYLIGHT
BEGIN:STANDARD
TZOFFSETFROM:+0200
TZOFFSETTO:+0100
TZNAME:CET
DTSTART:20221030T010000
END:STANDARD
BEGIN:DAYLIGHT
TZOFFSETFROM:+0100
TZOFFSETTO:+0200
TZNAME:CEST
DTSTART:20230326T010000
END:DAYLIGHT
BEGIN:STANDARD
TZOFFSETFROM:+0200
TZOFFSETTO:+0100
TZNAME:CET
DTSTART:20231029T010000
END:STANDARD
END:VTIMEZONE
BEGIN:VEVENT
DTSTART;TZID=Europe/Paris:20220206T110000
DTEND;TZID=Europe/Paris:20220206T120000
DTSTAMP:20260422T032050
CREATED:20220131T190257Z
LAST-MODIFIED:20220131T190257Z
UID:18172-1644145200-1644148800@espaijovegarcilaso.org
SUMMARY:Futbol setmanal
DESCRIPTION:Requereix compromís de participació i continuïtat en totes les activitats\, tant esportives com de seguiment i orientació. \nL’activitat es desenvoluparà tots els diumenges de 11 h a 12 h\, d’acord amb el calendari escolar. \nInscripcions obertes\, informa’t al Punt InfoJove de Sant Andreu i no badallis que les places són limitades!!
URL:https://espaijovegarcilaso.org/esdeveniments/futbol-setmanal/
END:VEVENT
BEGIN:VEVENT
DTSTART;TZID=Europe/Paris:20220204T200000
DTEND;TZID=Europe/Paris:20220204T220000
DTSTAMP:20260422T032050
CREATED:20220127T221245Z
LAST-MODIFIED:20220127T221245Z
UID:18125-1644004800-1644012000@espaijovegarcilaso.org
SUMMARY:Concert amb The Valley's
DESCRIPTION:El proper divendres 4 de febrer a partir de les 20h gaudirem de concert a l’Espai Jove Garcilaso amb l’actuació de “The Valley’s”. \nUs hi esperem! \nAforament limitat. Reserva d’entrades via Whatsapp al 699 628 834.
URL:https://espaijovegarcilaso.org/esdeveniments/concert-amb-the-valleys/
END:VEVENT
BEGIN:VEVENT
DTSTART;TZID=Europe/Paris:20220204T171500
DTEND;TZID=Europe/Paris:20220204T200000
DTSTAMP:20260422T032050
CREATED:20220116T163920Z
LAST-MODIFIED:20220128T213850Z
UID:18083-1643994900-1644004800@espaijovegarcilaso.org
SUMMARY:Descoberta al centre de BCN - La Sala
DESCRIPTION:Aquí teniu les activitats setmanals que es realitzaran a La Sala del 31 de gener al 4 de febrer.
URL:https://espaijovegarcilaso.org/esdeveniments/descoberta-al-centre-de-bcn/
END:VEVENT
BEGIN:VEVENT
DTSTART;TZID=Europe/Paris:20220203T200000
DTEND;TZID=Europe/Paris:20220203T213000
DTSTAMP:20260422T032050
CREATED:20220127T220708Z
LAST-MODIFIED:20220127T220708Z
UID:18120-1643918400-1643923800@espaijovegarcilaso.org
SUMMARY:Workshop: Presència escénica
DESCRIPTION:WORKSHOP \nPreséncia escénica amb Koko Jean-Davis \nDijous 3 de febrer de 20h a 21:30h \nActivitat gratuïta \nAforament limitat \nConfirmació d’assistència via Whatsapp al 699 62 88 34
URL:https://espaijovegarcilaso.org/esdeveniments/workshop-presencia-escenica/
END:VEVENT
BEGIN:VEVENT
DTSTART;TZID=Europe/Paris:20220203T180000
DTEND;TZID=Europe/Paris:20220203T200000
DTSTAMP:20260422T032050
CREATED:20220208T212212Z
LAST-MODIFIED:20220208T212407Z
UID:18238-1643911200-1643918400@espaijovegarcilaso.org
SUMMARY:Màscares de guix - Taller per a fer màscares
DESCRIPTION:Comencem el mes de febrer a tope d’energia!!! \n🙋🏾🙋‍♀️🙋🏽‍♂️ Per a apuntar-se a les activitats\, recorda que has de reservar plaça enviant-nos un whatsapp o un DM al nostre Instagram.
URL:https://espaijovegarcilaso.org/esdeveniments/mascares-de-guix-taller-per-a-fer-mascares/
END:VEVENT
BEGIN:VEVENT
DTSTART;TZID=Europe/Paris:20220203T171500
DTEND;TZID=Europe/Paris:20220203T200000
DTSTAMP:20260422T032050
CREATED:20220116T152034Z
LAST-MODIFIED:20220128T213742Z
UID:18059-1643908500-1643918400@espaijovegarcilaso.org
SUMMARY:Autogestió - La Sala
DESCRIPTION:Aquí teniu les activitats setmanals que es realitzaran a La Sala del 31 de gener al 4 de febrer.
URL:https://espaijovegarcilaso.org/esdeveniments/autogestio-la-sala-11/
END:VEVENT
BEGIN:VEVENT
DTSTART;TZID=Europe/Paris:20220202T171500
DTEND;TZID=Europe/Paris:20220202T200000
DTSTAMP:20260422T032050
CREATED:20220116T151405Z
LAST-MODIFIED:20220128T213723Z
UID:18035-1643822100-1643832000@espaijovegarcilaso.org
SUMMARY:Taller de cuina a Torre La Sagrera - La Sala
DESCRIPTION:Aquí teniu les activitats setmanals que es realitzaran a La Sala del 31 de gener al 4 de febrer.
URL:https://espaijovegarcilaso.org/esdeveniments/taller-de-cuina-la-sala-5/
END:VEVENT
BEGIN:VEVENT
DTSTART;TZID=Europe/Paris:20220201T171500
DTEND;TZID=Europe/Paris:20220201T200000
DTSTAMP:20260422T032050
CREATED:20220116T144729Z
LAST-MODIFIED:20220128T213643Z
UID:18010-1643735700-1643745600@espaijovegarcilaso.org
SUMMARY:Taller de teatre - La Sala
DESCRIPTION:Aquí teniu les activitats setmanals que es realitzaran a La Sala del 31 de gener al 4 de febrer.
URL:https://espaijovegarcilaso.org/esdeveniments/taller-de-teatre-la-sala-15/
END:VEVENT
BEGIN:VEVENT
DTSTART;TZID=Europe/Paris:20220131T180000
DTEND;TZID=Europe/Paris:20220131T200000
DTSTAMP:20260422T032050
CREATED:20211224T115818Z
LAST-MODIFIED:20220116T142934Z
UID:17907-1643652000-1643659200@espaijovegarcilaso.org
SUMMARY:Conecta2
DESCRIPTION:Comencem l’any a tope d’energia i amb noves activitats! \n🙋🏾🙋‍♀️🙋🏽‍♂️ Per apuntar-se a les activitats\, recorda que has de reservar plaça enviant-nos un whatsapp o un DM al nostre Instagram.
URL:https://espaijovegarcilaso.org/esdeveniments/conecta2/
END:VEVENT
BEGIN:VEVENT
DTSTART;TZID=Europe/Paris:20220131T171500
DTEND;TZID=Europe/Paris:20220131T200000
DTSTAMP:20260422T032050
CREATED:20220116T143608Z
LAST-MODIFIED:20220128T213623Z
UID:17985-1643649300-1643659200@espaijovegarcilaso.org
SUMMARY:Cinefòrum - La Sala
DESCRIPTION:Aquí teniu les activitats setmanals que es realitzaran a La Sala del 31 de gener al 4 de febrer.
URL:https://espaijovegarcilaso.org/esdeveniments/cineforum-la-sala-12/
END:VEVENT
BEGIN:VEVENT
DTSTART;TZID=Europe/Paris:20220128T183000
DTEND;TZID=Europe/Paris:20220128T200000
DTSTAMP:20260422T032050
CREATED:20220113T224800Z
LAST-MODIFIED:20220113T224800Z
UID:17951-1643394600-1643400000@espaijovegarcilaso.org
SUMMARY:Concert Premi Acústica a CC La Barraca amb Elle León
DESCRIPTION:Elle León és una cantautora irlandesa. Les seves cançons acaronen les melodies que parlen de trobades\, canvis d’aires i d’amor present. Les seves influències vénen d’artistes actuals com Lykke Li i The Last Shadow Puppets\, fins a Fleetwood Mac o Joni Mitchell.” Organitza: CC La Sagrera “La Barraca” i Espai Jove Garcilaso.\nDia: divendres 28 de gener de 18:30 a 20h.\n \nLink d’inscrició:\nhttps://bit.ly/3fkoPUp\n 
URL:https://espaijovegarcilaso.org/esdeveniments/concert-premi-acustica-a-cc-la-barraca-amb-elle-leon/
END:VEVENT
BEGIN:VEVENT
DTSTART;TZID=Europe/Paris:20220128T180000
DTEND;TZID=Europe/Paris:20220128T200000
DTSTAMP:20260422T032050
CREATED:20220116T142545Z
LAST-MODIFIED:20220116T142545Z
UID:17975-1643392800-1643400000@espaijovegarcilaso.org
SUMMARY:Preparació Túnel
DESCRIPTION:Comencem l’any a tope d’energia i amb noves activitats! \n🙋🏾🙋‍♀️🙋🏽‍♂️ Per apuntar-se a les activitats\, recorda que has de reservar plaça enviant-nos un whatsapp o un DM al nostre Instagram.
URL:https://espaijovegarcilaso.org/esdeveniments/preparacio-tunel-2/
END:VEVENT
BEGIN:VEVENT
DTSTART;TZID=Europe/Paris:20220128T171500
DTEND;TZID=Europe/Paris:20220128T200000
DTSTAMP:20260422T032050
CREATED:20220116T163814Z
LAST-MODIFIED:20220116T163814Z
UID:18081-1643390100-1643400000@espaijovegarcilaso.org
SUMMARY:Excursions i Circ - La Sala
DESCRIPTION:Aquí teniu les activitats setmanals que es realitzaran a La Sala durant el 2n trimestre.
URL:https://espaijovegarcilaso.org/esdeveniments/excursions-i-circ-la-sala-3/
END:VEVENT
BEGIN:VEVENT
DTSTART;TZID=Europe/Paris:20220127T180000
DTEND;TZID=Europe/Paris:20220127T200000
DTSTAMP:20260422T032050
CREATED:20211224T115722Z
LAST-MODIFIED:20220116T142843Z
UID:17904-1643306400-1643313600@espaijovegarcilaso.org
SUMMARY:Taller sobre consum
DESCRIPTION:Comencem l’any a tope d’energia i amb noves activitats! \n🙋🏾🙋‍♀️🙋🏽‍♂️ Per apuntar-se a les activitats\, recorda que has de reservar plaça enviant-nos un whatsapp o un DM al nostre Instagram.
URL:https://espaijovegarcilaso.org/esdeveniments/taller-sobre-consum/
END:VEVENT
BEGIN:VEVENT
DTSTART;TZID=Europe/Paris:20220127T173000
DTEND;TZID=Europe/Paris:20220127T193000
DTSTAMP:20260422T032050
CREATED:20211224T115640Z
LAST-MODIFIED:20220113T225827Z
UID:17901-1643304600-1643311800@espaijovegarcilaso.org
SUMMARY:FILL/A ACABES L'ESO\, I ARA QUÈ FEM?
DESCRIPTION:Una activitat dins de la programació de la Campanya In-forma’t 2022 dirigida a les famílies d’estudiants que estan finalitzant l’ESO. En aquesta activitat s’explicarà el sistema educatiu i també es reflexionarà sobre com acompanyem els nostres fills/filles en aquest moment tant important de presa de decisions. \n\n \nL’activitat serà a l’Espai Jove Garcilaso dijous 27 de gener a les 17:30h.\n \nL’activitat és gratuïta amb inscripció prèvia. Si esteu interessats/des\, us podeu inscriure aquí. 
URL:https://espaijovegarcilaso.org/esdeveniments/fill-a-acabes-eso-i-ara-que-fem/
END:VEVENT
BEGIN:VEVENT
DTSTART;TZID=Europe/Paris:20220127T171500
DTEND;TZID=Europe/Paris:20220127T200000
DTSTAMP:20260422T032050
CREATED:20220116T152003Z
LAST-MODIFIED:20220116T152003Z
UID:18057-1643303700-1643313600@espaijovegarcilaso.org
SUMMARY:Autogestió - La Sala
DESCRIPTION:Aquí teniu les activitats setmanals que es realitzaran a La Sala durant el 2n trimestre.
URL:https://espaijovegarcilaso.org/esdeveniments/autogestio-la-sala-10/
END:VEVENT
BEGIN:VEVENT
DTSTART;TZID=Europe/Paris:20220126T171500
DTEND;TZID=Europe/Paris:20220126T200000
DTSTAMP:20260422T032050
CREATED:20220116T151336Z
LAST-MODIFIED:20220116T151336Z
UID:18033-1643217300-1643227200@espaijovegarcilaso.org
SUMMARY:Taller de cuina - La Sala
DESCRIPTION:Aquí teniu les activitats setmanals que es realitzaran a La Sala durant el 2n trimestre.
URL:https://espaijovegarcilaso.org/esdeveniments/taller-de-cuina-la-sala-4/
END:VEVENT
BEGIN:VEVENT
DTSTART;TZID=Europe/Paris:20220125T171500
DTEND;TZID=Europe/Paris:20220125T200000
DTSTAMP:20260422T032050
CREATED:20220116T144656Z
LAST-MODIFIED:20220116T144656Z
UID:18008-1643130900-1643140800@espaijovegarcilaso.org
SUMMARY:Taller de teatre - La Sala
DESCRIPTION:Aquí teniu les activitats setmanals que es realitzaran a La Sala durant el 2n trimestre.
URL:https://espaijovegarcilaso.org/esdeveniments/taller-de-teatre-la-sala-14/
END:VEVENT
BEGIN:VEVENT
DTSTART;TZID=Europe/Paris:20220124T180000
DTEND;TZID=Europe/Paris:20220124T200000
DTSTAMP:20260422T032050
CREATED:20211224T115556Z
LAST-MODIFIED:20211224T115556Z
UID:17899-1643047200-1643054400@espaijovegarcilaso.org
SUMMARY:Move it\, move it. Taller de mobilitat corporal
DESCRIPTION:Ja podeu consultar les activitats que es realitzaran al llarg d’aquest trimestre a la nova agenda d’hivern de l’Espai Jove Garcilaso! També podeu accedir al programa virtual escanejant el codi QR adjunt. \n  \nProgramació d’hivern – Espai Jove Garcilaso
URL:https://espaijovegarcilaso.org/esdeveniments/move-it-move-it-taller-de-mobilitat-corporal/
END:VEVENT
BEGIN:VEVENT
DTSTART;TZID=Europe/Paris:20220124T171500
DTEND;TZID=Europe/Paris:20220124T200000
DTSTAMP:20260422T032050
CREATED:20220116T143537Z
LAST-MODIFIED:20220116T143537Z
UID:17983-1643044500-1643054400@espaijovegarcilaso.org
SUMMARY:Cinefòrum - La Sala
DESCRIPTION:Aquí teniu les activitats setmanals que es realitzaran a La Sala durant el 2n trimestre.
URL:https://espaijovegarcilaso.org/esdeveniments/cineforum-la-sala-11/
END:VEVENT
BEGIN:VEVENT
DTSTART;TZID=Europe/Paris:20220121T200000
DTEND;TZID=Europe/Paris:20220121T220000
DTSTAMP:20260422T032050
CREATED:20220113T213110Z
LAST-MODIFIED:20220113T213110Z
UID:17942-1642795200-1642802400@espaijovegarcilaso.org
SUMMARY:Concert amb Anna Barrufet
DESCRIPTION:Amb una proposta íntima i propera\, la cantautora Anna Barrufet ens ofereix un concert de les seves cançons en format guitarra i veu. L’artista ens convida a buscar una complicitat honesta amb nosaltres mateixes i a través de la seva música posar al centre les emocions i les cures. \n 
URL:https://espaijovegarcilaso.org/esdeveniments/concert-amb-anna-barrufet-2/
END:VEVENT
BEGIN:VEVENT
DTSTART;TZID=Europe/Paris:20220121T171500
DTEND;TZID=Europe/Paris:20220121T200000
DTSTAMP:20260422T032050
CREATED:20220116T163741Z
LAST-MODIFIED:20220116T163741Z
UID:18079-1642785300-1642795200@espaijovegarcilaso.org
SUMMARY:Excursions i Circ - La Sala
DESCRIPTION:Aquí teniu les activitats setmanals que es realitzaran a La Sala durant el 2n trimestre.
URL:https://espaijovegarcilaso.org/esdeveniments/excursions-i-circ-la-sala-2/
END:VEVENT
BEGIN:VEVENT
DTSTART;TZID=Europe/Paris:20220120T200000
DTEND;TZID=Europe/Paris:20220120T220000
DTSTAMP:20260422T032050
CREATED:20211224T115519Z
LAST-MODIFIED:20220119T222051Z
UID:17897-1642708800-1642716000@espaijovegarcilaso.org
SUMMARY:Rinkonete - Folklóricas & Modernas
DESCRIPTION:El proper dijous 20 de gener a partir de les 20h gaudirem de concert a l’Espai Jove Garcilaso amb l’actuació de “Rinkonete”. \nUs hi esperem!
URL:https://espaijovegarcilaso.org/esdeveniments/folkloricas-modernas-2/
END:VEVENT
BEGIN:VEVENT
DTSTART;TZID=Europe/Paris:20220120T171500
DTEND;TZID=Europe/Paris:20220120T200000
DTSTAMP:20260422T032050
CREATED:20220116T151938Z
LAST-MODIFIED:20220116T151938Z
UID:18055-1642698900-1642708800@espaijovegarcilaso.org
SUMMARY:Autogestió - La Sala
DESCRIPTION:Aquí teniu les activitats setmanals que es realitzaran a La Sala durant el 2n trimestre.
URL:https://espaijovegarcilaso.org/esdeveniments/autogestio-la-sala-9/
END:VEVENT
BEGIN:VEVENT
DTSTART;TZID=Europe/Paris:20220119T171500
DTEND;TZID=Europe/Paris:20220119T200000
DTSTAMP:20260422T032050
CREATED:20220116T151306Z
LAST-MODIFIED:20220116T151306Z
UID:18031-1642612500-1642622400@espaijovegarcilaso.org
SUMMARY:Taller de cuina - La Sala
DESCRIPTION:Aquí teniu les activitats setmanals que es realitzaran a La Sala durant el 2n trimestre.
URL:https://espaijovegarcilaso.org/esdeveniments/taller-de-cuina-la-sala-3/
END:VEVENT
BEGIN:VEVENT
DTSTART;TZID=Europe/Paris:20220118T180000
DTEND;TZID=Europe/Paris:20220118T200000
DTSTAMP:20260422T032050
CREATED:20220116T142509Z
LAST-MODIFIED:20220116T142509Z
UID:17973-1642528800-1642536000@espaijovegarcilaso.org
SUMMARY:Preparació Túnel
DESCRIPTION:Comencem l’any a tope d’energia i amb noves activitats! \n🙋🏾🙋‍♀️🙋🏽‍♂️ Per apuntar-se a les activitats\, recorda que has de reservar plaça enviant-nos un whatsapp o un DM al nostre Instagram.
URL:https://espaijovegarcilaso.org/esdeveniments/preparacio-tunel/
END:VEVENT
BEGIN:VEVENT
DTSTART;TZID=Europe/Paris:20220118T171500
DTEND;TZID=Europe/Paris:20220118T200000
DTSTAMP:20260422T032050
CREATED:20220116T144617Z
LAST-MODIFIED:20220116T144617Z
UID:18006-1642526100-1642536000@espaijovegarcilaso.org
SUMMARY:Taller de teatre - La Sala
DESCRIPTION:Aquí teniu les activitats setmanals que es realitzaran a La Sala durant el 2n trimestre.
URL:https://espaijovegarcilaso.org/esdeveniments/taller-de-teatre-la-sala-13/
END:VEVENT
BEGIN:VEVENT
DTSTART;TZID=Europe/Paris:20220117T180000
DTEND;TZID=Europe/Paris:20220117T200000
DTSTAMP:20260422T032050
CREATED:20220116T142159Z
LAST-MODIFIED:20220208T213158Z
UID:17968-1642442400-1642449600@espaijovegarcilaso.org
SUMMARY:Cómeme el donut - Taller sobre sexualitat
DESCRIPTION:Comencem l’any a tope d’energia i amb noves activitats! \n🙋🏾🙋‍♀️🙋🏽‍♂️ Per apuntar-se a les activitats\, recorda que has de reservar plaça enviant-nos un whatsapp o un DM al nostre Instagram.
URL:https://espaijovegarcilaso.org/esdeveniments/comeme-el-donut-taller-sobre-sexulitat/
END:VEVENT
BEGIN:VEVENT
DTSTART;TZID=Europe/Paris:20220117T171500
DTEND;TZID=Europe/Paris:20220117T200000
DTSTAMP:20260422T032050
CREATED:20220116T143445Z
LAST-MODIFIED:20220116T143445Z
UID:17981-1642439700-1642449600@espaijovegarcilaso.org
SUMMARY:Cinefòrum - La Sala
DESCRIPTION:Aquí teniu les activitats setmanals que es realitzaran a La Sala durant el 2n trimestre.
URL:https://espaijovegarcilaso.org/esdeveniments/cineforum-la-sala-10/
END:VEVENT
BEGIN:VEVENT
DTSTART;TZID=Europe/Paris:20220114T200000
DTEND;TZID=Europe/Paris:20220114T220000
DTSTAMP:20260422T032050
CREATED:20211224T113819Z
LAST-MODIFIED:20220110T202231Z
UID:17867-1642190400-1642197600@espaijovegarcilaso.org
SUMMARY:Concert amb "The Great Toad"
DESCRIPTION:El proper divendres 14 de gener a partir de les 20h gaudirem de concert a l’Espai Jove Garcilaso amb l’actuació de “The Great Toad”. \nActivitat gratuïta! Aforament limitat. \nReserva d’entrades via whatsapp al 699 62 88 34. \nUs hi esperem!
URL:https://espaijovegarcilaso.org/esdeveniments/concert-amb-the-great-toad-01-2022/
END:VEVENT
END:VCALENDAR