BEGIN:VCALENDAR
VERSION:2.0
PRODID:-//Espai Jove Garcilaso - ECPv6.15.13//NONSGML v1.0//EN
CALSCALE:GREGORIAN
METHOD:PUBLISH
X-ORIGINAL-URL:https://espaijovegarcilaso.org
X-WR-CALDESC:Esdeveniments per Espai Jove Garcilaso
REFRESH-INTERVAL;VALUE=DURATION:PT1H
X-Robots-Tag:noindex
X-PUBLISHED-TTL:PT1H
BEGIN:VTIMEZONE
TZID:Europe/Paris
BEGIN:DAYLIGHT
TZOFFSETFROM:+0100
TZOFFSETTO:+0200
TZNAME:CEST
DTSTART:20200329T010000
END:DAYLIGHT
BEGIN:STANDARD
TZOFFSETFROM:+0200
TZOFFSETTO:+0100
TZNAME:CET
DTSTART:20201025T010000
END:STANDARD
BEGIN:DAYLIGHT
TZOFFSETFROM:+0100
TZOFFSETTO:+0200
TZNAME:CEST
DTSTART:20210328T010000
END:DAYLIGHT
BEGIN:STANDARD
TZOFFSETFROM:+0200
TZOFFSETTO:+0100
TZNAME:CET
DTSTART:20211031T010000
END:STANDARD
BEGIN:DAYLIGHT
TZOFFSETFROM:+0100
TZOFFSETTO:+0200
TZNAME:CEST
DTSTART:20220327T010000
END:DAYLIGHT
BEGIN:STANDARD
TZOFFSETFROM:+0200
TZOFFSETTO:+0100
TZNAME:CET
DTSTART:20221030T010000
END:STANDARD
BEGIN:DAYLIGHT
TZOFFSETFROM:+0100
TZOFFSETTO:+0200
TZNAME:CEST
DTSTART:20230326T010000
END:DAYLIGHT
BEGIN:STANDARD
TZOFFSETFROM:+0200
TZOFFSETTO:+0100
TZNAME:CET
DTSTART:20231029T010000
END:STANDARD
END:VTIMEZONE
BEGIN:VEVENT
DTSTART;TZID=Europe/Paris:20220119T171500
DTEND;TZID=Europe/Paris:20220119T200000
DTSTAMP:20260422T062816
CREATED:20220116T151306Z
LAST-MODIFIED:20220116T151306Z
UID:18031-1642612500-1642622400@espaijovegarcilaso.org
SUMMARY:Taller de cuina - La Sala
DESCRIPTION:Aquí teniu les activitats setmanals que es realitzaran a La Sala durant el 2n trimestre.
URL:https://espaijovegarcilaso.org/esdeveniments/taller-de-cuina-la-sala-3/
END:VEVENT
BEGIN:VEVENT
DTSTART;TZID=Europe/Paris:20220118T180000
DTEND;TZID=Europe/Paris:20220118T200000
DTSTAMP:20260422T062816
CREATED:20220116T142509Z
LAST-MODIFIED:20220116T142509Z
UID:17973-1642528800-1642536000@espaijovegarcilaso.org
SUMMARY:Preparació Túnel
DESCRIPTION:Comencem l’any a tope d’energia i amb noves activitats! \n🙋🏾🙋‍♀️🙋🏽‍♂️ Per apuntar-se a les activitats\, recorda que has de reservar plaça enviant-nos un whatsapp o un DM al nostre Instagram.
URL:https://espaijovegarcilaso.org/esdeveniments/preparacio-tunel/
END:VEVENT
BEGIN:VEVENT
DTSTART;TZID=Europe/Paris:20220118T171500
DTEND;TZID=Europe/Paris:20220118T200000
DTSTAMP:20260422T062816
CREATED:20220116T144617Z
LAST-MODIFIED:20220116T144617Z
UID:18006-1642526100-1642536000@espaijovegarcilaso.org
SUMMARY:Taller de teatre - La Sala
DESCRIPTION:Aquí teniu les activitats setmanals que es realitzaran a La Sala durant el 2n trimestre.
URL:https://espaijovegarcilaso.org/esdeveniments/taller-de-teatre-la-sala-13/
END:VEVENT
BEGIN:VEVENT
DTSTART;TZID=Europe/Paris:20220117T180000
DTEND;TZID=Europe/Paris:20220117T200000
DTSTAMP:20260422T062816
CREATED:20220116T142159Z
LAST-MODIFIED:20220208T213158Z
UID:17968-1642442400-1642449600@espaijovegarcilaso.org
SUMMARY:Cómeme el donut - Taller sobre sexualitat
DESCRIPTION:Comencem l’any a tope d’energia i amb noves activitats! \n🙋🏾🙋‍♀️🙋🏽‍♂️ Per apuntar-se a les activitats\, recorda que has de reservar plaça enviant-nos un whatsapp o un DM al nostre Instagram.
URL:https://espaijovegarcilaso.org/esdeveniments/comeme-el-donut-taller-sobre-sexulitat/
END:VEVENT
BEGIN:VEVENT
DTSTART;TZID=Europe/Paris:20220117T171500
DTEND;TZID=Europe/Paris:20220117T200000
DTSTAMP:20260422T062816
CREATED:20220116T143445Z
LAST-MODIFIED:20220116T143445Z
UID:17981-1642439700-1642449600@espaijovegarcilaso.org
SUMMARY:Cinefòrum - La Sala
DESCRIPTION:Aquí teniu les activitats setmanals que es realitzaran a La Sala durant el 2n trimestre.
URL:https://espaijovegarcilaso.org/esdeveniments/cineforum-la-sala-10/
END:VEVENT
BEGIN:VEVENT
DTSTART;TZID=Europe/Paris:20220114T200000
DTEND;TZID=Europe/Paris:20220114T220000
DTSTAMP:20260422T062816
CREATED:20211224T113819Z
LAST-MODIFIED:20220110T202231Z
UID:17867-1642190400-1642197600@espaijovegarcilaso.org
SUMMARY:Concert amb "The Great Toad"
DESCRIPTION:El proper divendres 14 de gener a partir de les 20h gaudirem de concert a l’Espai Jove Garcilaso amb l’actuació de “The Great Toad”. \nActivitat gratuïta! Aforament limitat. \nReserva d’entrades via whatsapp al 699 62 88 34. \nUs hi esperem!
URL:https://espaijovegarcilaso.org/esdeveniments/concert-amb-the-great-toad-01-2022/
END:VEVENT
BEGIN:VEVENT
DTSTART;TZID=Europe/Paris:20220114T171500
DTEND;TZID=Europe/Paris:20220114T200000
DTSTAMP:20260422T062816
CREATED:20220116T163702Z
LAST-MODIFIED:20220116T163702Z
UID:18077-1642180500-1642190400@espaijovegarcilaso.org
SUMMARY:Excursions i Circ - La Sala
DESCRIPTION:Aquí teniu les activitats setmanals que es realitzaran a La Sala durant el 2n trimestre.
URL:https://espaijovegarcilaso.org/esdeveniments/excursions-i-circ-la-sala/
END:VEVENT
BEGIN:VEVENT
DTSTART;TZID=Europe/Paris:20220113T190000
DTEND;TZID=Europe/Paris:20220113T210000
DTSTAMP:20260422T062816
CREATED:20211224T115351Z
LAST-MODIFIED:20211224T115351Z
UID:17893-1642100400-1642107600@espaijovegarcilaso.org
SUMMARY:Workshop musical
DESCRIPTION:Ja podeu consultar les activitats que es realitzaran al llarg d’aquest trimestre a la nova agenda d’hivern de l’Espai Jove Garcilaso! També podeu accedir al programa virtual escanejant el codi QR adjunt. \n  \nProgramació d’hivern – Espai Jove Garcilaso
URL:https://espaijovegarcilaso.org/esdeveniments/workshop-musical/
END:VEVENT
BEGIN:VEVENT
DTSTART;TZID=Europe/Paris:20220113T180000
DTEND;TZID=Europe/Paris:20220113T200000
DTSTAMP:20260422T062816
CREATED:20220116T142048Z
LAST-MODIFIED:20220116T142048Z
UID:17966-1642096800-1642104000@espaijovegarcilaso.org
SUMMARY:Move It\, Move It - Taller de K-pop
DESCRIPTION:Comencem l’any a tope d’energia i amb noves activitats! \n🙋🏾🙋‍♀️🙋🏽‍♂️ Per apuntar-se a les activitats\, recorda que has de reservar plaça enviant-nos un whatsapp o un DM al nostre Instagram.
URL:https://espaijovegarcilaso.org/esdeveniments/move-it-move-it-taller-de-k-pop/
END:VEVENT
BEGIN:VEVENT
DTSTART;TZID=Europe/Paris:20220113T171500
DTEND;TZID=Europe/Paris:20220113T200000
DTSTAMP:20260422T062816
CREATED:20220116T151909Z
LAST-MODIFIED:20220116T151909Z
UID:18053-1642094100-1642104000@espaijovegarcilaso.org
SUMMARY:Autogestió - La Sala
DESCRIPTION:Aquí teniu les activitats setmanals que es realitzaran a La Sala durant el 2n trimestre.
URL:https://espaijovegarcilaso.org/esdeveniments/autogestio-la-sala-8/
END:VEVENT
BEGIN:VEVENT
DTSTART;TZID=Europe/Paris:20220112T171500
DTEND;TZID=Europe/Paris:20220112T200000
DTSTAMP:20260422T062816
CREATED:20220116T151235Z
LAST-MODIFIED:20220116T151235Z
UID:18029-1642007700-1642017600@espaijovegarcilaso.org
SUMMARY:Taller de cuina - La Sala
DESCRIPTION:Aquí teniu les activitats setmanals que es realitzaran a La Sala durant el 2n trimestre.
URL:https://espaijovegarcilaso.org/esdeveniments/taller-de-cuina-la-sala-2/
END:VEVENT
BEGIN:VEVENT
DTSTART;TZID=Europe/Paris:20220111T171500
DTEND;TZID=Europe/Paris:20220111T200000
DTSTAMP:20260422T062816
CREATED:20220116T144526Z
LAST-MODIFIED:20220116T144541Z
UID:18003-1641921300-1641931200@espaijovegarcilaso.org
SUMMARY:Taller de teatre - La Sala
DESCRIPTION:Aquí teniu les activitats setmanals que es realitzaran a La Sala durant el 2n trimestre.
URL:https://espaijovegarcilaso.org/esdeveniments/taller-de-teatre-2/
END:VEVENT
BEGIN:VEVENT
DTSTART;TZID=Europe/Paris:20220110T180000
DTEND;TZID=Europe/Paris:20220110T200000
DTSTAMP:20260422T062816
CREATED:20211224T115304Z
LAST-MODIFIED:20211224T115304Z
UID:17890-1641837600-1641844800@espaijovegarcilaso.org
SUMMARY:MEME DAY. Taller de memes
DESCRIPTION:Ja podeu consultar les activitats que es realitzaran al llarg d’aquest trimestre a la nova agenda d’hivern de l’Espai Jove Garcilaso! També podeu accedir al programa virtual escanejant el codi QR adjunt. \n  \nProgramació d’hivern – Espai Jove Garcilaso
URL:https://espaijovegarcilaso.org/esdeveniments/meme-day-taller-de-memes/
END:VEVENT
BEGIN:VEVENT
DTSTART;TZID=Europe/Paris:20220110T171500
DTEND;TZID=Europe/Paris:20220110T200000
DTSTAMP:20260422T062816
CREATED:20220116T143408Z
LAST-MODIFIED:20220116T143408Z
UID:17979-1641834900-1641844800@espaijovegarcilaso.org
SUMMARY:Cinefòrum - La Sala
DESCRIPTION:Aquí teniu les activitats setmanals que es realitzaran a La Sala durant el 2n trimestre.
URL:https://espaijovegarcilaso.org/esdeveniments/cineforum-la-sala-9/
END:VEVENT
BEGIN:VEVENT
DTSTART;TZID=Europe/Paris:20220107T200000
DTEND;TZID=Europe/Paris:20220107T220000
DTSTAMP:20260422T062816
CREATED:20211224T113730Z
LAST-MODIFIED:20211228T223713Z
UID:17865-1641585600-1641592800@espaijovegarcilaso.org
SUMMARY:Concert amb "Cleanstring"
DESCRIPTION:El proper divendres 7 de gener a partir de les 20h gaudirem de concert a l’Espai Jove Garcilaso amb l’actuació de “Cleanstring”. \nActivitat gratuïta! Places limitades. \nConfirmació d’assistència via whatsapp al 699 62 88 34. \nUs hi esperem!
URL:https://espaijovegarcilaso.org/esdeveniments/concert-amb-cleanstring/
END:VEVENT
BEGIN:VEVENT
DTSTART;TZID=Europe/Paris:20211230T180000
DTEND;TZID=Europe/Paris:20211230T200000
DTSTAMP:20260422T062816
CREATED:20211102T162829Z
LAST-MODIFIED:20211212T164733Z
UID:17525-1640887200-1640894400@espaijovegarcilaso.org
SUMMARY:Festa de Cap d’Any
DESCRIPTION:Ho ho ho\, l’Intercanviador tancarà aquest any amb un munt d’activitats nadalenques i festives ⛄🎁🎄 \n🕑 Comença la recta final per dir adéu al 2021 i donar la benvinguda al 2022 🥳 \n🙋🏾🙋‍♀️🙋🏽‍♂️ Per apuntar-se a les activitats\, recorda que has de reservar plaça enviant-nos un whatsapp o un DM al nostre Instagram @intercanviadorjoves.
URL:https://espaijovegarcilaso.org/esdeveniments/festa-de-cap-dany-2021/
END:VEVENT
BEGIN:VEVENT
DTSTART;TZID=Europe/Paris:20211227T180000
DTEND;TZID=Europe/Paris:20211227T200000
DTSTAMP:20260422T062816
CREATED:20211212T164957Z
LAST-MODIFIED:20211212T164957Z
UID:17767-1640628000-1640635200@espaijovegarcilaso.org
SUMMARY:Crea el teu propi regal
DESCRIPTION:Ho ho ho\, l’Intercanviador tancarà aquest any amb un munt d’activitats nadalenques i festives ⛄🎁🎄 \n🕑 Comença la recta final per dir adéu al 2021 i donar la benvinguda al 2022 🥳 \n🙋🏾🙋‍♀️🙋🏽‍♂️ Per apuntar-se a les activitats\, recorda que has de reservar plaça enviant-nos un whatsapp o un DM al nostre Instagram @intercanviadorjoves.
URL:https://espaijovegarcilaso.org/esdeveniments/crea-el-teu-propi-regal/
END:VEVENT
BEGIN:VEVENT
DTSTART;TZID=Europe/Paris:20211223T190000
DTEND;TZID=Europe/Paris:20211223T210000
DTSTAMP:20260422T062816
CREATED:20211212T164833Z
LAST-MODIFIED:20211212T164833Z
UID:17764-1640286000-1640293200@espaijovegarcilaso.org
SUMMARY:Folklóricas & Modernas
DESCRIPTION:Ho ho ho\, l’Intercanviador tancarà aquest any amb un munt d’activitats nadalenques i festives ⛄🎁🎄 \n🕑 Comença la recta final per dir adéu al 2021 i donar la benvinguda al 2022 🥳 \n🙋🏾🙋‍♀️🙋🏽‍♂️ Per apuntar-se a les activitats\, recorda que has de reservar plaça enviant-nos un whatsapp o un DM al nostre Instagram @intercanviadorjoves.
URL:https://espaijovegarcilaso.org/esdeveniments/folkloricas-modernas/
END:VEVENT
BEGIN:VEVENT
DTSTART;TZID=Europe/Paris:20211222T171500
DTEND;TZID=Europe/Paris:20211222T200000
DTSTAMP:20260422T062816
CREATED:20211218T194732Z
LAST-MODIFIED:20211218T194732Z
UID:17787-1640193300-1640203200@espaijovegarcilaso.org
SUMMARY:Excursió Final - La Sala
DESCRIPTION:Aquí teniu les activitats setmanals que es realitzaran a La Sala durant la setmana del 20 al 24 de desembre.
URL:https://espaijovegarcilaso.org/esdeveniments/excursio-final-la-sala/
END:VEVENT
BEGIN:VEVENT
DTSTART;TZID=Europe/Paris:20211221T173000
DTEND;TZID=Europe/Paris:20211221T193000
DTSTAMP:20260422T062816
CREATED:20210923T110138Z
LAST-MODIFIED:20210923T110138Z
UID:17318-1640107800-1640115000@espaijovegarcilaso.org
SUMMARY:Fight Club
DESCRIPTION:És un taller sobre arts marcials enfocat a l’autoconeixement del cos\, autogestió emocional\, companyeris-me\, disciplina\, esforç i en estar en l’ “aquí i ara”. \nJoves de 12 a 20 anys. Gratuït.
URL:https://espaijovegarcilaso.org/esdeveniments/fight-club-8/
END:VEVENT
BEGIN:VEVENT
DTSTART;TZID=Europe/Paris:20211221T171500
DTEND;TZID=Europe/Paris:20211221T200000
DTSTAMP:20260422T062816
CREATED:20211218T194640Z
LAST-MODIFIED:20211218T194640Z
UID:17785-1640106900-1640116800@espaijovegarcilaso.org
SUMMARY:Festival Sales Joves Centre Cívic de Baró
DESCRIPTION:Aquí teniu les activitats setmanals que es realitzaran a La Sala durant la setmana del 20 al 24 de desembre.
URL:https://espaijovegarcilaso.org/esdeveniments/festival-sales-joves-centre-civic-de-baro/
END:VEVENT
BEGIN:VEVENT
DTSTART;TZID=Europe/Paris:20211220T171500
DTEND;TZID=Europe/Paris:20211220T200000
DTSTAMP:20260422T062816
CREATED:20211218T193431Z
LAST-MODIFIED:20211218T193431Z
UID:17783-1640020500-1640030400@espaijovegarcilaso.org
SUMMARY:Cinefòrum - La Sala
DESCRIPTION:Aquí teniu les activitats setmanals que es realitzaran a La Sala durant la setmana del 20 al 24 de desembre.
URL:https://espaijovegarcilaso.org/esdeveniments/cineforum-la-sala-8/
END:VEVENT
BEGIN:VEVENT
DTSTART;TZID=Europe/Paris:20211217T200000
DTEND;TZID=Europe/Paris:20211217T220000
DTSTAMP:20260422T062816
CREATED:20210923T171827Z
LAST-MODIFIED:20211214T204714Z
UID:17354-1639771200-1639778400@espaijovegarcilaso.org
SUMMARY:Concert de Thesecovers
DESCRIPTION:El proper divendres 17 de desembre a partir de les 20h gaudirem de concert a l’Espai Jove Garcilaso amb l’actuació de “Thesecoverss”. \nActivitat gratuïta! Places limitades. \nConfirmació d’assistència via whatsapp al 699 62 88 34. \nUs hi esperem!
URL:https://espaijovegarcilaso.org/esdeveniments/concert-de-thesecovers/
END:VEVENT
BEGIN:VEVENT
DTSTART;TZID=Europe/Paris:20211217T180000
DTEND;TZID=Europe/Paris:20211217T200000
DTSTAMP:20260422T062816
CREATED:20211102T162732Z
LAST-MODIFIED:20211214T204814Z
UID:17523-1639764000-1639771200@espaijovegarcilaso.org
SUMMARY:Festa de Nadal
DESCRIPTION:Us convidem a la Festa de Nadal de l’Espai Jove Garcilaso\, en la que es realitzaran les actuacions Garcilinks + Karaoke. Per a participar\, reserva plaça a l’Intercanviador enviant-nos un whatsapp o un DM al nostre Instagram @intercanviadorjoves.
URL:https://espaijovegarcilaso.org/esdeveniments/festa-de-nadal-2021/
END:VEVENT
BEGIN:VEVENT
DTSTART;TZID=Europe/Paris:20211216T171500
DTEND;TZID=Europe/Paris:20211216T200000
DTSTAMP:20260422T062816
CREATED:20211212T154347Z
LAST-MODIFIED:20211212T154347Z
UID:17755-1639674900-1639684800@espaijovegarcilaso.org
SUMMARY:Autogestió - La Sala
DESCRIPTION:Aquí teniu les activitats setmanals que es realitzaran a La Sala durant la setmana del 13 al 17 de desembre.
URL:https://espaijovegarcilaso.org/esdeveniments/autogestio-la-sala-7/
END:VEVENT
BEGIN:VEVENT
DTSTART;TZID=Europe/Paris:20211215T171500
DTEND;TZID=Europe/Paris:20211215T200000
DTSTAMP:20260422T062816
CREATED:20211212T154258Z
LAST-MODIFIED:20211212T154258Z
UID:17753-1639588500-1639598400@espaijovegarcilaso.org
SUMMARY:Taller de Malabars - La Sala
DESCRIPTION:Aquí teniu les activitats setmanals que es realitzaran a La Sala durant la setmana del 13 al 17 de desembre.
URL:https://espaijovegarcilaso.org/esdeveniments/taller-de-malabars-la-sala/
END:VEVENT
BEGIN:VEVENT
DTSTART;TZID=Europe/Paris:20211214T173000
DTEND;TZID=Europe/Paris:20211214T193000
DTSTAMP:20260422T062816
CREATED:20210923T110053Z
LAST-MODIFIED:20210923T110053Z
UID:17316-1639503000-1639510200@espaijovegarcilaso.org
SUMMARY:Fight Club
DESCRIPTION:És un taller sobre arts marcials enfocat a l’autoconeixement del cos\, autogestió emocional\, companyeris-me\, disciplina\, esforç i en estar en l’ “aquí i ara”. \nJoves de 12 a 20 anys. Gratuït.
URL:https://espaijovegarcilaso.org/esdeveniments/fight-club-7/
END:VEVENT
BEGIN:VEVENT
DTSTART;TZID=Europe/Paris:20211214T171500
DTEND;TZID=Europe/Paris:20211214T200000
DTSTAMP:20260422T062816
CREATED:20211212T154206Z
LAST-MODIFIED:20211212T154206Z
UID:17751-1639502100-1639512000@espaijovegarcilaso.org
SUMMARY:Taller de Teatre - La Sala
DESCRIPTION:Aquí teniu les activitats setmanals que es realitzaran a La Sala durant la setmana del 13 al 17 de desembre.
URL:https://espaijovegarcilaso.org/esdeveniments/taller-de-teatre-la-sala-12/
END:VEVENT
BEGIN:VEVENT
DTSTART;TZID=Europe/Paris:20211213T180000
DTEND;TZID=Europe/Paris:20211213T200000
DTSTAMP:20260422T062816
CREATED:20211212T163823Z
LAST-MODIFIED:20211212T164150Z
UID:17759-1639418400-1639425600@espaijovegarcilaso.org
SUMMARY:Interchef Nadalenc
DESCRIPTION:Ho ho ho\, l’Intercanviador tancarà aquest any amb un munt d’activitats nadalenques i festives ⛄🎁🎄 \n🕑 Comença la recta final per dir adéu al 2021 i donar la benvinguda al 2022 🥳 \n🙋🏾🙋‍♀️🙋🏽‍♂️ Per apuntar-se a les activitats\, recorda que has de reservar plaça enviant-nos un whatsapp o un DM al nostre Instagram @intercanviadorjoves.
URL:https://espaijovegarcilaso.org/esdeveniments/interchef-nadalenc/
END:VEVENT
BEGIN:VEVENT
DTSTART;TZID=Europe/Paris:20211213T171500
DTEND;TZID=Europe/Paris:20211213T200000
DTSTAMP:20260422T062816
CREATED:20211212T154121Z
LAST-MODIFIED:20211212T154121Z
UID:17749-1639415700-1639425600@espaijovegarcilaso.org
SUMMARY:Cinefòrum - La Sala
DESCRIPTION:Aquí teniu les activitats setmanals que es realitzaran a La Sala durant la setmana del 13 al 17 de desembre.
URL:https://espaijovegarcilaso.org/esdeveniments/cineforum-la-sala-7/
END:VEVENT
END:VCALENDAR