BEGIN:VCALENDAR
VERSION:2.0
PRODID:-//Espai Jove Garcilaso - ECPv6.15.13//NONSGML v1.0//EN
CALSCALE:GREGORIAN
METHOD:PUBLISH
X-WR-CALNAME:Espai Jove Garcilaso
X-ORIGINAL-URL:https://espaijovegarcilaso.org
X-WR-CALDESC:Esdeveniments per Espai Jove Garcilaso
REFRESH-INTERVAL;VALUE=DURATION:PT1H
X-Robots-Tag:noindex
X-PUBLISHED-TTL:PT1H
BEGIN:VTIMEZONE
TZID:Europe/Paris
BEGIN:DAYLIGHT
TZOFFSETFROM:+0100
TZOFFSETTO:+0200
TZNAME:CEST
DTSTART:20200329T010000
END:DAYLIGHT
BEGIN:STANDARD
TZOFFSETFROM:+0200
TZOFFSETTO:+0100
TZNAME:CET
DTSTART:20201025T010000
END:STANDARD
BEGIN:DAYLIGHT
TZOFFSETFROM:+0100
TZOFFSETTO:+0200
TZNAME:CEST
DTSTART:20210328T010000
END:DAYLIGHT
BEGIN:STANDARD
TZOFFSETFROM:+0200
TZOFFSETTO:+0100
TZNAME:CET
DTSTART:20211031T010000
END:STANDARD
BEGIN:DAYLIGHT
TZOFFSETFROM:+0100
TZOFFSETTO:+0200
TZNAME:CEST
DTSTART:20220327T010000
END:DAYLIGHT
BEGIN:STANDARD
TZOFFSETFROM:+0200
TZOFFSETTO:+0100
TZNAME:CET
DTSTART:20221030T010000
END:STANDARD
END:VTIMEZONE
BEGIN:VEVENT
DTSTART;TZID=Europe/Paris:20211216T171500
DTEND;TZID=Europe/Paris:20211216T200000
DTSTAMP:20260422T095036
CREATED:20211212T154347Z
LAST-MODIFIED:20211212T154347Z
UID:17755-1639674900-1639684800@espaijovegarcilaso.org
SUMMARY:Autogestió - La Sala
DESCRIPTION:Aquí teniu les activitats setmanals que es realitzaran a La Sala durant la setmana del 13 al 17 de desembre.
URL:https://espaijovegarcilaso.org/esdeveniments/autogestio-la-sala-7/
END:VEVENT
BEGIN:VEVENT
DTSTART;TZID=Europe/Paris:20211215T171500
DTEND;TZID=Europe/Paris:20211215T200000
DTSTAMP:20260422T095036
CREATED:20211212T154258Z
LAST-MODIFIED:20211212T154258Z
UID:17753-1639588500-1639598400@espaijovegarcilaso.org
SUMMARY:Taller de Malabars - La Sala
DESCRIPTION:Aquí teniu les activitats setmanals que es realitzaran a La Sala durant la setmana del 13 al 17 de desembre.
URL:https://espaijovegarcilaso.org/esdeveniments/taller-de-malabars-la-sala/
END:VEVENT
BEGIN:VEVENT
DTSTART;TZID=Europe/Paris:20211214T173000
DTEND;TZID=Europe/Paris:20211214T193000
DTSTAMP:20260422T095036
CREATED:20210923T110053Z
LAST-MODIFIED:20210923T110053Z
UID:17316-1639503000-1639510200@espaijovegarcilaso.org
SUMMARY:Fight Club
DESCRIPTION:És un taller sobre arts marcials enfocat a l’autoconeixement del cos\, autogestió emocional\, companyeris-me\, disciplina\, esforç i en estar en l’ “aquí i ara”. \nJoves de 12 a 20 anys. Gratuït.
URL:https://espaijovegarcilaso.org/esdeveniments/fight-club-7/
END:VEVENT
BEGIN:VEVENT
DTSTART;TZID=Europe/Paris:20211214T171500
DTEND;TZID=Europe/Paris:20211214T200000
DTSTAMP:20260422T095036
CREATED:20211212T154206Z
LAST-MODIFIED:20211212T154206Z
UID:17751-1639502100-1639512000@espaijovegarcilaso.org
SUMMARY:Taller de Teatre - La Sala
DESCRIPTION:Aquí teniu les activitats setmanals que es realitzaran a La Sala durant la setmana del 13 al 17 de desembre.
URL:https://espaijovegarcilaso.org/esdeveniments/taller-de-teatre-la-sala-12/
END:VEVENT
BEGIN:VEVENT
DTSTART;TZID=Europe/Paris:20211213T180000
DTEND;TZID=Europe/Paris:20211213T200000
DTSTAMP:20260422T095036
CREATED:20211212T163823Z
LAST-MODIFIED:20211212T164150Z
UID:17759-1639418400-1639425600@espaijovegarcilaso.org
SUMMARY:Interchef Nadalenc
DESCRIPTION:Ho ho ho\, l’Intercanviador tancarà aquest any amb un munt d’activitats nadalenques i festives ⛄🎁🎄 \n🕑 Comença la recta final per dir adéu al 2021 i donar la benvinguda al 2022 🥳 \n🙋🏾🙋‍♀️🙋🏽‍♂️ Per apuntar-se a les activitats\, recorda que has de reservar plaça enviant-nos un whatsapp o un DM al nostre Instagram @intercanviadorjoves.
URL:https://espaijovegarcilaso.org/esdeveniments/interchef-nadalenc/
END:VEVENT
BEGIN:VEVENT
DTSTART;TZID=Europe/Paris:20211213T171500
DTEND;TZID=Europe/Paris:20211213T200000
DTSTAMP:20260422T095036
CREATED:20211212T154121Z
LAST-MODIFIED:20211212T154121Z
UID:17749-1639415700-1639425600@espaijovegarcilaso.org
SUMMARY:Cinefòrum - La Sala
DESCRIPTION:Aquí teniu les activitats setmanals que es realitzaran a La Sala durant la setmana del 13 al 17 de desembre.
URL:https://espaijovegarcilaso.org/esdeveniments/cineforum-la-sala-7/
END:VEVENT
BEGIN:VEVENT
DTSTART;TZID=Europe/Paris:20211210T180000
DTEND;TZID=Europe/Paris:20211210T200000
DTSTAMP:20260422T095036
CREATED:20210923T170122Z
LAST-MODIFIED:20210923T170122Z
UID:17346-1639159200-1639166400@espaijovegarcilaso.org
SUMMARY:Més enllà del Trap
DESCRIPTION:L’últim divendres de cada mes duent a terme aquesta activitat musical\, conjuntament amb projecte musical i La Sala. Aquí podreu\, no només disfrutar d’un concert molt especial\, sinó també conèixer la trajectòria de l’artista i acostar-vos a aquesta persona fent-li preguntes i intercanviant experiències.
URL:https://espaijovegarcilaso.org/esdeveniments/mes-enlla-del-trap-4/
END:VEVENT
BEGIN:VEVENT
DTSTART;TZID=Europe/Paris:20211209T180000
DTEND;TZID=Europe/Paris:20211209T200000
DTSTAMP:20260422T095036
CREATED:20211102T162437Z
LAST-MODIFIED:20211102T162437Z
UID:17519-1639072800-1639080000@espaijovegarcilaso.org
SUMMARY:Gordofòbia
DESCRIPTION:Gordofòbia\, dijous 9 de desembre a les 18h. \n  \n\n  \nJa podeu consultar les activitats que es realitzaran al llarg del proper trimestre a la nova agenda de tardor de l’Espai Jove Garcilaso! També podeu accedir al programa virtual escanejant el codi QR adjunt. \n  \nProgramació de tardor – Espai Jove Garcilaso
URL:https://espaijovegarcilaso.org/esdeveniments/gordofobia/
END:VEVENT
BEGIN:VEVENT
DTSTART;TZID=Europe/Paris:20211203T171500
DTEND;TZID=Europe/Paris:20211203T200000
DTSTAMP:20260422T095036
CREATED:20211127T191855Z
LAST-MODIFIED:20211127T191855Z
UID:17703-1638551700-1638561600@espaijovegarcilaso.org
SUMMARY:Anem a veure l'espectacle: 3210 a la Barraca
DESCRIPTION:Aquí teniu les activitats setmanals que es realitzaran a La Sala durant la setmana del 29 de novembre al 3 de desembre.
URL:https://espaijovegarcilaso.org/esdeveniments/anem-a-veure-lespectacle-3210-a-la-barraca/
END:VEVENT
BEGIN:VEVENT
DTSTART;TZID=Europe/Paris:20211202T180000
DTEND;TZID=Europe/Paris:20211202T200000
DTSTAMP:20260422T095036
CREATED:20211102T162319Z
LAST-MODIFIED:20211102T162319Z
UID:17517-1638468000-1638475200@espaijovegarcilaso.org
SUMMARY:VIH- I.T.S.
DESCRIPTION:VIH- I.T.S.\, dijous 2 de desembre a les 18h. \n  \n\n  \nJa podeu consultar les activitats que es realitzaran al llarg del proper trimestre a la nova agenda de tardor de l’Espai Jove Garcilaso! També podeu accedir al programa virtual escanejant el codi QR adjunt. \n  \nProgramació de tardor – Espai Jove Garcilaso
URL:https://espaijovegarcilaso.org/esdeveniments/vih-i-t-s/
END:VEVENT
BEGIN:VEVENT
DTSTART;TZID=Europe/Paris:20211202T171500
DTEND;TZID=Europe/Paris:20211202T200000
DTSTAMP:20260422T095036
CREATED:20211127T191754Z
LAST-MODIFIED:20211127T191754Z
UID:17701-1638465300-1638475200@espaijovegarcilaso.org
SUMMARY:Autogestió - La Sala
DESCRIPTION:Aquí teniu les activitats setmanals que es realitzaran a La Sala durant la setmana del 29 de novembre al 3 de desembre.
URL:https://espaijovegarcilaso.org/esdeveniments/autogestio-la-sala-6/
END:VEVENT
BEGIN:VEVENT
DTSTART;TZID=Europe/Paris:20211201T171500
DTEND;TZID=Europe/Paris:20211201T200000
DTSTAMP:20260422T095036
CREATED:20211127T191717Z
LAST-MODIFIED:20211127T191717Z
UID:17699-1638378900-1638388800@espaijovegarcilaso.org
SUMMARY:Taller de cuina a Torre Sagrera
DESCRIPTION:Aquí teniu les activitats setmanals que es realitzaran a La Sala durant la setmana del 29 de novembre al 3 de desembre.
URL:https://espaijovegarcilaso.org/esdeveniments/taller-de-cuina-a-torre-sagrera/
END:VEVENT
BEGIN:VEVENT
DTSTART;TZID=Europe/Paris:20211130T173000
DTEND;TZID=Europe/Paris:20211130T193000
DTSTAMP:20260422T095036
CREATED:20210923T110246Z
LAST-MODIFIED:20210923T110246Z
UID:17322-1638293400-1638300600@espaijovegarcilaso.org
SUMMARY:Fight Club
DESCRIPTION:És un taller sobre arts marcials enfocat a l’autoconeixement del cos\, autogestió emocional\, companyeris-me\, disciplina\, esforç i en estar en l’ “aquí i ara”. \nJoves de 12 a 20 anys. Gratuït.
URL:https://espaijovegarcilaso.org/esdeveniments/fight-club-10/
END:VEVENT
BEGIN:VEVENT
DTSTART;TZID=Europe/Paris:20211130T171500
DTEND;TZID=Europe/Paris:20211130T200000
DTSTAMP:20260422T095036
CREATED:20211127T191631Z
LAST-MODIFIED:20211127T191631Z
UID:17697-1638292500-1638302400@espaijovegarcilaso.org
SUMMARY:Teatrefòrum: Sortint del mirall
DESCRIPTION:Aquí teniu les activitats setmanals que es realitzaran a La Sala durant la setmana del 29 de novembre al 3 de desembre.
URL:https://espaijovegarcilaso.org/esdeveniments/teatreforum-sortint-del-mirall-6/
END:VEVENT
BEGIN:VEVENT
DTSTART;TZID=Europe/Paris:20211129T180000
DTEND;TZID=Europe/Paris:20211129T200000
DTSTAMP:20260422T095036
CREATED:20211108T102120Z
LAST-MODIFIED:20211108T102120Z
UID:17553-1638208800-1638216000@espaijovegarcilaso.org
SUMMARY:Taller Boxa
DESCRIPTION:Ja és Novembre i l’Intercanviador ve amb moltíssima força i carregat d’activitats en clau feminista!!!  \nSi t’agrada la costura dilluns 8\, tenim un taller de compreses per a totes aquelles persones menstruals a les 17:30 i el dilluns 22 farem un taller de caputxes feministes  \n Activa el teu esperit crític amb les nostres activitats en clau feminista\, vine el 25N a crear un rap sobre les violències masclistes  \nAquestes i moltes més activitats us esperen aquest Novembre\, a què esperes per apuntar-te? \n Per apuntar-se a les activitats\, recorda que has de reservar plaça enviant-nos un whatsapp o un DM al nostre Instagram.
URL:https://espaijovegarcilaso.org/esdeveniments/taller-boxa/
END:VEVENT
BEGIN:VEVENT
DTSTART;TZID=Europe/Paris:20211129T171500
DTEND;TZID=Europe/Paris:20211129T200000
DTSTAMP:20260422T095036
CREATED:20211127T191535Z
LAST-MODIFIED:20211127T191535Z
UID:17695-1638206100-1638216000@espaijovegarcilaso.org
SUMMARY:Reflexió i Crispetes - La Sala
DESCRIPTION:Aquí teniu les activitats setmanals que es realitzaran a La Sala durant la setmana del 29 de novembre al 3 de desembre.
URL:https://espaijovegarcilaso.org/esdeveniments/reflexio-i-crispetes-la-sala-4/
END:VEVENT
BEGIN:VEVENT
DTSTART;TZID=Europe/Paris:20211126T200000
DTEND;TZID=Europe/Paris:20211126T220000
DTSTAMP:20260422T095036
CREATED:20210827T155327Z
LAST-MODIFIED:20211124T125016Z
UID:17015-1637956800-1637964000@espaijovegarcilaso.org
SUMMARY:Final Concurs de Música Acústica 2021
DESCRIPTION:CONCURS DE MÚSICA ACÚSTICA 2021 \nAquest divendres 26 des de les 20h veniu a gaudir de la música en directe de les quatre propostes finalistes del concurs de música Acústica d’aquesta edició. Ho passarem bé amb Jester\, Oaks&Fahia\, Elle Leon i Leite & la Orquesta Resiliente. \n  \nJESTER \n\n\n\n	\n		\n\n			\n		\n\n		\n		\n\n			\n		\n\n		\n		\n\n			\n		\n\n		\n		\n\n			\n		\n\n		\n		\n\n			\n		\n\n		\n		\n\n			\n		\n\n		\n\n\n\n  \nOAKS & FAHIA \n\n\n\n	\n		\n\n			\n		\n\n		\n		\n\n			\n		\n\n		\n		\n\n			\n		\n\n		\n		\n\n			\n		\n\n		\n		\n\n			\n		\n\n		\n		\n\n			\n		\n\n		\n\n\n\n  \nELLE LEON \n\n\n\n	\n		\n\n			\n		\n\n		\n		\n\n			\n		\n\n		\n		\n\n			\n		\n\n		\n		\n\n			\n		\n\n		\n\n\n\n  \nLEITE & LA ORQUESTA RESILIENTE \n\n\n\n	\n		\n\n			\n		\n\n		\n		\n\n			\n		\n\n		\n		\n\n			\n		\n\n		\n		\n\n			\n		\n\n		\n		\n\n			\n		\n\n		\n		\n\n			\n		\n\n		\n\n\n\n 
URL:https://espaijovegarcilaso.org/esdeveniments/final-concurs-de-musica-acustica-2021/
END:VEVENT
BEGIN:VEVENT
DTSTART;TZID=Europe/Paris:20211126T171500
DTEND;TZID=Europe/Paris:20211126T200000
DTSTAMP:20260422T095036
CREATED:20211119T190327Z
LAST-MODIFIED:20211119T190327Z
UID:17614-1637946900-1637956800@espaijovegarcilaso.org
SUMMARY:Excursió en relació al 25N - La Sala
DESCRIPTION:Aquí teniu les activitats setmanals que es realitzaran a La Sala durant la setmana del 22 al 26 de novembre.
URL:https://espaijovegarcilaso.org/esdeveniments/excursio-en-relacio-al-25n-la-sala/
END:VEVENT
BEGIN:VEVENT
DTSTART;VALUE=DATE:20211126
DTEND;VALUE=DATE:20211127
DTSTAMP:20260422T095036
CREATED:20210923T165022Z
LAST-MODIFIED:20210923T165022Z
UID:17337-1637884800-1637971199@espaijovegarcilaso.org
SUMMARY:Activitat a les Festes de la Sagrera
DESCRIPTION:Activitat a les Festes de la Sagrera. Divendres 26 de novembre\, organitzat pel Servei de Dinamització Juvenil. \n  \n\n  \nJa podeu consultar les activitats que es realitzaran al llarg del proper trimestre a la nova agenda de tardor de l’Espai Jove Garcilaso! També podeu accedir al programa virtual escanejant el codi QR adjunt. \n  \nProgramació de tardor – Espai Jove Garcilaso
URL:https://espaijovegarcilaso.org/esdeveniments/activitat-a-les-festes-de-la-sagrera/
END:VEVENT
BEGIN:VEVENT
DTSTART;TZID=Europe/Paris:20211125T200000
DTEND;TZID=Europe/Paris:20211125T220000
DTSTAMP:20260422T095036
CREATED:20211118T151549Z
LAST-MODIFIED:20211118T151549Z
UID:17600-1637870400-1637877600@espaijovegarcilaso.org
SUMMARY:Clínic de guitarra elèctrica amb Javier Vargas
DESCRIPTION:El proper dijous 25 de novembre a les 20:00h\, clínic de guitarra elèctrica amb Javier Vargas a l’Espai Jove Garcilaso. \nEntrada gratuïta amb reserva prèvia. \nUs esperem!
URL:https://espaijovegarcilaso.org/esdeveniments/clinic-de-guitarra-electrica-amb-javier-vargas/
END:VEVENT
BEGIN:VEVENT
DTSTART;TZID=Europe/Paris:20211125T190000
DTEND;TZID=Europe/Paris:20211125T210000
DTSTAMP:20260422T095036
CREATED:20211102T115510Z
LAST-MODIFIED:20211102T115510Z
UID:17515-1637866800-1637874000@espaijovegarcilaso.org
SUMMARY:Acció conjunta Xarxa jove per les No violències vers les dones
DESCRIPTION:Acció conjunta Xarxa jove per les No violències vers les dones\, dijous 25 de novembre a les 19h\, organitzat pel Servei de Dinamització Juvenil. \n  \n\n  \nJa podeu consultar les activitats que es realitzaran al llarg del proper trimestre a la nova agenda de tardor de l’Espai Jove Garcilaso! També podeu accedir al programa virtual escanejant el codi QR adjunt. \n  \nProgramació de tardor – Espai Jove Garcilaso
URL:https://espaijovegarcilaso.org/esdeveniments/accio-conjunta-xarxa-jove-per-les-no-violencies-vers-les-dones/
END:VEVENT
BEGIN:VEVENT
DTSTART;TZID=Europe/Paris:20211125T180000
DTEND;TZID=Europe/Paris:20211125T200000
DTSTAMP:20260422T095036
CREATED:20211108T101453Z
LAST-MODIFIED:20211108T101453Z
UID:17551-1637863200-1637870400@espaijovegarcilaso.org
SUMMARY:Taller Rap contra les violències masclistes
DESCRIPTION:Ja és Novembre i l’Intercanviador ve amb moltíssima força i carregat d’activitats en clau feminista!!!  \nSi t’agrada la costura dilluns 8\, tenim un taller de compreses per a totes aquelles persones menstruals a les 17:30 i el dilluns 22 farem un taller de caputxes feministes  \n Activa el teu esperit crític amb les nostres activitats en clau feminista\, vine el 25N a crear un rap sobre les violències masclistes  \nAquestes i moltes més activitats us esperen aquest Novembre\, a què esperes per apuntar-te? \n Per apuntar-se a les activitats\, recorda que has de reservar plaça enviant-nos un whatsapp o un DM al nostre Instagram.
URL:https://espaijovegarcilaso.org/esdeveniments/taller-rap-contra-les-violencies-masclistes/
END:VEVENT
BEGIN:VEVENT
DTSTART;TZID=Europe/Paris:20211125T171500
DTEND;TZID=Europe/Paris:20211125T200000
DTSTAMP:20260422T095036
CREATED:20211119T190230Z
LAST-MODIFIED:20211119T190230Z
UID:17612-1637860500-1637870400@espaijovegarcilaso.org
SUMMARY:Dia en contra les violències de gènere a Can Clariana
DESCRIPTION:Aquí teniu les activitats setmanals que es realitzaran a La Sala durant la setmana del 22 al 26 de novembre.
URL:https://espaijovegarcilaso.org/esdeveniments/dia-en-contra-les-violencies-de-genere-a-can-clariana/
END:VEVENT
BEGIN:VEVENT
DTSTART;TZID=Europe/Paris:20211124T171500
DTEND;TZID=Europe/Paris:20211124T200000
DTSTAMP:20260422T095036
CREATED:20211119T190035Z
LAST-MODIFIED:20211119T190035Z
UID:17610-1637774100-1637784000@espaijovegarcilaso.org
SUMMARY:Taller de circ - La Sala
DESCRIPTION:Aquí teniu les activitats setmanals que es realitzaran a La Sala durant la setmana del 22 al 26 de novembre.
URL:https://espaijovegarcilaso.org/esdeveniments/taller-de-circ-la-sala/
END:VEVENT
BEGIN:VEVENT
DTSTART;TZID=Europe/Paris:20211123T173000
DTEND;TZID=Europe/Paris:20211123T193000
DTSTAMP:20260422T095036
CREATED:20210923T110211Z
LAST-MODIFIED:20210923T110211Z
UID:17320-1637688600-1637695800@espaijovegarcilaso.org
SUMMARY:Fight Club
DESCRIPTION:És un taller sobre arts marcials enfocat a l’autoconeixement del cos\, autogestió emocional\, companyeris-me\, disciplina\, esforç i en estar en l’ “aquí i ara”. \nJoves de 12 a 20 anys. Gratuït.
URL:https://espaijovegarcilaso.org/esdeveniments/fight-club-9/
END:VEVENT
BEGIN:VEVENT
DTSTART;TZID=Europe/Paris:20211123T171500
DTEND;TZID=Europe/Paris:20211123T200000
DTSTAMP:20260422T095036
CREATED:20211119T185954Z
LAST-MODIFIED:20211119T185954Z
UID:17608-1637687700-1637697600@espaijovegarcilaso.org
SUMMARY:Taller de teatre - La Sala
DESCRIPTION:Aquí teniu les activitats setmanals que es realitzaran a La Sala durant la setmana del 22 al 26 de novembre.
URL:https://espaijovegarcilaso.org/esdeveniments/taller-de-teatre-la-sala-11/
END:VEVENT
BEGIN:VEVENT
DTSTART;TZID=Europe/Paris:20211122T180000
DTEND;TZID=Europe/Paris:20211122T200000
DTSTAMP:20260422T095036
CREATED:20211102T114815Z
LAST-MODIFIED:20211108T095902Z
UID:17510-1637604000-1637611200@espaijovegarcilaso.org
SUMMARY:Renova la Roba – Caputxes feministes
DESCRIPTION:Ja és Novembre i l’Intercanviador ve amb moltíssima força i carregat d’activitats en clau feminista!!!  \nSi t’agrada la costura dilluns 8\, tenim un taller de compreses per a totes aquelles persones menstruals a les 17:30 i el dilluns 22 farem un taller de caputxes feministes  \n Activa el teu esperit crític amb les nostres activitats en clau feminista\, vine el 25N a crear un rap sobre les violències masclistes  \nAquestes i moltes més activitats us esperen aquest Novembre\, a què esperes per apuntar-te? \n Per apuntar-se a les activitats\, recorda que has de reservar plaça enviant-nos un whatsapp o un DM al nostre Instagram.
URL:https://espaijovegarcilaso.org/esdeveniments/renova-la-roba-caputxes/
END:VEVENT
BEGIN:VEVENT
DTSTART;TZID=Europe/Paris:20211122T171500
DTEND;TZID=Europe/Paris:20211122T200000
DTSTAMP:20260422T095036
CREATED:20211119T185754Z
LAST-MODIFIED:20211119T185754Z
UID:17606-1637601300-1637611200@espaijovegarcilaso.org
SUMMARY:Chill i Crispetes - La Sala
DESCRIPTION:Aquí teniu les activitats setmanals que es realitzaran a La Sala durant la setmana del 22 al 26 de novembre.
URL:https://espaijovegarcilaso.org/esdeveniments/chill-i-crispetes-la-sala/
END:VEVENT
BEGIN:VEVENT
DTSTART;TZID=Europe/Paris:20211120T200000
DTEND;TZID=Europe/Paris:20211120T220000
DTSTAMP:20260422T095036
CREATED:20210827T155221Z
LAST-MODIFIED:20211116T103439Z
UID:17013-1637438400-1637445600@espaijovegarcilaso.org
SUMMARY:Semifinals Concurs de Música Acústica 2021
DESCRIPTION:CONCURS DE MÚSICA ACÚSTICA 2021 \nSemifinals: 19 i 20 de novembre a les 20:00h \nAquest cap de setmana iniciem la 23ena edició del Concurs de Música Acústica 2021. \nDivendres 19 i dissabte 20 de novembre celebrarem les semifinals. \nD’aquestes en sortiran les formacions finalistes per a la final del pròxim divendres 26 de novembre. \nUs esperem\, salut i música!
URL:https://espaijovegarcilaso.org/esdeveniments/semifinals-concurs-de-musica-acustica-2021-2/
END:VEVENT
BEGIN:VEVENT
DTSTART;TZID=Europe/Paris:20211119T200000
DTEND;TZID=Europe/Paris:20211119T220000
DTSTAMP:20260422T095036
CREATED:20210827T155116Z
LAST-MODIFIED:20211116T103359Z
UID:17011-1637352000-1637359200@espaijovegarcilaso.org
SUMMARY:Semifinals Concurs de Música Acústica 2021
DESCRIPTION:CONCURS DE MÚSICA ACÚSTICA 2021 \nSemifinals: 19 i 20 de novembre a les 20:00h \nAquest cap de setmana iniciem la 23ena edició del Concurs de Música Acústica 2021. \nDivendres 19 i dissabte 20 de novembre celebrarem les semifinals. \nD’aquestes en sortiran les formacions finalistes per a la final del pròxim divendres 26 de novembre. \nUs esperem\, salut i música!
URL:https://espaijovegarcilaso.org/esdeveniments/semifinals-concurs-de-musica-acustica-2021/
END:VEVENT
END:VCALENDAR