BEGIN:VCALENDAR
VERSION:2.0
PRODID:-//Espai Jove Garcilaso - ECPv6.15.13//NONSGML v1.0//EN
CALSCALE:GREGORIAN
METHOD:PUBLISH
X-WR-CALNAME:Espai Jove Garcilaso
X-ORIGINAL-URL:https://espaijovegarcilaso.org
X-WR-CALDESC:Esdeveniments per Espai Jove Garcilaso
REFRESH-INTERVAL;VALUE=DURATION:PT1H
X-Robots-Tag:noindex
X-PUBLISHED-TTL:PT1H
BEGIN:VTIMEZONE
TZID:Europe/Paris
BEGIN:DAYLIGHT
TZOFFSETFROM:+0100
TZOFFSETTO:+0200
TZNAME:CEST
DTSTART:20200329T010000
END:DAYLIGHT
BEGIN:STANDARD
TZOFFSETFROM:+0200
TZOFFSETTO:+0100
TZNAME:CET
DTSTART:20201025T010000
END:STANDARD
BEGIN:DAYLIGHT
TZOFFSETFROM:+0100
TZOFFSETTO:+0200
TZNAME:CEST
DTSTART:20210328T010000
END:DAYLIGHT
BEGIN:STANDARD
TZOFFSETFROM:+0200
TZOFFSETTO:+0100
TZNAME:CET
DTSTART:20211031T010000
END:STANDARD
BEGIN:DAYLIGHT
TZOFFSETFROM:+0100
TZOFFSETTO:+0200
TZNAME:CEST
DTSTART:20220327T010000
END:DAYLIGHT
BEGIN:STANDARD
TZOFFSETFROM:+0200
TZOFFSETTO:+0100
TZNAME:CET
DTSTART:20221030T010000
END:STANDARD
END:VTIMEZONE
BEGIN:VEVENT
DTSTART;TZID=Europe/Paris:20211108T173000
DTEND;TZID=Europe/Paris:20211108T193000
DTSTAMP:20260424T152039
CREATED:20211102T114513Z
LAST-MODIFIED:20211108T095720Z
UID:17506-1636392600-1636399800@espaijovegarcilaso.org
SUMMARY:Renova la roba – Compreses de tela
DESCRIPTION:Ja és Novembre i l’Intercanviador ve amb moltíssima força i carregat d’activitats en clau feminista!!!  \nSi t’agrada la costura dilluns 8\, tenim un taller de compreses per a totes aquelles persones menstruals a les 17:30 i el dilluns 22 farem un taller de caputxes feministes  \n Activa el teu esperit crític amb les nostres activitats en clau feminista\, vine el 25N a crear un rap sobre les violències masclistes  \nAquestes i moltes més activitats us esperen aquest Novembre\, a què esperes per apuntar-te? \n Per apuntar-se a les activitats\, recorda que has de reservar plaça enviant-nos un whatsapp o un DM al nostre Instagram.
URL:https://espaijovegarcilaso.org/esdeveniments/renova-la-roba-compreses-de-tela/
END:VEVENT
BEGIN:VEVENT
DTSTART;TZID=Europe/Paris:20211108T171500
DTEND;TZID=Europe/Paris:20211108T200000
DTSTAMP:20260424T152039
CREATED:20211111T135434Z
LAST-MODIFIED:20211111T135434Z
UID:17559-1636391700-1636401600@espaijovegarcilaso.org
SUMMARY:Reflexió i Crispetes - La Sala
DESCRIPTION:Aquí teniu les activitats setmanals que es realitzaran a La Sala durant la setmana del 8 al 12 de novembre.
URL:https://espaijovegarcilaso.org/esdeveniments/reflexio-i-crispetes-la-sala-3/
END:VEVENT
BEGIN:VEVENT
DTSTART;TZID=Europe/Paris:20211105T200000
DTEND;TZID=Europe/Paris:20211105T220000
DTSTAMP:20260424T152039
CREATED:20210923T171735Z
LAST-MODIFIED:20210923T171735Z
UID:17352-1636142400-1636149600@espaijovegarcilaso.org
SUMMARY:Concert
DESCRIPTION:Concert\, divendres 5 de novembre a les 20h. \n  \n\n  \nJa podeu consultar les activitats que es realitzaran al llarg del proper trimestre a la nova agenda de tardor de l’Espai Jove Garcilaso! També podeu accedir al programa virtual escanejant el codi QR adjunt. \n  \nProgramació de tardor – Espai Jove Garcilaso
URL:https://espaijovegarcilaso.org/esdeveniments/concert-3/
END:VEVENT
BEGIN:VEVENT
DTSTART;TZID=Europe/Paris:20211105T171500
DTEND;TZID=Europe/Paris:20211105T200000
DTSTAMP:20260424T152039
CREATED:20211102T114102Z
LAST-MODIFIED:20211102T114102Z
UID:17504-1636132500-1636142400@espaijovegarcilaso.org
SUMMARY:Excursió al Laberint d'Horta
DESCRIPTION:Aquí teniu les activitats setmanals que es realitzaran a La Sala durant la setmana de l’1 al 5 de novembre.
URL:https://espaijovegarcilaso.org/esdeveniments/excursio-al-laberint-dhorta/
END:VEVENT
BEGIN:VEVENT
DTSTART;TZID=Europe/Paris:20211104T171500
DTEND;TZID=Europe/Paris:20211104T200000
DTSTAMP:20260424T152039
CREATED:20211102T114022Z
LAST-MODIFIED:20211102T114022Z
UID:17502-1636046100-1636056000@espaijovegarcilaso.org
SUMMARY:Autogestió - La Sala
DESCRIPTION:Aquí teniu les activitats setmanals que es realitzaran a La Sala durant la setmana de l’1 al 5 de novembre.
URL:https://espaijovegarcilaso.org/esdeveniments/autogestio-la-sala-4/
END:VEVENT
BEGIN:VEVENT
DTSTART;TZID=Europe/Paris:20211103T171500
DTEND;TZID=Europe/Paris:20211103T200000
DTSTAMP:20260424T152039
CREATED:20211102T113932Z
LAST-MODIFIED:20211102T113932Z
UID:17500-1635959700-1635969600@espaijovegarcilaso.org
SUMMARY:Taller de circ social - La Sala
DESCRIPTION:Aquí teniu les activitats setmanals que es realitzaran a La Sala durant la setmana de l’1 al 5 de novembre.
URL:https://espaijovegarcilaso.org/esdeveniments/taller-de-circ-social-la-sala/
END:VEVENT
BEGIN:VEVENT
DTSTART;TZID=Europe/Paris:20211102T200000
DTEND;TZID=Europe/Paris:20211102T213000
DTSTAMP:20260424T152039
CREATED:20211026T090056Z
LAST-MODIFIED:20211026T090056Z
UID:17485-1635883200-1635888600@espaijovegarcilaso.org
SUMMARY:Taller Body Percussion pel Dia en contra de la violència masclista
DESCRIPTION:Aquest any s’acompanyarà la lectura del manifest pel Dia Internacional per a l’eliminació de la violència envers les dones amb una performance de body percussion. \nSi ets dona i tens ganes de formar part d’aquesta acció\, apunta’t al taller del 2 i 16 de novembre de 20 a 21.30h \nEl 19 de novembre de 18 a 20h sortirem a Jardins d’Elx on també es farà la lectura del manifest. \nL’activitat és gratuïta però cal inscripció prèvia! Et pots inscriure amb el següent formulari:\n  \n\n\n  \n\n\n\nNom:\n\n \nCognoms:\n\n \nData de naixement:\n\n \nTelèfon de contacte:\n\n \n \n \nDe conformitat amb el GDPR 2016/679 de 27 d’abril i amb la Llei Orgànica 15/1999\, de 13 de desembre\, de Protecció de Dades de Caràcter Personal\, l’informem que\, havent signat l’autoritzció\, les seves dades personals s’incorporaran en un fitxer automatitzat del qual és titular el Centre Garcilaso de l’Ajuntament de Barcelona\, Districte de Sant Andreu. Aquest fitxer té com a finalitat gestionar la seva relació amb el centre i mantenir-lo informat dels serveis que ofereix. Les seves dades no seran cedides a cap altra entitat. Consenteix expressament en el tractament de les seves dades per la finalitat indicada. Finalment\, l’informem que podreu exercitar en qualsevol moment els drets d’accés\, rectificació\, cancel·lació i oposició en els termes establerts en la legislació vigent sobre protecció de dades\, adreçant-vos per escrit al Registre General de l’Ajuntament: Pl. San Miquel 5-6\, 08002 Barcelona\, indicant clarament en l’assumpte Exercici de Dret.\n \n\n Δ
URL:https://espaijovegarcilaso.org/esdeveniments/taller-body-percussion-pel-dia-en-contra-de-la-violencia-masclista/
END:VEVENT
BEGIN:VEVENT
DTSTART;TZID=Europe/Paris:20211102T173000
DTEND;TZID=Europe/Paris:20211102T193000
DTSTAMP:20260424T152039
CREATED:20210923T101621Z
LAST-MODIFIED:20210923T101621Z
UID:17310-1635874200-1635881400@espaijovegarcilaso.org
SUMMARY:Fight Club
DESCRIPTION:És un taller sobre arts marcials enfocat a l’autoconeixement del cos\, autogestió emocional\, companyeris-me\, disciplina\, esforç i en estar en l’ “aquí i ara”. \nJoves de 12 a 20 anys. Gratuït.
URL:https://espaijovegarcilaso.org/esdeveniments/fight-club-4/
END:VEVENT
BEGIN:VEVENT
DTSTART;TZID=Europe/Paris:20211102T171500
DTEND;TZID=Europe/Paris:20211102T200000
DTSTAMP:20260424T152039
CREATED:20211102T113855Z
LAST-MODIFIED:20211102T113855Z
UID:17498-1635873300-1635883200@espaijovegarcilaso.org
SUMMARY:Taller de teatre - La Sala
DESCRIPTION:Aquí teniu les activitats setmanals que es realitzaran a La Sala durant la setmana de l’1 al 5 de novembre.
URL:https://espaijovegarcilaso.org/esdeveniments/taller-de-teatre-la-sala-8/
END:VEVENT
BEGIN:VEVENT
DTSTART;TZID=Europe/Paris:20211029T200000
DTEND;TZID=Europe/Paris:20211029T220000
DTSTAMP:20260424T152039
CREATED:20210923T171512Z
LAST-MODIFIED:20210923T171512Z
UID:17350-1635537600-1635544800@espaijovegarcilaso.org
SUMMARY:Concert
DESCRIPTION:Concert\, divendres 29 d’octubre a les 20h. \n  \n\n  \nJa podeu consultar les activitats que es realitzaran al llarg del proper trimestre a la nova agenda de tardor de l’Espai Jove Garcilaso! També podeu accedir al programa virtual escanejant el codi QR adjunt. \n  \nProgramació de tardor – Espai Jove Garcilaso
URL:https://espaijovegarcilaso.org/esdeveniments/concert-2/
END:VEVENT
BEGIN:VEVENT
DTSTART;TZID=Europe/Paris:20211029T190000
DTEND;TZID=Europe/Paris:20211029T210000
DTSTAMP:20260424T152039
CREATED:20211019T183325Z
LAST-MODIFIED:20211019T183549Z
UID:17465-1635534000-1635541200@espaijovegarcilaso.org
SUMMARY:Festa de Disfresses
DESCRIPTION:Tens pla per a aquest 29 d’octubre a les 19.00? En l’intercanviador jove t’oferim el millor pla per a aquest halloween\, una festa de disfresses amb @dj_baybot punxant\, concurs de disfresses amb premis diversos. \n🙋🏾🙋🙋🏽 Per apuntar-se a les activitats\, Recorda que has de reservar plaça enviant-nos un WhatsApp o un DM al nostre Instagram. \n❗️ PER ASISTIR CAL EL CERTIFICAT COVID❗️
URL:https://espaijovegarcilaso.org/esdeveniments/festa-de-disfresses/
END:VEVENT
BEGIN:VEVENT
DTSTART;TZID=Europe/Paris:20211028T180000
DTEND;TZID=Europe/Paris:20211028T200000
DTSTAMP:20260424T152039
CREATED:20211009T101405Z
LAST-MODIFIED:20211009T101405Z
UID:17417-1635444000-1635451200@espaijovegarcilaso.org
SUMMARY:Historias para no dormir
DESCRIPTION:Si t’agrada passar por o fer-ho passar terroríficament\, aquesta és la teva activitat! A l’Intercanviador et proposem venir el proper 28 d’octubre a participar en “historias para no dormir”\, una activitat en la qual es posaran en comú experiències paranormals viscudes. Vine a compartir les teves històries més esgarrifoses!
URL:https://espaijovegarcilaso.org/esdeveniments/historias-para-no-dormir/
END:VEVENT
BEGIN:VEVENT
DTSTART;TZID=Europe/Paris:20211028T180000
DTEND;TZID=Europe/Paris:20211028T200000
DTSTAMP:20260424T152039
CREATED:20210923T170514Z
LAST-MODIFIED:20210923T170514Z
UID:17348-1635444000-1635451200@espaijovegarcilaso.org
SUMMARY:Castanyada
DESCRIPTION:Castanyada. Dijous 28 d’octubre a les 18h\, organitzat pel Servei de Dinamització Juvenil. \n  \n\n  \nJa podeu consultar les activitats que es realitzaran al llarg del proper trimestre a la nova agenda de tardor de l’Espai Jove Garcilaso! També podeu accedir al programa virtual escanejant el codi QR adjunt. \n  \nProgramació de tardor – Espai Jove Garcilaso
URL:https://espaijovegarcilaso.org/esdeveniments/castanyada/
END:VEVENT
BEGIN:VEVENT
DTSTART;TZID=Europe/Paris:20211028T180000
DTEND;TZID=Europe/Paris:20211028T200000
DTSTAMP:20260424T152039
CREATED:20210827T155915Z
LAST-MODIFIED:20211009T100105Z
UID:17017-1635444000-1635451200@espaijovegarcilaso.org
SUMMARY:Halloween 21'
DESCRIPTION:Si t’agrada la festa i el terror\, aquesta és la teva activitat! Vine tots els dijous de 18 a 20h per preparar la festa més terrorífica de l’any amb nosaltres.\nPrepara una disfressa ben esgarrifosa i vine a ballar
URL:https://espaijovegarcilaso.org/esdeveniments/halloween-2021/
END:VEVENT
BEGIN:VEVENT
DTSTART;TZID=Europe/Paris:20211028T171500
DTEND;TZID=Europe/Paris:20211028T200000
DTSTAMP:20260424T152039
CREATED:20211023T094336Z
LAST-MODIFIED:20211023T094336Z
UID:17478-1635441300-1635451200@espaijovegarcilaso.org
SUMMARY:Autogestió – La Sala
DESCRIPTION:Aquí teniu les activitats setmanals que es realitzaran a La Sala durant la setmana del 25 al 29 d’octubre.
URL:https://espaijovegarcilaso.org/esdeveniments/autogestio-la-sala-3/
END:VEVENT
BEGIN:VEVENT
DTSTART;TZID=Europe/Paris:20211027T171500
DTEND;TZID=Europe/Paris:20211027T200000
DTSTAMP:20260424T152039
CREATED:20211023T094250Z
LAST-MODIFIED:20211023T094250Z
UID:17476-1635354900-1635364800@espaijovegarcilaso.org
SUMMARY:Taller de cuina a Torre Sagrera – La Sala
DESCRIPTION:Aquí teniu les activitats setmanals que es realitzaran a La Sala durant la setmana del 25 al 29 d’octubre.
URL:https://espaijovegarcilaso.org/esdeveniments/taller-de-cuina-a-torre-sagrera-la-sala/
END:VEVENT
BEGIN:VEVENT
DTSTART;TZID=Europe/Paris:20211026T173000
DTEND;TZID=Europe/Paris:20211026T193000
DTSTAMP:20260424T152039
CREATED:20210923T101546Z
LAST-MODIFIED:20210923T101546Z
UID:17308-1635269400-1635276600@espaijovegarcilaso.org
SUMMARY:Fight Club
DESCRIPTION:És un taller sobre arts marcials enfocat a l’autoconeixement del cos\, autogestió emocional\, companyeris-me\, disciplina\, esforç i en estar en l’ “aquí i ara”. \nJoves de 12 a 20 anys. Gratuït.
URL:https://espaijovegarcilaso.org/esdeveniments/fight-club-3/
END:VEVENT
BEGIN:VEVENT
DTSTART;TZID=Europe/Paris:20211026T171500
DTEND;TZID=Europe/Paris:20211026T200000
DTSTAMP:20260424T152039
CREATED:20211023T094141Z
LAST-MODIFIED:20211023T094141Z
UID:17474-1635268500-1635278400@espaijovegarcilaso.org
SUMMARY:Taller de teatre – La Sala
DESCRIPTION:Aquí teniu les activitats setmanals que es realitzaran a La Sala durant la setmana del 25 al 29 d’octubre.
URL:https://espaijovegarcilaso.org/esdeveniments/taller-de-teatre-la-sala-7/
END:VEVENT
BEGIN:VEVENT
DTSTART;TZID=Europe/Paris:20211025T180000
DTEND;TZID=Europe/Paris:20211025T200000
DTSTAMP:20260424T152039
CREATED:20210923T100729Z
LAST-MODIFIED:20210923T100729Z
UID:17300-1635184800-1635192000@espaijovegarcilaso.org
SUMMARY:Inter&Chill
DESCRIPTION:Si vols trobar un espai chill per veure sèries i poder xerrar sobre elles amb més gent jove\, vine els dilluns a la tarda a l’Intercanviador! Veurem una o diverses sèries juvenils per després comentar-les a la TV de l’espai amb pufs i sofàs i amb molt de caliu.
URL:https://espaijovegarcilaso.org/esdeveniments/interchill-8/
END:VEVENT
BEGIN:VEVENT
DTSTART;TZID=Europe/Paris:20211025T171500
DTEND;TZID=Europe/Paris:20211025T200000
DTSTAMP:20260424T152039
CREATED:20211023T094048Z
LAST-MODIFIED:20211023T094048Z
UID:17472-1635182100-1635192000@espaijovegarcilaso.org
SUMMARY:Reflexió i Crispetes – La Sala
DESCRIPTION:Aquí teniu les activitats setmanals que es realitzaran a La Sala durant la setmana del 25 al 29 d’octubre.
URL:https://espaijovegarcilaso.org/esdeveniments/reflexio-i-crispetes-la-sala-2/
END:VEVENT
BEGIN:VEVENT
DTSTART;TZID=Europe/Paris:20211022T181500
DTEND;TZID=Europe/Paris:20211022T200000
DTSTAMP:20260424T152039
CREATED:20211016T134707Z
LAST-MODIFIED:20211016T134707Z
UID:17458-1634926500-1634932800@espaijovegarcilaso.org
SUMMARY:Concert: Més enllà del trap
DESCRIPTION:Per aquest primer concert hem convidat a un artista del món de la rumba per donar la benvinguda al curs. Si ja has vingut saps que no t’ho pots perdre i si encara no\, apuntat al formulari i ens veiem el divendres 22!\n  \n\n\n  \n\n\n\nNom i cognoms:\n\n \nDNI / NIE:\n\n \nTelèfon de contacte:\n\n \n \n \nDe conformitat amb el GDPR 2016/679 de 27 d’abril i amb la Llei Orgànica 15/1999\, de 13 de desembre\, de Protecció de Dades de Caràcter Personal\, l’informem que\, havent signat l’autoritzció\, les seves dades personals s’incorporaran en un fitxer automatitzat del qual és titular el Centre Garcilaso de l’Ajuntament de Barcelona\, Districte de Sant Andreu. Aquest fitxer té com a finalitat gestionar la seva relació amb el centre i mantenir-lo informat dels serveis que ofereix. Les seves dades no seran cedides a cap altra entitat. Consenteix expressament en el tractament de les seves dades per la finalitat indicada. Finalment\, l’informem que podreu exercitar en qualsevol moment els drets d’accés\, rectificació\, cancel·lació i oposició en els termes establerts en la legislació vigent sobre protecció de dades\, adreçant-vos per escrit al Registre General de l’Ajuntament: Pl. San Miquel 5-6\, 08002 Barcelona\, indicant clarament en l’assumpte Exercici de Dret.\n \n\n Δ \n\n\n\n 
URL:https://espaijovegarcilaso.org/esdeveniments/concert-mes-enlla-del-trap/
END:VEVENT
BEGIN:VEVENT
DTSTART;TZID=Europe/Paris:20211021T180000
DTEND;TZID=Europe/Paris:20211021T200000
DTSTAMP:20260424T152039
CREATED:20210923T111758Z
LAST-MODIFIED:20211009T100006Z
UID:17329-1634839200-1634846400@espaijovegarcilaso.org
SUMMARY:Preparació Halloween 21'
DESCRIPTION:Si t’agrada la festa i el terror\, aquesta és la teva activitat! Vine tots els dijous de 18 a 20h per preparar la festa més terrorífica de l’any amb nosaltres.\nPrepara una disfressa ben esgarrifosa i vine a ballar
URL:https://espaijovegarcilaso.org/esdeveniments/preparacio-halloween-21-3/
END:VEVENT
BEGIN:VEVENT
DTSTART;TZID=Europe/Paris:20211021T171500
DTEND;TZID=Europe/Paris:20211021T200000
DTSTAMP:20260424T152039
CREATED:20211016T134531Z
LAST-MODIFIED:20211016T134531Z
UID:17456-1634836500-1634846400@espaijovegarcilaso.org
SUMMARY:Autogestió - La Sala
DESCRIPTION:Aquí teniu les activitats setmanals que es realitzaran a La Sala durant la setmana del 18 al 22 d’octubre.
URL:https://espaijovegarcilaso.org/esdeveniments/autogestio-la-sala-2/
END:VEVENT
BEGIN:VEVENT
DTSTART;TZID=Europe/Paris:20211020T171500
DTEND;TZID=Europe/Paris:20211020T200000
DTSTAMP:20260424T152039
CREATED:20211016T134456Z
LAST-MODIFIED:20211016T134456Z
UID:17454-1634750100-1634760000@espaijovegarcilaso.org
SUMMARY:Taller de cuina - La Sala
DESCRIPTION:Aquí teniu les activitats setmanals que es realitzaran a La Sala durant la setmana del 18 al 22 d’octubre.
URL:https://espaijovegarcilaso.org/esdeveniments/taller-de-cuina-la-sala/
END:VEVENT
BEGIN:VEVENT
DTSTART;TZID=Europe/Paris:20211019T173000
DTEND;TZID=Europe/Paris:20211019T193000
DTSTAMP:20260424T152039
CREATED:20210923T101504Z
LAST-MODIFIED:20210923T101504Z
UID:17306-1634664600-1634671800@espaijovegarcilaso.org
SUMMARY:Fight Club
DESCRIPTION:És un taller sobre arts marcials enfocat a l’autoconeixement del cos\, autogestió emocional\, companyeris-me\, disciplina\, esforç i en estar en l’ “aquí i ara”. \nJoves de 12 a 20 anys. Gratuït.
URL:https://espaijovegarcilaso.org/esdeveniments/fight-club-2/
END:VEVENT
BEGIN:VEVENT
DTSTART;TZID=Europe/Paris:20211019T171500
DTEND;TZID=Europe/Paris:20211019T200000
DTSTAMP:20260424T152039
CREATED:20211016T120421Z
LAST-MODIFIED:20211016T120421Z
UID:17452-1634663700-1634673600@espaijovegarcilaso.org
SUMMARY:Taller de teatre - La Sala
DESCRIPTION:Aquí teniu les activitats setmanals que es realitzaran a La Sala durant la setmana del 18 al 22 d’octubre.
URL:https://espaijovegarcilaso.org/esdeveniments/taller-de-teatre-la-sala-6/
END:VEVENT
BEGIN:VEVENT
DTSTART;TZID=Europe/Paris:20211018T180000
DTEND;TZID=Europe/Paris:20211018T200000
DTSTAMP:20260424T152039
CREATED:20210923T100659Z
LAST-MODIFIED:20210923T100659Z
UID:17298-1634580000-1634587200@espaijovegarcilaso.org
SUMMARY:Inter&Chill
DESCRIPTION:Si vols trobar un espai chill per veure sèries i poder xerrar sobre elles amb més gent jove\, vine els dilluns a la tarda a l’Intercanviador! Veurem una o diverses sèries juvenils per després comentar-les a la TV de l’espai amb pufs i sofàs i amb molt de caliu.
URL:https://espaijovegarcilaso.org/esdeveniments/interchill-7/
END:VEVENT
BEGIN:VEVENT
DTSTART;TZID=Europe/Paris:20211018T171500
DTEND;TZID=Europe/Paris:20211018T200000
DTSTAMP:20260424T152039
CREATED:20211016T120322Z
LAST-MODIFIED:20211016T120322Z
UID:17449-1634577300-1634587200@espaijovegarcilaso.org
SUMMARY:Reflexió i Crispetes – La Sala
DESCRIPTION:Aquí teniu les activitats setmanals que es realitzaran a La Sala durant la setmana del 18 al 22 d’octubre.
URL:https://espaijovegarcilaso.org/esdeveniments/reflexio-i-crispetes-la-sala/
END:VEVENT
BEGIN:VEVENT
DTSTART;TZID=Europe/Paris:20211015T200000
DTEND;TZID=Europe/Paris:20211015T220000
DTSTAMP:20260424T152039
CREATED:20211004T155434Z
LAST-MODIFIED:20211004T155434Z
UID:17393-1634328000-1634335200@espaijovegarcilaso.org
SUMMARY:Concert amb "Edulcorantes"
DESCRIPTION:El proper divendres 15 d’octubre a partir de les 20h gaudirem de concert a l’Espai Jove Garcilaso amb l’actuació de “Edulcorantes”. \nActivitat gratuïta! Places limitades. \nConfirmació d’assistència via whatsapp al 699 62 88 34. \nUs hi esperem!
URL:https://espaijovegarcilaso.org/esdeveniments/concert-amb-edulcorantes/
END:VEVENT
BEGIN:VEVENT
DTSTART;TZID=Europe/Paris:20211015T171500
DTEND;TZID=Europe/Paris:20211015T200000
DTSTAMP:20260424T152039
CREATED:20211011T171132Z
LAST-MODIFIED:20211012T231015Z
UID:17430-1634318100-1634328000@espaijovegarcilaso.org
SUMMARY:Autogestió - La Sala
DESCRIPTION:Aquí teniu les activitats setmanals que es realitzaran a La Sala durant la setmana de l’11 al 15 d’octubre.
URL:https://espaijovegarcilaso.org/esdeveniments/autogestio-la-sala/
END:VEVENT
END:VCALENDAR