BEGIN:VCALENDAR
VERSION:2.0
PRODID:-//Espai Jove Garcilaso - ECPv6.15.13//NONSGML v1.0//EN
CALSCALE:GREGORIAN
METHOD:PUBLISH
X-WR-CALNAME:Espai Jove Garcilaso
X-ORIGINAL-URL:https://espaijovegarcilaso.org
X-WR-CALDESC:Esdeveniments per Espai Jove Garcilaso
REFRESH-INTERVAL;VALUE=DURATION:PT1H
X-Robots-Tag:noindex
X-PUBLISHED-TTL:PT1H
BEGIN:VTIMEZONE
TZID:Europe/Paris
BEGIN:DAYLIGHT
TZOFFSETFROM:+0100
TZOFFSETTO:+0200
TZNAME:CEST
DTSTART:20200329T010000
END:DAYLIGHT
BEGIN:STANDARD
TZOFFSETFROM:+0200
TZOFFSETTO:+0100
TZNAME:CET
DTSTART:20201025T010000
END:STANDARD
BEGIN:DAYLIGHT
TZOFFSETFROM:+0100
TZOFFSETTO:+0200
TZNAME:CEST
DTSTART:20210328T010000
END:DAYLIGHT
BEGIN:STANDARD
TZOFFSETFROM:+0200
TZOFFSETTO:+0100
TZNAME:CET
DTSTART:20211031T010000
END:STANDARD
BEGIN:DAYLIGHT
TZOFFSETFROM:+0100
TZOFFSETTO:+0200
TZNAME:CEST
DTSTART:20220327T010000
END:DAYLIGHT
BEGIN:STANDARD
TZOFFSETFROM:+0200
TZOFFSETTO:+0100
TZNAME:CET
DTSTART:20221030T010000
END:STANDARD
END:VTIMEZONE
BEGIN:VEVENT
DTSTART;TZID=Europe/Paris:20211019T173000
DTEND;TZID=Europe/Paris:20211019T193000
DTSTAMP:20260424T182158
CREATED:20210923T101504Z
LAST-MODIFIED:20210923T101504Z
UID:17306-1634664600-1634671800@espaijovegarcilaso.org
SUMMARY:Fight Club
DESCRIPTION:És un taller sobre arts marcials enfocat a l’autoconeixement del cos\, autogestió emocional\, companyeris-me\, disciplina\, esforç i en estar en l’ “aquí i ara”. \nJoves de 12 a 20 anys. Gratuït.
URL:https://espaijovegarcilaso.org/esdeveniments/fight-club-2/
END:VEVENT
BEGIN:VEVENT
DTSTART;TZID=Europe/Paris:20211019T171500
DTEND;TZID=Europe/Paris:20211019T200000
DTSTAMP:20260424T182158
CREATED:20211016T120421Z
LAST-MODIFIED:20211016T120421Z
UID:17452-1634663700-1634673600@espaijovegarcilaso.org
SUMMARY:Taller de teatre - La Sala
DESCRIPTION:Aquí teniu les activitats setmanals que es realitzaran a La Sala durant la setmana del 18 al 22 d’octubre.
URL:https://espaijovegarcilaso.org/esdeveniments/taller-de-teatre-la-sala-6/
END:VEVENT
BEGIN:VEVENT
DTSTART;TZID=Europe/Paris:20211018T180000
DTEND;TZID=Europe/Paris:20211018T200000
DTSTAMP:20260424T182158
CREATED:20210923T100659Z
LAST-MODIFIED:20210923T100659Z
UID:17298-1634580000-1634587200@espaijovegarcilaso.org
SUMMARY:Inter&Chill
DESCRIPTION:Si vols trobar un espai chill per veure sèries i poder xerrar sobre elles amb més gent jove\, vine els dilluns a la tarda a l’Intercanviador! Veurem una o diverses sèries juvenils per després comentar-les a la TV de l’espai amb pufs i sofàs i amb molt de caliu.
URL:https://espaijovegarcilaso.org/esdeveniments/interchill-7/
END:VEVENT
BEGIN:VEVENT
DTSTART;TZID=Europe/Paris:20211018T171500
DTEND;TZID=Europe/Paris:20211018T200000
DTSTAMP:20260424T182158
CREATED:20211016T120322Z
LAST-MODIFIED:20211016T120322Z
UID:17449-1634577300-1634587200@espaijovegarcilaso.org
SUMMARY:Reflexió i Crispetes – La Sala
DESCRIPTION:Aquí teniu les activitats setmanals que es realitzaran a La Sala durant la setmana del 18 al 22 d’octubre.
URL:https://espaijovegarcilaso.org/esdeveniments/reflexio-i-crispetes-la-sala/
END:VEVENT
BEGIN:VEVENT
DTSTART;TZID=Europe/Paris:20211015T200000
DTEND;TZID=Europe/Paris:20211015T220000
DTSTAMP:20260424T182158
CREATED:20211004T155434Z
LAST-MODIFIED:20211004T155434Z
UID:17393-1634328000-1634335200@espaijovegarcilaso.org
SUMMARY:Concert amb "Edulcorantes"
DESCRIPTION:El proper divendres 15 d’octubre a partir de les 20h gaudirem de concert a l’Espai Jove Garcilaso amb l’actuació de “Edulcorantes”. \nActivitat gratuïta! Places limitades. \nConfirmació d’assistència via whatsapp al 699 62 88 34. \nUs hi esperem!
URL:https://espaijovegarcilaso.org/esdeveniments/concert-amb-edulcorantes/
END:VEVENT
BEGIN:VEVENT
DTSTART;TZID=Europe/Paris:20211015T171500
DTEND;TZID=Europe/Paris:20211015T200000
DTSTAMP:20260424T182158
CREATED:20211011T171132Z
LAST-MODIFIED:20211012T231015Z
UID:17430-1634318100-1634328000@espaijovegarcilaso.org
SUMMARY:Autogestió - La Sala
DESCRIPTION:Aquí teniu les activitats setmanals que es realitzaran a La Sala durant la setmana de l’11 al 15 d’octubre.
URL:https://espaijovegarcilaso.org/esdeveniments/autogestio-la-sala/
END:VEVENT
BEGIN:VEVENT
DTSTART;TZID=Europe/Paris:20211014T180000
DTEND;TZID=Europe/Paris:20211014T200000
DTSTAMP:20260424T182158
CREATED:20210923T110926Z
LAST-MODIFIED:20211009T095908Z
UID:17327-1634234400-1634241600@espaijovegarcilaso.org
SUMMARY:Preparació Halloween 21'
DESCRIPTION:Si t’agrada la festa i el terror\, aquesta és la teva activitat! Vine tots els dijous de 18 a 20h per preparar la festa més terrorífica de l’any amb nosaltres.\nPrepara una disfressa ben esgarrifosa i vine a ballar
URL:https://espaijovegarcilaso.org/esdeveniments/preparacio-halloween-21-2/
END:VEVENT
BEGIN:VEVENT
DTSTART;TZID=Europe/Paris:20211014T171500
DTEND;TZID=Europe/Paris:20211014T200000
DTSTAMP:20260424T182158
CREATED:20211011T171047Z
LAST-MODIFIED:20211012T230930Z
UID:17428-1634231700-1634241600@espaijovegarcilaso.org
SUMMARY:Excursió: Exposició a l'Ateneu del Clot de la Sara Jansen - La Sala
DESCRIPTION:Aquí teniu les activitats setmanals que es realitzaran a La Sala durant la setmana de l’11 al 15 d’octubre.
URL:https://espaijovegarcilaso.org/esdeveniments/excursio-exposicio-a-lateneu-del-clot-de-la-sara-jansen-la-sala/
END:VEVENT
BEGIN:VEVENT
DTSTART;TZID=Europe/Paris:20211013T171500
DTEND;TZID=Europe/Paris:20211013T200000
DTSTAMP:20260424T182158
CREATED:20211011T170952Z
LAST-MODIFIED:20211012T230853Z
UID:17426-1634145300-1634155200@espaijovegarcilaso.org
SUMMARY:Fem-ho fresh - La Sala
DESCRIPTION:Aquí teniu les activitats setmanals que es realitzaran a La Sala durant la setmana de l’11 al 15 d’octubre.
URL:https://espaijovegarcilaso.org/esdeveniments/fem-ho-fresh-la-sala/
END:VEVENT
BEGIN:VEVENT
DTSTART;TZID=Europe/Paris:20211011T180000
DTEND;TZID=Europe/Paris:20211011T200000
DTSTAMP:20260424T182158
CREATED:20210923T100603Z
LAST-MODIFIED:20210923T100603Z
UID:17295-1633975200-1633982400@espaijovegarcilaso.org
SUMMARY:Inter&Chill
DESCRIPTION:Si vols trobar un espai chill per veure sèries i poder xerrar sobre elles amb més gent jove\, vine els dilluns a la tarda a l’Intercanviador! Veurem una o diverses sèries juvenils per després comentar-les a la TV de l’espai amb pufs i sofàs i amb molt de caliu.
URL:https://espaijovegarcilaso.org/esdeveniments/interchill-6/
END:VEVENT
BEGIN:VEVENT
DTSTART;TZID=Europe/Paris:20211011T171500
DTEND;TZID=Europe/Paris:20211011T200000
DTSTAMP:20260424T182158
CREATED:20211011T170858Z
LAST-MODIFIED:20211012T231233Z
UID:17423-1633972500-1633982400@espaijovegarcilaso.org
SUMMARY:Reflexió i Crispetes - La Sala
DESCRIPTION:Aquí teniu les activitats setmanals que es realitzaran a La Sala durant la setmana de l’11 al 15 d’octubre.
URL:https://espaijovegarcilaso.org/esdeveniments/reflexio-i-crispetes/
END:VEVENT
BEGIN:VEVENT
DTSTART;TZID=Europe/Paris:20211008T183000
DTEND;TZID=Europe/Paris:20211008T203000
DTSTAMP:20260424T182158
CREATED:20210827T150957Z
LAST-MODIFIED:20210923T100450Z
UID:17002-1633717800-1633725000@espaijovegarcilaso.org
SUMMARY:Festival Brot
DESCRIPTION:Divendres 8 d’octubre a les 18:30 h Festival de música Jove de Barcelona a l’Espai Jove.\nEl Brot et permet donar a conèixer la teva proposta i fer-la créixer fins al seu màxim esplendor! Te’l perdràs? De cap manera\, oi? \n  \n\n  \nJa podeu consultar les activitats que es realitzaran al llarg del proper trimestre a la nova agenda de tardor de l’Espai Jove Garcilaso! També podeu accedir al programa virtual escanejant el codi QR adjunt. \n  \nProgramació de tardor – Espai Jove Garcilaso
URL:https://espaijovegarcilaso.org/esdeveniments/festival-brot/
END:VEVENT
BEGIN:VEVENT
DTSTART;VALUE=DATE:20211008
DTEND;VALUE=DATE:20211010
DTSTAMP:20260424T182158
CREATED:20210923T164223Z
LAST-MODIFIED:20210923T164223Z
UID:17335-1633651200-1633823999@espaijovegarcilaso.org
SUMMARY:Activitats Festes del Congrés i els Indians
DESCRIPTION:Activitats Festes del Congrés i els Indians. Dies 8 i 9 d’octubre. \n  \n\n  \nJa podeu consultar les activitats que es realitzaran al llarg del proper trimestre a la nova agenda de tardor de l’Espai Jove Garcilaso! També podeu accedir al programa virtual escanejant el codi QR adjunt. \n  \nProgramació de tardor – Espai Jove Garcilaso
URL:https://espaijovegarcilaso.org/esdeveniments/activitats-festes-del-congres-i-els-indians/
END:VEVENT
BEGIN:VEVENT
DTSTART;TZID=Europe/Paris:20211007T190000
DTEND;TZID=Europe/Paris:20211007T203000
DTSTAMP:20260424T182158
CREATED:20210923T163639Z
LAST-MODIFIED:20210923T163930Z
UID:17331-1633633200-1633638600@espaijovegarcilaso.org
SUMMARY:Workshop - Autogestió Indústria Musical
DESCRIPTION:Workshop: Autogestió Indústria Musical. Dijous 7 d’octubre a les 19h. \n  \n\n  \nJa podeu consultar les activitats que es realitzaran al llarg del proper trimestre a la nova agenda de tardor de l’Espai Jove Garcilaso! També podeu accedir al programa virtual escanejant el codi QR adjunt. \n  \nProgramació de tardor – Espai Jove Garcilaso
URL:https://espaijovegarcilaso.org/esdeveniments/workshop-autogestio-industria-musical/
END:VEVENT
BEGIN:VEVENT
DTSTART;TZID=Europe/Paris:20211007T180000
DTEND;TZID=Europe/Paris:20211007T200000
DTSTAMP:20260424T182158
CREATED:20210923T110756Z
LAST-MODIFIED:20211009T095821Z
UID:17324-1633629600-1633636800@espaijovegarcilaso.org
SUMMARY:Preparació Halloween 21'
DESCRIPTION:Si t’agrada la festa i el terror\, aquesta és la teva activitat! Vine tots els dijous de 18 a 20h per preparar la festa més terrorífica de l’any amb nosaltres.\nPrepara una disfressa ben esgarrifosa i vine a ballar
URL:https://espaijovegarcilaso.org/esdeveniments/preparacio-halloween-21/
END:VEVENT
BEGIN:VEVENT
DTSTART;TZID=Europe/Paris:20211005T173000
DTEND;TZID=Europe/Paris:20211005T193000
DTSTAMP:20260424T182158
CREATED:20210923T101405Z
LAST-MODIFIED:20210923T101405Z
UID:17304-1633455000-1633462200@espaijovegarcilaso.org
SUMMARY:Fight Club
DESCRIPTION:És un taller sobre arts marcials enfocat a l’autoconeixement del cos\, autogestió emocional\, companyeris-me\, disciplina\, esforç i en estar en l’ “aquí i ara”. \nJoves de 12 a 20 anys. Gratuït.
URL:https://espaijovegarcilaso.org/esdeveniments/fight-club/
END:VEVENT
BEGIN:VEVENT
DTSTART;TZID=Europe/Paris:20211004T190000
DTEND;TZID=Europe/Paris:20211004T203000
DTSTAMP:20260424T182158
CREATED:20210923T101212Z
LAST-MODIFIED:20210923T101212Z
UID:17302-1633374000-1633379400@espaijovegarcilaso.org
SUMMARY:Home Studio
DESCRIPTION:Adreçat a músics que busquen iniciar-se en el món de la gravació i la producció de les seves composicions des de casa. Aprendràs quins elements i quines eines són necessàries per poder captar\, mesclar i exportar les teves cançons. \nJoves de 12 a 35 anys.
URL:https://espaijovegarcilaso.org/esdeveniments/home-studio/
END:VEVENT
BEGIN:VEVENT
DTSTART;TZID=Europe/Paris:20211004T180000
DTEND;TZID=Europe/Paris:20211004T200000
DTSTAMP:20260424T182158
CREATED:20210921T155719Z
LAST-MODIFIED:20210921T155719Z
UID:17292-1633370400-1633377600@espaijovegarcilaso.org
SUMMARY:Inter&Chill
DESCRIPTION:Si vols trobar un espai chill per veure sèries i poder xerrar sobre elles amb més gent jove\, vine els dilluns a la tarda a l’Intercanviador! Veurem una o diverses sèries juvenils per després comentar-les a la TV de l’espai amb pufs i sofàs i amb molt de caliu.
URL:https://espaijovegarcilaso.org/esdeveniments/interchill-5/
END:VEVENT
BEGIN:VEVENT
DTSTART;TZID=Europe/Paris:20211001T200000
DTEND;TZID=Europe/Paris:20211001T220000
DTSTAMP:20260424T182158
CREATED:20210921T155543Z
LAST-MODIFIED:20210927T083058Z
UID:17290-1633118400-1633125600@espaijovegarcilaso.org
SUMMARY:Concert amb Mala Cendra
DESCRIPTION:El proper divendres 1 d’octubre a partir de les 20h gaudirem de concert a l’Espai Jove Garcilaso amb l’actuació de “MALA CENDRA”. \nActivitat gratuïta! Places limitades. \nConfirmació d’assistència via whatsapp al 699 62 88 34. \nUs hi esperem!
URL:https://espaijovegarcilaso.org/esdeveniments/concert-amb-mala-cendra-2/
END:VEVENT
BEGIN:VEVENT
DTSTART;TZID=Europe/Paris:20210930T200000
DTEND;TZID=Europe/Paris:20210930T230000
DTSTAMP:20260424T182158
CREATED:20210827T145800Z
LAST-MODIFIED:20210924T092528Z
UID:16998-1633032000-1633042800@espaijovegarcilaso.org
SUMMARY:Cinema a la fresca: Coco
DESCRIPTION:El proper dijous 30 de setembre a les 20 h. fem una sessió de cinema a la fresca en la Plaça de Virginia Woolf (davant l’Espai Jove Garcilaso). \nUs esperem per veure una gran pel·lícula: Coco. Activitat gratuïta.
URL:https://espaijovegarcilaso.org/esdeveniments/cinema-a-la-fresca/
END:VEVENT
BEGIN:VEVENT
DTSTART;TZID=Europe/Paris:20210930T190000
DTEND;TZID=Europe/Paris:20210930T203000
DTSTAMP:20260424T182158
CREATED:20210923T163902Z
LAST-MODIFIED:20210923T163902Z
UID:17333-1633028400-1633033800@espaijovegarcilaso.org
SUMMARY:Workshop - Carol Kaye
DESCRIPTION:Dijous 30 de setembre de 19h a 20:30h \nXerrada-Monogràfic \nA càrrec de @rocknerdpedrostuomala \nActivitat gratuïta! \nPlaces limitades. Confirmació d’assistència via Whatsapp al 699 62 88 34.
URL:https://espaijovegarcilaso.org/esdeveniments/workshop-carol-kaye/
END:VEVENT
BEGIN:VEVENT
DTSTART;TZID=Europe/Paris:20210930T180000
DTEND;TZID=Europe/Paris:20210930T200000
DTSTAMP:20260424T182158
CREATED:20210827T145158Z
LAST-MODIFIED:20210827T145453Z
UID:16993-1633024800-1633032000@espaijovegarcilaso.org
SUMMARY:Open House
DESCRIPTION:Open House\, donem la benvinguda al curs en familia. Dijous 30 de setembre a les 18h al Servei de Dinamització Juvenil. \n  \n\n  \nJa podeu consultar les activitats que es realitzaran al llarg del proper trimestre a la nova agenda de tardor de l’Espai Jove Garcilaso! També podeu accedir al programa virtual escanejant el codi QR adjunt. \n  \nProgramació de tardor – Espai Jove Garcilaso
URL:https://espaijovegarcilaso.org/esdeveniments/open-house-2/
END:VEVENT
BEGIN:VEVENT
DTSTART;TZID=Europe/Paris:20210927T180000
DTEND;TZID=Europe/Paris:20210927T200000
DTSTAMP:20260424T182158
CREATED:20210827T112545Z
LAST-MODIFIED:20210827T112545Z
UID:16963-1632765600-1632772800@espaijovegarcilaso.org
SUMMARY:Inter&Chill
DESCRIPTION:Si vols trobar un espai chill per veure sèries i poder xerrar sobre elles amb més gent jove\, vine els dilluns a la tarda a l’Intercanviador! Veurem una o diverses sèries juvenils per després comentar-les a la TV de l’espai amb pufs i sofàs i amb molt de caliu.
URL:https://espaijovegarcilaso.org/esdeveniments/interchill-4/
END:VEVENT
BEGIN:VEVENT
DTSTART;TZID=Europe/Paris:20210923T180000
DTEND;TZID=Europe/Paris:20210923T200000
DTSTAMP:20260424T182158
CREATED:20210907T080523Z
LAST-MODIFIED:20210908T093326Z
UID:17089-1632420000-1632427200@espaijovegarcilaso.org
SUMMARY:Bingo Musical
DESCRIPTION:Bingo amb cançons actuals amb @lasala.garcilaso.
URL:https://espaijovegarcilaso.org/esdeveniments/bingo-musical/
END:VEVENT
BEGIN:VEVENT
DTSTART;TZID=Europe/Paris:20210922T173000
DTEND;TZID=Europe/Paris:20210922T193000
DTSTAMP:20260424T182158
CREATED:20210827T120159Z
LAST-MODIFIED:20210827T120159Z
UID:16989-1632331800-1632339000@espaijovegarcilaso.org
SUMMARY:Dispositiu de suport a la sol·licitud de beques a Trinitat
DESCRIPTION:Dispositiu de suport a la sol·licitud de beques a Trinitat\, dimecres 22 de setembre a les 17:30h. Organitzat per Punt infoJOVE. \n  \n\n  \nJa podeu consultar les activitats que es realitzaran al llarg del proper trimestre a la nova agenda de tardor de l’Espai Jove Garcilaso! També podeu accedir al programa virtual escanejant el codi QR adjunt. \n  \nProgramació de tardor – Espai Jove Garcilaso
URL:https://espaijovegarcilaso.org/esdeveniments/dispositiu-de-suport-a-la-sollicitud-de-beques-a-trinitat/
END:VEVENT
BEGIN:VEVENT
DTSTART;TZID=Europe/Paris:20210922T090000
DTEND;TZID=Europe/Paris:20210922T110000
DTSTAMP:20260424T182158
CREATED:20210827T115829Z
LAST-MODIFIED:20210827T115829Z
UID:16985-1632301200-1632308400@espaijovegarcilaso.org
SUMMARY:Saló de l’Ocupació (Espai La Fira\, a Plaça Espanya)
DESCRIPTION:Saló de l’Ocupació (Espai La Fira\, a Plaça Espanya)\, dies 20\, 21 i 22 de setembre a les 9:00h. Organitzat per Punt infoJOVE. \n  \n\n  \nJa podeu consultar les activitats que es realitzaran al llarg del proper trimestre a la nova agenda de tardor de l’Espai Jove Garcilaso! També podeu accedir al programa virtual escanejant el codi QR adjunt. \n  \nProgramació de tardor – Espai Jove Garcilaso
URL:https://espaijovegarcilaso.org/esdeveniments/salo-de-locupacio-espai-la-fira-a-placa-espanya-3/
END:VEVENT
BEGIN:VEVENT
DTSTART;TZID=Europe/Paris:20210921T090000
DTEND;TZID=Europe/Paris:20210921T110000
DTSTAMP:20260424T182158
CREATED:20210827T115738Z
LAST-MODIFIED:20210827T115928Z
UID:16982-1632214800-1632222000@espaijovegarcilaso.org
SUMMARY:Saló de l’Ocupació (Espai La Fira\, a Plaça Espanya)
DESCRIPTION:Saló de l’Ocupació (Espai La Fira\, a Plaça Espanya)\, dies 20\, 21 i 22 de setembre a les 9:00h. Organitzat per Punt infoJOVE. \n  \n\n  \nJa podeu consultar les activitats que es realitzaran al llarg del proper trimestre a la nova agenda de tardor de l’Espai Jove Garcilaso! També podeu accedir al programa virtual escanejant el codi QR adjunt. \n  \nProgramació de tardor – Espai Jove Garcilaso
URL:https://espaijovegarcilaso.org/esdeveniments/salo-de-locupacio-espai-la-fira-a-placa-espanya-2/
END:VEVENT
BEGIN:VEVENT
DTSTART;TZID=Europe/Paris:20210920T180000
DTEND;TZID=Europe/Paris:20210920T200000
DTSTAMP:20260424T182158
CREATED:20210827T112453Z
LAST-MODIFIED:20210827T112453Z
UID:16961-1632160800-1632168000@espaijovegarcilaso.org
SUMMARY:Inter&Chill
DESCRIPTION:Si vols trobar un espai chill per veure sèries i poder xerrar sobre elles amb més gent jove\, vine els dilluns a la tarda a l’Intercanviador! Veurem una o diverses sèries juvenils per després comentar-les a la TV de l’espai amb pufs i sofàs i amb molt de caliu.
URL:https://espaijovegarcilaso.org/esdeveniments/interchill-3/
END:VEVENT
BEGIN:VEVENT
DTSTART;TZID=Europe/Paris:20210920T090000
DTEND;TZID=Europe/Paris:20210920T110000
DTSTAMP:20260424T182158
CREATED:20210827T115626Z
LAST-MODIFIED:20210827T115842Z
UID:16980-1632128400-1632135600@espaijovegarcilaso.org
SUMMARY:Saló de l’Ocupació (Espai La Fira\, a Plaça Espanya)
DESCRIPTION:Saló de l’Ocupació (Espai La Fira\, a Plaça Espanya)\, dies 20\, 21 i 22 de setembre a les 9:00h. Organitzat per Punt infoJOVE. \n  \n\n  \nJa podeu consultar les activitats que es realitzaran al llarg del proper trimestre a la nova agenda de tardor de l’Espai Jove Garcilaso! També podeu accedir al programa virtual escanejant el codi QR adjunt. \n  \nProgramació de tardor – Espai Jove Garcilaso
URL:https://espaijovegarcilaso.org/esdeveniments/salo-de-locupacio-espai-la-fira-a-placa-espanya/
END:VEVENT
BEGIN:VEVENT
DTSTART;TZID=Europe/Paris:20210917T200000
DTEND;TZID=Europe/Paris:20210917T220000
DTSTAMP:20260424T182158
CREATED:20210827T115359Z
LAST-MODIFIED:20210827T115359Z
UID:16978-1631908800-1631916000@espaijovegarcilaso.org
SUMMARY:Concert
DESCRIPTION:Concert\, divendres 17 de setembre a les 20h. \n  \n\n  \nJa podeu consultar les activitats que es realitzaran al llarg del proper trimestre a la nova agenda de tardor de l’Espai Jove Garcilaso! També podeu accedir al programa virtual escanejant el codi QR adjunt. \n  \nProgramació de tardor – Espai Jove Garcilaso
URL:https://espaijovegarcilaso.org/esdeveniments/concert/
END:VEVENT
END:VCALENDAR