BEGIN:VCALENDAR
VERSION:2.0
PRODID:-//Espai Jove Garcilaso - ECPv6.15.13//NONSGML v1.0//EN
CALSCALE:GREGORIAN
METHOD:PUBLISH
X-ORIGINAL-URL:https://espaijovegarcilaso.org
X-WR-CALDESC:Esdeveniments per Espai Jove Garcilaso
REFRESH-INTERVAL;VALUE=DURATION:PT1H
X-Robots-Tag:noindex
X-PUBLISHED-TTL:PT1H
BEGIN:VTIMEZONE
TZID:Europe/Paris
BEGIN:DAYLIGHT
TZOFFSETFROM:+0100
TZOFFSETTO:+0200
TZNAME:CEST
DTSTART:20200329T010000
END:DAYLIGHT
BEGIN:STANDARD
TZOFFSETFROM:+0200
TZOFFSETTO:+0100
TZNAME:CET
DTSTART:20201025T010000
END:STANDARD
BEGIN:DAYLIGHT
TZOFFSETFROM:+0100
TZOFFSETTO:+0200
TZNAME:CEST
DTSTART:20210328T010000
END:DAYLIGHT
BEGIN:STANDARD
TZOFFSETFROM:+0200
TZOFFSETTO:+0100
TZNAME:CET
DTSTART:20211031T010000
END:STANDARD
BEGIN:DAYLIGHT
TZOFFSETFROM:+0100
TZOFFSETTO:+0200
TZNAME:CEST
DTSTART:20220327T010000
END:DAYLIGHT
BEGIN:STANDARD
TZOFFSETFROM:+0200
TZOFFSETTO:+0100
TZNAME:CET
DTSTART:20221030T010000
END:STANDARD
END:VTIMEZONE
BEGIN:VEVENT
DTSTART;TZID=Europe/Paris:20210706T180000
DTEND;TZID=Europe/Paris:20210706T190000
DTSTAMP:20260425T020651
CREATED:20210702T152109Z
LAST-MODIFIED:20210702T152109Z
UID:16799-1625594400-1625598000@espaijovegarcilaso.org
SUMMARY:DANCEHALL - Servei de Dinamització Juvenil
DESCRIPTION:El juliol ja és aquí! Si t’agrada el ball i vols conèixer diversos estils aquesta és la teva oportunitat! Des del Servei de Dinamització Juvenil oferim tallers de ball totalment gratuïts! \nEl dimarts 6 de juliol presentem el taller de Dancehall una dansa amb referències africanes i caribenyes. Tanmateix el dimarts següent\, dia 13 de juliol\, es farà el taller de New Style un estil de ball modern que utilitza elements del street dance i hip-hop\, entre altres. Per últim\, dimarts dia 20 de juliol hi haurà el taller de K-Pop! Aquest és un gènere musical que inclou diversos estils com per exemple: música dance electrònica\, hip-hop\, rap\, R&B… i que es refereix específicament a la música popular a Corea del Sud.  \nContacta amb nosaltres i vine a moure l’esquelet\, t’hi esperem!
URL:https://espaijovegarcilaso.org/esdeveniments/dancehall-servei-de-dinamitzacio-juvenil/
END:VEVENT
BEGIN:VEVENT
DTSTART;TZID=Europe/Paris:20210706T173000
DTEND;TZID=Europe/Paris:20210706T193000
DTSTAMP:20260425T020651
CREATED:20210512T094216Z
LAST-MODIFIED:20210617T082914Z
UID:16390-1625592600-1625599800@espaijovegarcilaso.org
SUMMARY:Laboratori Feminista - Aquí T'escoltem
DESCRIPTION:Hula hoop i consciència corporal\n \nEl hula hoop és un malabar que ens connecta amb el nostre cos\, ens fa estar atents i posar tota la nostra consciència en el present per poder fer girar infinitament l’aro i ballar amb ell. Si vols passar una tarda divertida aprenent els trucs bàsics del hula hoop no et perdis aquest taller!!!\nJoves 12 a 20 anys. Cal inscripció prèvia. Gratuït!\nMés informació al telèfon: 652798816 \n \n  \nBodyPercusion \nDiuen que tots tenim un ritme intern i que segons les nostres emocions\, sona d’una manera o d’una altra!!! Vine a passar una tarda on aprendre elements bàsics de bodypercusion i escoltar el ritme que portes dins. \nJoves 12 a 20 anys. Cal inscripció prèvia. Gratuït!\nMés informació al telèfon: 652798816 \n \n  \nLaboratori Feminista \nTens ganes de conèixer més sobre el feminisme? T’interessen els diversos temes que l’engloben tals com: les violències masclistes\, els rols i estereotips als mitjans de comunicació…? Si tens ganes de compartir un espai on expressar les teves idees i emocions vers aquests temes\, no et perdis aquest taller! \nJoves 16 a 20 anys. Cal inscripció prèvia. Gratuït!\nMés informació al telèfon: 652798816 \n \n  \nTaller Il·lustrant Idees Contaminants \nQuè són les idees contaminants? Com ens afecten en el nostre dia a dia? I al nostre entorn?\nSi t’interessa el medi ambient\, vols passar una tarda transformant idees contaminants i expressar-les en una il·lustració no et perdis aquest taller ni el CineFòrum del 12 de Juliol amb l’Intercanviador!! \nJoves 12 a 20 anys. Cal inscripció prèvia. Gratuït!\nMés informació al telèfon: 652798816
URL:https://espaijovegarcilaso.org/esdeveniments/laboratori-feminista-aqui-tescoltem/
END:VEVENT
BEGIN:VEVENT
DTSTART;TZID=Europe/Paris:20210706T160000
DTEND;TZID=Europe/Paris:20210706T203000
DTSTAMP:20260425T020651
CREATED:20210709T102713Z
LAST-MODIFIED:20210709T102713Z
UID:16878-1625587200-1625603400@espaijovegarcilaso.org
SUMMARY:Espai de trobada d'estiu
DESCRIPTION:Aquí tenim ja l’espai de trobada del juliol amb totes les comoditats de sempre més aire condicionat!  \n❗️Recordeu que podeu venir quan vulgueu a jugar a la PS4\, a la WII\, als jocs de taula\, al ping-pong i al futbolí\, a fer deures o estudiar\, a posar música\, xerrar\, gaudir de la Smart TV\, dels sofàs i de la Wi-Fi gratuïta.\nEls dimarts i dimecres de juliol! I també el dijous 1 i el 22 d’aquest mes! \nObert de 16h a 20.30h\nA què estàs esperant per venir a conèixer l’Intercanviador?? No cal reservar prèviament i tenim un aforament fins a 25 persones!!!🧡
URL:https://espaijovegarcilaso.org/esdeveniments/espai-de-trobada-destiu-3/
END:VEVENT
BEGIN:VEVENT
DTSTART;TZID=Europe/Paris:20210705T180000
DTEND;TZID=Europe/Paris:20210705T200000
DTSTAMP:20260425T020651
CREATED:20210630T100745Z
LAST-MODIFIED:20210709T101817Z
UID:16766-1625508000-1625515200@espaijovegarcilaso.org
SUMMARY:Dilluns de trankis - Cinefòrum sobre temes diversos
DESCRIPTION:Els dilluns de juliol a les 18h arriben els dilluns de trankis\, on veurem pelis i farem cineforums sobre diferents temàtiques\n⚠️Per reservar la teva plaça pots enviar un whats al 646 15 37 26 on un DM al nostre Instagram @intercanviadorjoves
URL:https://espaijovegarcilaso.org/esdeveniments/dilluns-de-trankis-cineforum-sobre-temes-diversos/
END:VEVENT
BEGIN:VEVENT
DTSTART;TZID=Europe/Paris:20210702T100000
DTEND;TZID=Europe/Paris:20210702T120000
DTSTAMP:20260425T020651
CREATED:20210612T100958Z
LAST-MODIFIED:20210630T101335Z
UID:16653-1625220000-1625227200@espaijovegarcilaso.org
SUMMARY:Scape Room Project - Muntem un Scape Room per la Festa final de curs
DESCRIPTION:Ja ha arribat el nostre mes preferit de l’any en clau estiuenca!!! Donem la benvinguda a Juliol!!!\nVols venir a veure pelis juvenils en bona companyia i des d’una altra mirada? Et ve de gust muntar un súper Scape Room amb professionals del tema? Tens curiositat de saber més del joc sobre sexualitat inclusiva més xulo? Estàs preparadi per celebrar la Festa Final de Curs i el comiat de l’Intercanviador amb nosaltres???? Si la resposta és SÍ contacta amb nosaltres per reservar la teva plaça\, és mooooolt senzill!!!
URL:https://espaijovegarcilaso.org/esdeveniments/escape-room-project/
END:VEVENT
BEGIN:VEVENT
DTSTART;TZID=Europe/Paris:20210701T170000
DTEND;TZID=Europe/Paris:20210701T183000
DTSTAMP:20260425T020651
CREATED:20210512T093938Z
LAST-MODIFIED:20210617T082643Z
UID:16388-1625158800-1625164200@espaijovegarcilaso.org
SUMMARY:BodyPercusion - Aquí T'escoltem
DESCRIPTION:Hula hoop i consciència corporal\n \nEl hula hoop és un malabar que ens connecta amb el nostre cos\, ens fa estar atents i posar tota la nostra consciència en el present per poder fer girar infinitament l’aro i ballar amb ell. Si vols passar una tarda divertida aprenent els trucs bàsics del hula hoop no et perdis aquest taller!!!\nJoves 12 a 20 anys. Cal inscripció prèvia. Gratuït!\nMés informació al telèfon: 652798816 \n \n  \nBodyPercusion \nDiuen que tots tenim un ritme intern i que segons les nostres emocions\, sona d’una manera o d’una altra!!! Vine a passar una tarda on aprendre elements bàsics de bodypercusion i escoltar el ritme que portes dins. \nJoves 12 a 20 anys. Cal inscripció prèvia. Gratuït!\nMés informació al telèfon: 652798816 \n \n  \nLaboratori Feminista \nTens ganes de conèixer més sobre el feminisme? T’interessen els diversos temes que l’engloben tals com: les violències masclistes\, els rols i estereotips als mitjans de comunicació…? Si tens ganes de compartir un espai on expressar les teves idees i emocions vers aquests temes\, no et perdis aquest taller! \nJoves 16 a 20 anys. Cal inscripció prèvia. Gratuït!\nMés informació al telèfon: 652798816 \n \n  \nTaller Il·lustrant Idees Contaminants \nQuè són les idees contaminants? Com ens afecten en el nostre dia a dia? I al nostre entorn?\nSi t’interessa el medi ambient\, vols passar una tarda transformant idees contaminants i expressar-les en una il·lustració no et perdis aquest taller ni el CineFòrum del 12 de Juliol amb l’Intercanviador!! \nJoves 12 a 20 anys. Cal inscripció prèvia. Gratuït!\nMés informació al telèfon: 652798816
URL:https://espaijovegarcilaso.org/esdeveniments/bodypercussion-aqui-tescoltem/
END:VEVENT
BEGIN:VEVENT
DTSTART;TZID=Europe/Paris:20210701T160000
DTEND;TZID=Europe/Paris:20210701T203000
DTSTAMP:20260425T020651
CREATED:20210709T102506Z
LAST-MODIFIED:20210709T102506Z
UID:16874-1625155200-1625171400@espaijovegarcilaso.org
SUMMARY:Espai de trobada d'estiu
DESCRIPTION:Aquí tenim ja l’espai de trobada del juliol amb totes les comoditats de sempre més aire condicionat!  \n❗️Recordeu que podeu venir quan vulgueu a jugar a la PS4\, a la WII\, als jocs de taula\, al ping-pong i al futbolí\, a fer deures o estudiar\, a posar música\, xerrar\, gaudir de la Smart TV\, dels sofàs i de la Wi-Fi gratuïta.\nEls dimarts i dimecres de juliol! I també el dijous 1 i el 22 d’aquest mes! \nObert de 16h a 20.30h\nA què estàs esperant per venir a conèixer l’Intercanviador?? No cal reservar prèviament i tenim un aforament fins a 25 persones!!!🧡
URL:https://espaijovegarcilaso.org/esdeveniments/espai-de-trobada-destiu/
END:VEVENT
BEGIN:VEVENT
DTSTART;TZID=Europe/Paris:20210630T173000
DTEND;TZID=Europe/Paris:20210630T193000
DTSTAMP:20260425T020651
CREATED:20210512T093723Z
LAST-MODIFIED:20210617T083246Z
UID:16384-1625074200-1625081400@espaijovegarcilaso.org
SUMMARY:Hula hoop i consciència corporal - Aquí T'escoltem
DESCRIPTION:Hula hoop i consciència corporal\n \nEl hula hoop és un malabar que ens connecta amb el nostre cos\, ens fa estar atents i posar tota la nostra consciència en el present per poder fer girar infinitament l’aro i ballar amb ell. Si vols passar una tarda divertida aprenent els trucs bàsics del hula hoop no et perdis aquest taller!!!\nJoves 12 a 20 anys. Cal inscripció prèvia. Gratuït!\nMés informació al telèfon: 652798816 \n \n  \nBodyPercusion \nDiuen que tots tenim un ritme intern i que segons les nostres emocions\, sona d’una manera o d’una altra!!! Vine a passar una tarda on aprendre elements bàsics de bodypercusion i escoltar el ritme que portes dins. \nJoves 12 a 20 anys. Cal inscripció prèvia. Gratuït!\nMés informació al telèfon: 652798816 \n \n  \nLaboratori Feminista \nTens ganes de conèixer més sobre el feminisme? T’interessen els diversos temes que l’engloben tals com: les violències masclistes\, els rols i estereotips als mitjans de comunicació…? Si tens ganes de compartir un espai on expressar les teves idees i emocions vers aquests temes\, no et perdis aquest taller! \nJoves 16 a 20 anys. Cal inscripció prèvia. Gratuït!\nMés informació al telèfon: 652798816 \n \n  \nTaller Il·lustrant Idees Contaminants \nQuè són les idees contaminants? Com ens afecten en el nostre dia a dia? I al nostre entorn?\nSi t’interessa el medi ambient\, vols passar una tarda transformant idees contaminants i expressar-les en una il·lustració no et perdis aquest taller ni el CineFòrum del 12 de Juliol amb l’Intercanviador!! \nJoves 12 a 20 anys. Cal inscripció prèvia. Gratuït!\nMés informació al telèfon: 652798816
URL:https://espaijovegarcilaso.org/esdeveniments/hula-hoop-aqui-tescoltem/
END:VEVENT
BEGIN:VEVENT
DTSTART;TZID=Europe/Paris:20210629T120000
DTEND;TZID=Europe/Paris:20210629T140000
DTSTAMP:20260425T020651
CREATED:20210531T182515Z
LAST-MODIFIED:20210531T182515Z
UID:16587-1624968000-1624975200@espaijovegarcilaso.org
SUMMARY:Voluntariat Social a Barcelona
DESCRIPTION:El Punt infoJOVE i el JIP Sant Andreu organitzem aquesta sessió informativa a càrrec de la Federació Catalana de Voluntariat Social a on podràs conèixer en què consisteix el voluntariat social\, com pots col·laborar en una entitat\, a quines actuacions podries intervenir\, i molt més. També aprendràs a fer la cerca d’oportunitats a la borsa del voluntariat. \nL’activitat serà presencial a l’Espai Jove Garcilaso. Aforament limitat. \nLa xerrada es gratuïta però amb inscripció prèvia a: \nWhatsapp: 601 640 797 \nInstagram: @pijsantandreu
URL:https://espaijovegarcilaso.org/esdeveniments/voluntariat-social-a-barcelona/
END:VEVENT
BEGIN:VEVENT
DTSTART;TZID=Europe/Paris:20210628T180000
DTEND;TZID=Europe/Paris:20210628T200000
DTSTAMP:20260425T020651
CREATED:20210522T083216Z
LAST-MODIFIED:20210522T083216Z
UID:16520-1624903200-1624910400@espaijovegarcilaso.org
SUMMARY:Inter&Chill - Projecció d'una sèrie juvenil i debat
DESCRIPTION:Arriba Juny el mes de l’Orgull ️🧡\nEns trobem cada dilluns per continuar amb el serie-fòrum a partir de les 18 h a l’Espai Jove Garcilaso.\n\n️‍ Aquest mes ve carregat d’un munt d’activitats LGTBIQA+ de tot tipus.  \n I no ens podem oblidar del Més enllà del Trap d’aquest mes el dia 18 on prèviament farem un micro obert amb l’actuació d’algunes joves. \n🏾‍♀️🏽‍♂️ Per a les activitats presencials recorda que has de reservar plaça pel nostre whatsapp o Instagram. \nTotes són cap a les 18h! ❔Si tens dubtes pregunta’ns!🧡 \n\n \n\n 
URL:https://espaijovegarcilaso.org/esdeveniments/interchill-projeccio-duna-serie-juvenil-i-debat-8/
END:VEVENT
BEGIN:VEVENT
DTSTART;TZID=Europe/Paris:20210621T180000
DTEND;TZID=Europe/Paris:20210621T200000
DTSTAMP:20260425T020652
CREATED:20210522T083149Z
LAST-MODIFIED:20210522T083149Z
UID:16518-1624298400-1624305600@espaijovegarcilaso.org
SUMMARY:Inter&Chill - Projecció d'una sèrie juvenil i debat
DESCRIPTION:Arriba Juny el mes de l’Orgull ️🧡\nEns trobem cada dilluns per continuar amb el serie-fòrum a partir de les 18 h a l’Espai Jove Garcilaso.\n\n️‍ Aquest mes ve carregat d’un munt d’activitats LGTBIQA+ de tot tipus.  \n I no ens podem oblidar del Més enllà del Trap d’aquest mes el dia 18 on prèviament farem un micro obert amb l’actuació d’algunes joves. \n🏾‍♀️🏽‍♂️ Per a les activitats presencials recorda que has de reservar plaça pel nostre whatsapp o Instagram. \nTotes són cap a les 18h! ❔Si tens dubtes pregunta’ns!🧡 \n\n \n\n 
URL:https://espaijovegarcilaso.org/esdeveniments/interchill-projeccio-duna-serie-juvenil-i-debat-7/
END:VEVENT
BEGIN:VEVENT
DTSTART;TZID=Europe/Paris:20210618T171500
DTEND;TZID=Europe/Paris:20210618T200000
DTSTAMP:20260425T020652
CREATED:20210612T094854Z
LAST-MODIFIED:20210612T094854Z
UID:16651-1624036500-1624046400@espaijovegarcilaso.org
SUMMARY:Més enllà del trap: Fera y las disidentes
DESCRIPTION:Aquí teniu les activitats setmanals que es realitzaran a La Sala durant la setmana del 14 al 18 de juny.
URL:https://espaijovegarcilaso.org/esdeveniments/mes-enlla-del-trap-fera-y-las-disidentes/
END:VEVENT
BEGIN:VEVENT
DTSTART;TZID=Europe/Paris:20210617T190000
DTEND;TZID=Europe/Paris:20210617T203000
DTSTAMP:20260425T020652
CREATED:20210602T180026Z
LAST-MODIFIED:20210602T180026Z
UID:16604-1623956400-1623961800@espaijovegarcilaso.org
SUMMARY:Workshop - Producció a l'estudi
DESCRIPTION:Dijous 17 de juny\, de 19h a 20:30h \nWorkshop – Producció a l’estudi \nActivitat gratuïta! \nPlaces limitades. Confirmació d’assistència via Whatsapp al 699 62 88 34.
URL:https://espaijovegarcilaso.org/esdeveniments/workshop-produccio-a-lestudi/
END:VEVENT
BEGIN:VEVENT
DTSTART;TZID=Europe/Paris:20210617T180000
DTEND;TZID=Europe/Paris:20210617T200000
DTSTAMP:20260425T020652
CREATED:20210519T153103Z
LAST-MODIFIED:20210519T153103Z
UID:16491-1623952800-1623960000@espaijovegarcilaso.org
SUMMARY:Hackegem l'Algoritme
DESCRIPTION:Durant el proper mes de juny vine a participar al cicle d’activitats que es realitzarà a l’Intercanviador de l’Espai Jove Garcilaso! \nConfirmació d’assistència via whatsapp al 646 153 726. Us hi esperem!
URL:https://espaijovegarcilaso.org/esdeveniments/hackegem-lalgoritme/
END:VEVENT
BEGIN:VEVENT
DTSTART;TZID=Europe/Paris:20210617T171500
DTEND;TZID=Europe/Paris:20210617T200000
DTSTAMP:20260425T020652
CREATED:20210612T094704Z
LAST-MODIFIED:20210612T094704Z
UID:16649-1623950100-1623960000@espaijovegarcilaso.org
SUMMARY:SORTIDA FINAL SORPRESA!!
DESCRIPTION:Aquí teniu les activitats setmanals que es realitzaran a La Sala durant la setmana del 14 al 18 de juny.
URL:https://espaijovegarcilaso.org/esdeveniments/sortida-final-sorpresa/
END:VEVENT
BEGIN:VEVENT
DTSTART;TZID=Europe/Paris:20210616T173000
DTEND;TZID=Europe/Paris:20210616T200000
DTSTAMP:20260425T020652
CREATED:20210522T083844Z
LAST-MODIFIED:20210608T084535Z
UID:16526-1623864600-1623873600@espaijovegarcilaso.org
SUMMARY:Renova la Roba
DESCRIPTION:Ja tenim aquí la campanya del Renova la Roba d’aquest any\, però aquest cop serà una mica diferent i molt dinàmic!  \nUs convidem el dimecres 16 de juny a l’Espai Jove Garcilaso a gaudir d’un teatre fòrum sobre la indústria tèxtil a càrrec del grup de joves de l’Aquí T’Escoltem de la Fontana i dirigit per l’ @art_ur_inal a les 18.15h!  \nAbans del teatre\, a partir de les 17.30h podrem aprendre molt sobre d’on ve la nostra roba a través d’un taller molt interessant a càrrec del Punt infoJOVE Sant Andreu i del Punt JIP. \n⚠️Recorda que hi ha aforament limitat i si vols venir només has d’escriure’ns a @intercanviadorjoves o al Whatsapp 646 153 726 \n 
URL:https://espaijovegarcilaso.org/esdeveniments/renova-la-roba-peca-de-teatre-sobre-la-industria-textil-a-carrec-de-les-joves-de-late-fontana/
END:VEVENT
BEGIN:VEVENT
DTSTART;TZID=Europe/Paris:20210616T173000
DTEND;TZID=Europe/Paris:20210616T173000
DTSTAMP:20260425T020652
CREATED:20210608T202029Z
LAST-MODIFIED:20210608T202029Z
UID:16629-1623864600-1623864600@espaijovegarcilaso.org
SUMMARY:Reunió informativa - La Sala d'Estiu
DESCRIPTION:Estem molt contentis de tenir totes les places cobertes per la Sala d’Estiu 2021. \nSi encara hi ha algú interessat no dubteu en escriure’ns a: lasalagarcilaso@gmail.com i us posarem en llista d’espera per si hi hagués una baixa d’última hora. \nRecordar que farem reunió informativa DIMECRES 16 a les 17.30 h\, ens trobarem a aquesta hora a l’entrada de l’Espai Jove Garcilaso. Us hi esperem per resoldre dubtes i conèixer-nos!
URL:https://espaijovegarcilaso.org/esdeveniments/reunio-informativa-la-sala-destiu/
END:VEVENT
BEGIN:VEVENT
DTSTART;TZID=Europe/Paris:20210615T171500
DTEND;TZID=Europe/Paris:20210615T200000
DTSTAMP:20260425T020652
CREATED:20210612T094502Z
LAST-MODIFIED:20210612T094502Z
UID:16645-1623777300-1623787200@espaijovegarcilaso.org
SUMMARY:Tancament del taller de teatre
DESCRIPTION:Aquí teniu les activitats setmanals que es realitzaran a La Sala durant la setmana del 14 al 18 de juny.
URL:https://espaijovegarcilaso.org/esdeveniments/tancament-del-taller-de-teatre/
END:VEVENT
BEGIN:VEVENT
DTSTART;TZID=Europe/Paris:20210614T180000
DTEND;TZID=Europe/Paris:20210614T200000
DTSTAMP:20260425T020652
CREATED:20210522T083122Z
LAST-MODIFIED:20210522T083122Z
UID:16516-1623693600-1623700800@espaijovegarcilaso.org
SUMMARY:Inter&Chill - Projecció d'una sèrie juvenil i debat
DESCRIPTION:Arriba Juny el mes de l’Orgull ️🧡\nEns trobem cada dilluns per continuar amb el serie-fòrum a partir de les 18 h a l’Espai Jove Garcilaso.\n\n️‍ Aquest mes ve carregat d’un munt d’activitats LGTBIQA+ de tot tipus.  \n I no ens podem oblidar del Més enllà del Trap d’aquest mes el dia 18 on prèviament farem un micro obert amb l’actuació d’algunes joves. \n🏾‍♀️🏽‍♂️ Per a les activitats presencials recorda que has de reservar plaça pel nostre whatsapp o Instagram. \nTotes són cap a les 18h! ❔Si tens dubtes pregunta’ns!🧡 \n\n \n\n 
URL:https://espaijovegarcilaso.org/esdeveniments/interchill-projeccio-duna-serie-juvenil-i-debat-6/
END:VEVENT
BEGIN:VEVENT
DTSTART;TZID=Europe/Paris:20210614T171500
DTEND;TZID=Europe/Paris:20210614T200000
DTSTAMP:20260425T020652
CREATED:20210612T094356Z
LAST-MODIFIED:20210612T094356Z
UID:16643-1623690900-1623700800@espaijovegarcilaso.org
SUMMARY:Cinefòrum: Pride
DESCRIPTION:Aquí teniu les activitats setmanals que es realitzaran a La Sala durant la setmana del 14 al 18 de juny.
URL:https://espaijovegarcilaso.org/esdeveniments/cineforum-pride-2/
END:VEVENT
BEGIN:VEVENT
DTSTART;TZID=Europe/Paris:20210611T193000
DTEND;TZID=Europe/Paris:20210611T213000
DTSTAMP:20260425T020652
CREATED:20210601T145712Z
LAST-MODIFIED:20210601T145712Z
UID:16599-1623439800-1623447000@espaijovegarcilaso.org
SUMMARY:Concert en acústic amb "BACKDOOR"
DESCRIPTION:Els propers dies 10 i 11 de juny a partir de les 19h gaudirem de concerts en acústic a l’Espai Jove Garcilaso amb les actuacions de “MØN” i “BACKDOOR”. \n“MØN” (10 de juny a les 19:30h) \n“BACKDOOR” (11 de juny a les 19:30h) \nInscripcions via whatsapp al 699 62 88 34. \nUs hi esperem!
URL:https://espaijovegarcilaso.org/esdeveniments/concert-en-acustic-amb-backdoor/
END:VEVENT
BEGIN:VEVENT
DTSTART;TZID=Europe/Paris:20210611T190000
DTEND;TZID=Europe/Paris:20210611T210000
DTSTAMP:20260425T020652
CREATED:20210526T093939Z
LAST-MODIFIED:20210526T093939Z
UID:16564-1623438000-1623445200@espaijovegarcilaso.org
SUMMARY:Concert amb BACKDOOR
DESCRIPTION:Aquesta és la programació musical de l’Espai Jove Garcilaso\, corresponent al mes de juny. Totes les activitats són gratuïtes\, amb reserva prèvia via whatsapp al 699 628 834. Aforament limitat.
URL:https://espaijovegarcilaso.org/esdeveniments/concert-amb-backdoor/
END:VEVENT
BEGIN:VEVENT
DTSTART;TZID=Europe/Paris:20210611T171500
DTEND;TZID=Europe/Paris:20210611T200000
DTSTAMP:20260425T020652
CREATED:20210606T121459Z
LAST-MODIFIED:20210606T121459Z
UID:16615-1623431700-1623441600@espaijovegarcilaso.org
SUMMARY:Fem el guiri - La Sala
DESCRIPTION:Aquí teniu les activitats setmanals que es realitzaran a La Sala durant la setmana del 7 al 11 de juny.
URL:https://espaijovegarcilaso.org/esdeveniments/fem-el-guiri-la-sala/
END:VEVENT
BEGIN:VEVENT
DTSTART;TZID=Europe/Paris:20210610T193000
DTEND;TZID=Europe/Paris:20210610T213000
DTSTAMP:20260425T020652
CREATED:20210601T145617Z
LAST-MODIFIED:20210601T145617Z
UID:16597-1623353400-1623360600@espaijovegarcilaso.org
SUMMARY:Concert en acústic amb "MØN"
DESCRIPTION:Els propers dies 10 i 11 de juny a partir de les 19h gaudirem de concerts en acústic a l’Espai Jove Garcilaso amb les actuacions de “MØN” i “BACKDOOR”. \n“MØN” (10 de juny a les 19:30h) \n“BACKDOOR” (11 de juny a les 19:30h) \nInscripcions via whatsapp al 699 62 88 34. \nUs hi esperem!
URL:https://espaijovegarcilaso.org/esdeveniments/concert-en-acustic-amb-mon/
END:VEVENT
BEGIN:VEVENT
DTSTART;TZID=Europe/Paris:20210610T180000
DTEND;TZID=Europe/Paris:20210610T200000
DTSTAMP:20260425T020652
CREATED:20210519T153258Z
LAST-MODIFIED:20210519T153258Z
UID:16495-1623348000-1623355200@espaijovegarcilaso.org
SUMMARY:Sex Game - Intercanviador
DESCRIPTION:Durant el proper mes de juny vine a participar al cicle d’activitats que es realitzarà a l’Intercanviador de l’Espai Jove Garcilaso! \nConfirmació d’assistència via whatsapp al 646 153 726. Us hi esperem!
URL:https://espaijovegarcilaso.org/esdeveniments/sex-game-intercanviador/
END:VEVENT
BEGIN:VEVENT
DTSTART;TZID=Europe/Paris:20210610T171500
DTEND;TZID=Europe/Paris:20210610T200000
DTSTAMP:20260425T020652
CREATED:20210606T121424Z
LAST-MODIFIED:20210606T121424Z
UID:16613-1623345300-1623355200@espaijovegarcilaso.org
SUMMARY:Tarda d'autogestió - La Sala
DESCRIPTION:Aquí teniu les activitats setmanals que es realitzaran a La Sala durant la setmana del 7 al 11 de juny.
URL:https://espaijovegarcilaso.org/esdeveniments/tarda-dautogestio-la-sala-8/
END:VEVENT
BEGIN:VEVENT
DTSTART;TZID=Europe/Paris:20210609T180000
DTEND;TZID=Europe/Paris:20210609T200000
DTSTAMP:20260425T020652
CREATED:20210519T153012Z
LAST-MODIFIED:20210519T153012Z
UID:16489-1623261600-1623268800@espaijovegarcilaso.org
SUMMARY:Maquillatge Drag
DESCRIPTION:Durant el proper mes de juny vine a participar al cicle d’activitats que es realitzarà a l’Intercanviador de l’Espai Jove Garcilaso! \nConfirmació d’assistència via whatsapp al 646 153 726. Us hi esperem!
URL:https://espaijovegarcilaso.org/esdeveniments/maquillatge-drag/
END:VEVENT
BEGIN:VEVENT
DTSTART;TZID=Europe/Paris:20210609T171500
DTEND;TZID=Europe/Paris:20210609T200000
DTSTAMP:20260425T020652
CREATED:20210606T121348Z
LAST-MODIFIED:20210606T121348Z
UID:16611-1623258900-1623268800@espaijovegarcilaso.org
SUMMARY:Tarda de projecte: Pintem el mural de La Sala
DESCRIPTION:Aquí teniu les activitats setmanals que es realitzaran a La Sala durant la setmana del 7 al 11 de juny.
URL:https://espaijovegarcilaso.org/esdeveniments/tarda-de-projecte-pintem-el-mural-de-la-sala/
END:VEVENT
BEGIN:VEVENT
DTSTART;TZID=Europe/Paris:20210608T180000
DTEND;TZID=Europe/Paris:20210608T200000
DTSTAMP:20260425T020652
CREATED:20210522T083444Z
LAST-MODIFIED:20210522T083444Z
UID:16524-1623175200-1623182400@espaijovegarcilaso.org
SUMMARY:Teatrefòrum "Sortint del mirall"
DESCRIPTION:Arriba Juny el mes de l’Orgull ️🧡\nEns trobem cada dilluns per continuar amb el serie-fòrum a partir de les 18 h a l’Espai Jove Garcilaso.\n\n️‍ Aquest mes ve carregat d’un munt d’activitats LGTBIQA+ de tot tipus.  \n I no ens podem oblidar del Més enllà del Trap d’aquest mes el dia 18 on prèviament farem un micro obert amb l’actuació d’algunes joves. \n🏾‍♀️🏽‍♂️ Per a les activitats presencials recorda que has de reservar plaça pel nostre whatsapp o Instagram. \nTotes són cap a les 18h! ❔Si tens dubtes pregunta’ns!🧡 \n\n \n\n 
URL:https://espaijovegarcilaso.org/esdeveniments/teatreforum-sortint-del-mirall-5/
END:VEVENT
BEGIN:VEVENT
DTSTART;TZID=Europe/Paris:20210607T190000
DTEND;TZID=Europe/Paris:20210607T210000
DTSTAMP:20260425T020652
CREATED:20210519T153205Z
LAST-MODIFIED:20210519T153205Z
UID:16493-1623092400-1623099600@espaijovegarcilaso.org
SUMMARY:El hate lgtbifòbic - Xerrada presencial i online
DESCRIPTION:Durant el proper mes de juny vine a participar al cicle d’activitats que es realitzarà a l’Intercanviador de l’Espai Jove Garcilaso! \nConfirmació d’assistència via whatsapp al 646 153 726. Us hi esperem!
URL:https://espaijovegarcilaso.org/esdeveniments/el-hate-lgtbifobic-xerrada-presencial-i-online/
END:VEVENT
END:VCALENDAR