BEGIN:VCALENDAR
VERSION:2.0
PRODID:-//Espai Jove Garcilaso - ECPv6.15.13//NONSGML v1.0//EN
CALSCALE:GREGORIAN
METHOD:PUBLISH
X-ORIGINAL-URL:https://espaijovegarcilaso.org
X-WR-CALDESC:Esdeveniments per Espai Jove Garcilaso
REFRESH-INTERVAL;VALUE=DURATION:PT1H
X-Robots-Tag:noindex
X-PUBLISHED-TTL:PT1H
BEGIN:VTIMEZONE
TZID:Europe/Paris
BEGIN:DAYLIGHT
TZOFFSETFROM:+0100
TZOFFSETTO:+0200
TZNAME:CEST
DTSTART:20200329T010000
END:DAYLIGHT
BEGIN:STANDARD
TZOFFSETFROM:+0200
TZOFFSETTO:+0100
TZNAME:CET
DTSTART:20201025T010000
END:STANDARD
BEGIN:DAYLIGHT
TZOFFSETFROM:+0100
TZOFFSETTO:+0200
TZNAME:CEST
DTSTART:20210328T010000
END:DAYLIGHT
BEGIN:STANDARD
TZOFFSETFROM:+0200
TZOFFSETTO:+0100
TZNAME:CET
DTSTART:20211031T010000
END:STANDARD
BEGIN:DAYLIGHT
TZOFFSETFROM:+0100
TZOFFSETTO:+0200
TZNAME:CEST
DTSTART:20220327T010000
END:DAYLIGHT
BEGIN:STANDARD
TZOFFSETFROM:+0200
TZOFFSETTO:+0100
TZNAME:CET
DTSTART:20221030T010000
END:STANDARD
END:VTIMEZONE
BEGIN:VEVENT
DTSTART;TZID=Europe/Paris:20210610T180000
DTEND;TZID=Europe/Paris:20210610T200000
DTSTAMP:20260425T052722
CREATED:20210519T153258Z
LAST-MODIFIED:20210519T153258Z
UID:16495-1623348000-1623355200@espaijovegarcilaso.org
SUMMARY:Sex Game - Intercanviador
DESCRIPTION:Durant el proper mes de juny vine a participar al cicle d’activitats que es realitzarà a l’Intercanviador de l’Espai Jove Garcilaso! \nConfirmació d’assistència via whatsapp al 646 153 726. Us hi esperem!
URL:https://espaijovegarcilaso.org/esdeveniments/sex-game-intercanviador/
END:VEVENT
BEGIN:VEVENT
DTSTART;TZID=Europe/Paris:20210610T171500
DTEND;TZID=Europe/Paris:20210610T200000
DTSTAMP:20260425T052722
CREATED:20210606T121424Z
LAST-MODIFIED:20210606T121424Z
UID:16613-1623345300-1623355200@espaijovegarcilaso.org
SUMMARY:Tarda d'autogestió - La Sala
DESCRIPTION:Aquí teniu les activitats setmanals que es realitzaran a La Sala durant la setmana del 7 al 11 de juny.
URL:https://espaijovegarcilaso.org/esdeveniments/tarda-dautogestio-la-sala-8/
END:VEVENT
BEGIN:VEVENT
DTSTART;TZID=Europe/Paris:20210609T180000
DTEND;TZID=Europe/Paris:20210609T200000
DTSTAMP:20260425T052722
CREATED:20210519T153012Z
LAST-MODIFIED:20210519T153012Z
UID:16489-1623261600-1623268800@espaijovegarcilaso.org
SUMMARY:Maquillatge Drag
DESCRIPTION:Durant el proper mes de juny vine a participar al cicle d’activitats que es realitzarà a l’Intercanviador de l’Espai Jove Garcilaso! \nConfirmació d’assistència via whatsapp al 646 153 726. Us hi esperem!
URL:https://espaijovegarcilaso.org/esdeveniments/maquillatge-drag/
END:VEVENT
BEGIN:VEVENT
DTSTART;TZID=Europe/Paris:20210609T171500
DTEND;TZID=Europe/Paris:20210609T200000
DTSTAMP:20260425T052722
CREATED:20210606T121348Z
LAST-MODIFIED:20210606T121348Z
UID:16611-1623258900-1623268800@espaijovegarcilaso.org
SUMMARY:Tarda de projecte: Pintem el mural de La Sala
DESCRIPTION:Aquí teniu les activitats setmanals que es realitzaran a La Sala durant la setmana del 7 al 11 de juny.
URL:https://espaijovegarcilaso.org/esdeveniments/tarda-de-projecte-pintem-el-mural-de-la-sala/
END:VEVENT
BEGIN:VEVENT
DTSTART;TZID=Europe/Paris:20210608T180000
DTEND;TZID=Europe/Paris:20210608T200000
DTSTAMP:20260425T052722
CREATED:20210522T083444Z
LAST-MODIFIED:20210522T083444Z
UID:16524-1623175200-1623182400@espaijovegarcilaso.org
SUMMARY:Teatrefòrum "Sortint del mirall"
DESCRIPTION:Arriba Juny el mes de l’Orgull ️🧡\nEns trobem cada dilluns per continuar amb el serie-fòrum a partir de les 18 h a l’Espai Jove Garcilaso.\n\n️‍ Aquest mes ve carregat d’un munt d’activitats LGTBIQA+ de tot tipus.  \n I no ens podem oblidar del Més enllà del Trap d’aquest mes el dia 18 on prèviament farem un micro obert amb l’actuació d’algunes joves. \n🏾‍♀️🏽‍♂️ Per a les activitats presencials recorda que has de reservar plaça pel nostre whatsapp o Instagram. \nTotes són cap a les 18h! ❔Si tens dubtes pregunta’ns!🧡 \n\n \n\n 
URL:https://espaijovegarcilaso.org/esdeveniments/teatreforum-sortint-del-mirall-5/
END:VEVENT
BEGIN:VEVENT
DTSTART;TZID=Europe/Paris:20210607T190000
DTEND;TZID=Europe/Paris:20210607T210000
DTSTAMP:20260425T052722
CREATED:20210519T153205Z
LAST-MODIFIED:20210519T153205Z
UID:16493-1623092400-1623099600@espaijovegarcilaso.org
SUMMARY:El hate lgtbifòbic - Xerrada presencial i online
DESCRIPTION:Durant el proper mes de juny vine a participar al cicle d’activitats que es realitzarà a l’Intercanviador de l’Espai Jove Garcilaso! \nConfirmació d’assistència via whatsapp al 646 153 726. Us hi esperem!
URL:https://espaijovegarcilaso.org/esdeveniments/el-hate-lgtbifobic-xerrada-presencial-i-online/
END:VEVENT
BEGIN:VEVENT
DTSTART;TZID=Europe/Paris:20210607T180000
DTEND;TZID=Europe/Paris:20210607T200000
DTSTAMP:20260425T052722
CREATED:20210522T083055Z
LAST-MODIFIED:20210522T083055Z
UID:16514-1623088800-1623096000@espaijovegarcilaso.org
SUMMARY:Inter&Chill - Projecció d'una sèrie juvenil i debat
DESCRIPTION:Arriba Juny el mes de l’Orgull ️🧡\nEns trobem cada dilluns per continuar amb el serie-fòrum a partir de les 18 h a l’Espai Jove Garcilaso.\n️‍ Aquest mes ve carregat d’un munt d’activitats LGTBIQA+ de tot tipus.  \n I no ens podem oblidar del Més enllà del Trap d’aquest mes el dia 18 on prèviament farem un micro obert amb l’actuació d’algunes joves. \n🏾‍♀️🏽‍♂️ Per a les activitats presencials recorda que has de reservar plaça pel nostre whatsapp o Instagram. \nTotes són cap a les 18h! ❔Si tens dubtes pregunta’ns!🧡 \n\n \n\n 
URL:https://espaijovegarcilaso.org/esdeveniments/interchill-projeccio-duna-serie-juvenil-i-debat-4/
END:VEVENT
BEGIN:VEVENT
DTSTART;TZID=Europe/Paris:20210607T171500
DTEND;TZID=Europe/Paris:20210607T200000
DTSTAMP:20260425T052722
CREATED:20210606T121302Z
LAST-MODIFIED:20210606T121302Z
UID:16609-1623086100-1623096000@espaijovegarcilaso.org
SUMMARY:Cinefòrum - La Sala
DESCRIPTION:Aquí teniu les activitats setmanals que es realitzaran a La Sala durant la setmana del 7 al 11 de juny.
URL:https://espaijovegarcilaso.org/esdeveniments/cineforum-la-sala-6/
END:VEVENT
BEGIN:VEVENT
DTSTART;TZID=Europe/Paris:20210604T190000
DTEND;TZID=Europe/Paris:20210604T210000
DTSTAMP:20260425T052722
CREATED:20210525T113137Z
LAST-MODIFIED:20210525T113137Z
UID:16533-1622833200-1622840400@espaijovegarcilaso.org
SUMMARY:Concert Acústic-Tast amb FRITZ AND THE CAT
DESCRIPTION:El proper divendres 4 de juny a partir de les 19h gaudirem del concert Acústic-Tast a l’Espai Jove Garcilaso amb FRITZ AND THE CAT. \nActivitat gratuïta! Places limitades. \nConfirmació d’assistència via whatsapp al 699 62 88 34. \nUs hi esperem!
URL:https://espaijovegarcilaso.org/esdeveniments/concert-acustic-tast-amb-fritz-and-the-cat/
END:VEVENT
BEGIN:VEVENT
DTSTART;TZID=Europe/Paris:20210604T171500
DTEND;TZID=Europe/Paris:20210604T200000
DTSTAMP:20260425T052722
CREATED:20210529T160734Z
LAST-MODIFIED:20210529T160734Z
UID:16580-1622826900-1622836800@espaijovegarcilaso.org
SUMMARY:Sortida al centre LGTBI
DESCRIPTION:Aquí teniu les activitats setmanals que es realitzaran a La Sala durant la setmana del 31 de maig al 4 de juny.
URL:https://espaijovegarcilaso.org/esdeveniments/sortida-al-centre-lgtbi/
END:VEVENT
BEGIN:VEVENT
DTSTART;TZID=Europe/Paris:20210603T171500
DTEND;TZID=Europe/Paris:20210603T200000
DTSTAMP:20260425T052722
CREATED:20210529T160642Z
LAST-MODIFIED:20210529T160642Z
UID:16578-1622740500-1622750400@espaijovegarcilaso.org
SUMMARY:Tarda d'autogestió - La Sala
DESCRIPTION:Aquí teniu les activitats setmanals que es realitzaran a La Sala durant la setmana del 31 de maig al 4 de juny.
URL:https://espaijovegarcilaso.org/esdeveniments/tarda-dautogestio-la-sala-7/
END:VEVENT
BEGIN:VEVENT
DTSTART;TZID=Europe/Paris:20210602T180000
DTEND;TZID=Europe/Paris:20210602T200000
DTSTAMP:20260425T052722
CREATED:20210522T083352Z
LAST-MODIFIED:20210522T083352Z
UID:16522-1622656800-1622664000@espaijovegarcilaso.org
SUMMARY:Torneig de Ping-Pong
DESCRIPTION:Arriba Juny el mes de l’Orgull ️🧡\nEns trobem cada dilluns per continuar amb el serie-fòrum a partir de les 18 h a l’Espai Jove Garcilaso.\n\n️‍ Aquest mes ve carregat d’un munt d’activitats LGTBIQA+ de tot tipus.  \n I no ens podem oblidar del Més enllà del Trap d’aquest mes el dia 18 on prèviament farem un micro obert amb l’actuació d’algunes joves. \n🏾‍♀️🏽‍♂️ Per a les activitats presencials recorda que has de reservar plaça pel nostre whatsapp o Instagram. \nTotes són cap a les 18h! ❔Si tens dubtes pregunta’ns!🧡 \n\n \n\n 
URL:https://espaijovegarcilaso.org/esdeveniments/torneig-de-ping-pong/
END:VEVENT
BEGIN:VEVENT
DTSTART;TZID=Europe/Paris:20210602T171500
DTEND;TZID=Europe/Paris:20210602T200000
DTSTAMP:20260425T052722
CREATED:20210529T160559Z
LAST-MODIFIED:20210529T160559Z
UID:16576-1622654100-1622664000@espaijovegarcilaso.org
SUMMARY:Tarda de projecte - La Sala
DESCRIPTION:Aquí teniu les activitats setmanals que es realitzaran a La Sala durant la setmana del 31 de maig al 4 de juny.
URL:https://espaijovegarcilaso.org/esdeveniments/tarda-de-projecte-la-sala-2/
END:VEVENT
BEGIN:VEVENT
DTSTART;TZID=Europe/Paris:20210601T171500
DTEND;TZID=Europe/Paris:20210601T200000
DTSTAMP:20260425T052722
CREATED:20210529T160515Z
LAST-MODIFIED:20210529T160515Z
UID:16574-1622567700-1622577600@espaijovegarcilaso.org
SUMMARY:Taller de teatre - La Sala
DESCRIPTION:Aquí teniu les activitats setmanals que es realitzaran a La Sala durant la setmana del 31 de maig al 4 de juny.
URL:https://espaijovegarcilaso.org/esdeveniments/taller-de-teatre-la-sala-5/
END:VEVENT
BEGIN:VEVENT
DTSTART;TZID=Europe/Paris:20210531T180000
DTEND;TZID=Europe/Paris:20210531T200000
DTSTAMP:20260425T052722
CREATED:20210427T164737Z
LAST-MODIFIED:20210427T164737Z
UID:16285-1622484000-1622491200@espaijovegarcilaso.org
SUMMARY:Inter&Chill - Projecció d'una sèrie juvenil i debat
DESCRIPTION:Si vols trobar un espai chill per veure sèries i poder xerrar sobre elles amb més gent jove\, vine els dilluns de maig a la tarda a l’Intercanviador!! Veurem una o diverses sèries juvenils per després comentar-les a la TV de l’espai amb pufs i sofas i amb molt de caliu.
URL:https://espaijovegarcilaso.org/esdeveniments/interchill-projeccio-duna-serie-juvenil-i-debat-5/
END:VEVENT
BEGIN:VEVENT
DTSTART;TZID=Europe/Paris:20210531T171500
DTEND;TZID=Europe/Paris:20210531T200000
DTSTAMP:20260425T052722
CREATED:20210529T160426Z
LAST-MODIFIED:20210529T160426Z
UID:16572-1622481300-1622491200@espaijovegarcilaso.org
SUMMARY:Cinefòrum - La Sala
DESCRIPTION:Aquí teniu les activitats setmanals que es realitzaran a La Sala durant la setmana del 31 de maig al 4 de juny.
URL:https://espaijovegarcilaso.org/esdeveniments/cineforum-la-sala-5/
END:VEVENT
BEGIN:VEVENT
DTSTART;TZID=Europe/Paris:20210528T180000
DTEND;TZID=Europe/Paris:20210528T200000
DTSTAMP:20260425T052722
CREATED:20210427T164333Z
LAST-MODIFIED:20210427T164333Z
UID:16275-1622224800-1622232000@espaijovegarcilaso.org
SUMMARY:Més enllà del Trap - Concerts per a joves i molt més
DESCRIPTION:Arriba maig amb una explosió d’activitats presencials !!!\nEns trobem cada dilluns i dijous i algun dimarts i divendres a partir de les 18h a l’Espai Jove Garcilaso!\n \nEls dilluns veurem una sèrie i després la comentarem i els dijous farem un projecte de graffiti i emocions on plasmarem tot el nostre art.\n \nAquest mes volem destacar l’activitat del dia 11 per a totes aquelles persones que estan cercant feina! \n \n I no ens podem oblidar del Més enllà del Trap del maig\, el divendres 28!\nPer a les activitats presencials recorda que has de reservar plaça pel nostre whatsapp o Instagram i les activitats virtuals les fem totes per Instagram i a vegades les compartim pel Facebook!\nTotes són cap a les 18h! ❔Si tens dubtes pregunta’ns! \n \n\n 
URL:https://espaijovegarcilaso.org/esdeveniments/mes-enlla-del-trap-concerts-per-a-joves-i-molt-mes-2/
END:VEVENT
BEGIN:VEVENT
DTSTART;TZID=Europe/Paris:20210527T183000
DTEND;TZID=Europe/Paris:20210527T203000
DTSTAMP:20260425T052722
CREATED:20210427T165428Z
LAST-MODIFIED:20210427T165428Z
UID:16293-1622140200-1622147400@espaijovegarcilaso.org
SUMMARY:Street Art: tallers participatius de graffiti
DESCRIPTION:​Tots els dijous de maig a les 18.30h comencem amb els tallers gratuïts de graffiti amb l’Aquí T’Escoltem!!! \nSeran 4 sessions de tallers on ens explicaran d’on ve el graffiti\, vosaltres mateixis decidireu què fer a una paret de 5 metres de l’Intercanviador\, ens ensenyaran diferents tècniques de pintar una paret i finalment acabareu fent un súper graffiti\, deixant la vostra marca a l’espai!!!! \nSi voleu venir només heu d’escriure’ns al whatsapp o a l’Instagram i correu perquè són poquetes places i estan que volen!!!
URL:https://espaijovegarcilaso.org/esdeveniments/street-art-tallers-participatius-de-graffiti-4/
END:VEVENT
BEGIN:VEVENT
DTSTART;TZID=Europe/Paris:20210527T171500
DTEND;TZID=Europe/Paris:20210527T200000
DTSTAMP:20260425T052722
CREATED:20210522T082643Z
LAST-MODIFIED:20210522T082643Z
UID:16510-1622135700-1622145600@espaijovegarcilaso.org
SUMMARY:Tarda d'autogestió - La Sala
DESCRIPTION:Aquí teniu les activitats setmanals que es realitzaran a La Sala durant la setmana del 24 al 28 de maig.
URL:https://espaijovegarcilaso.org/esdeveniments/tarda-dautogestio-la-sala-6/
END:VEVENT
BEGIN:VEVENT
DTSTART;TZID=Europe/Paris:20210526T171500
DTEND;TZID=Europe/Paris:20210526T200000
DTSTAMP:20260425T052722
CREATED:20210522T082353Z
LAST-MODIFIED:20210522T082353Z
UID:16507-1622049300-1622059200@espaijovegarcilaso.org
SUMMARY:Tarda de projecte - La Sala
DESCRIPTION:Aquí teniu les activitats setmanals que es realitzaran a La Sala durant la setmana del 24 al 28 de maig.
URL:https://espaijovegarcilaso.org/esdeveniments/tarda-de-projecte-la-sala/
END:VEVENT
BEGIN:VEVENT
DTSTART;TZID=Europe/Paris:20210525T180000
DTEND;TZID=Europe/Paris:20210525T200000
DTSTAMP:20260425T052722
CREATED:20210427T164129Z
LAST-MODIFIED:20210427T164129Z
UID:16272-1621965600-1621972800@espaijovegarcilaso.org
SUMMARY:Teatrefòrum "Sortint del mirall"
DESCRIPTION:Arriba maig amb una explosió d’activitats presencials !!!\nEns trobem cada dilluns i dijous i algun dimarts i divendres a partir de les 18h a l’Espai Jove Garcilaso!\n \nEls dilluns veurem una sèrie i després la comentarem i els dijous farem un projecte de graffiti i emocions on plasmarem tot el nostre art.\n \nAquest mes volem destacar l’activitat del dia 11 per a totes aquelles persones que estan cercant feina! \n \n I no ens podem oblidar del Més enllà del Trap del maig\, el divendres 28!\nPer a les activitats presencials recorda que has de reservar plaça pel nostre whatsapp o Instagram i les activitats virtuals les fem totes per Instagram i a vegades les compartim pel Facebook!\nTotes són cap a les 18h! ❔Si tens dubtes pregunta’ns! \n \n\n 
URL:https://espaijovegarcilaso.org/esdeveniments/teatreforum-sortint-del-mirall-3/
END:VEVENT
BEGIN:VEVENT
DTSTART;TZID=Europe/Paris:20210521T190000
DTEND;TZID=Europe/Paris:20210521T210000
DTSTAMP:20260425T052722
CREATED:20210514T201214Z
LAST-MODIFIED:20210514T201214Z
UID:16458-1621623600-1621630800@espaijovegarcilaso.org
SUMMARY:Concert amb "Mala Cendra"
DESCRIPTION:El proper divendres 21 de maig a partir de les 19h gaudirem de concert a l’Espai Jove Garcilaso amb l’actuació de “MALA CENDRA”. \nActivitat gratuïta! Places limitades. \nConfirmació d’assistència via whatsapp al 699 62 88 34. \nUs hi esperem!
URL:https://espaijovegarcilaso.org/esdeveniments/concert-amb-mala-cendra/
END:VEVENT
BEGIN:VEVENT
DTSTART;TZID=Europe/Paris:20210521T171500
DTEND;TZID=Europe/Paris:20210521T200000
DTSTAMP:20260425T052722
CREATED:20210514T202234Z
LAST-MODIFIED:20210514T202234Z
UID:16471-1621617300-1621627200@espaijovegarcilaso.org
SUMMARY:Sortida al Parc del Guinardó
DESCRIPTION:Aquí teniu les activitats setmanals que es realitzaran a La Sala durant la setmana del 17 al 21 de maig.
URL:https://espaijovegarcilaso.org/esdeveniments/sortida-al-parc-del-guinardo/
END:VEVENT
BEGIN:VEVENT
DTSTART;TZID=Europe/Paris:20210520T183000
DTEND;TZID=Europe/Paris:20210520T203000
DTSTAMP:20260425T052722
CREATED:20210427T165347Z
LAST-MODIFIED:20210427T165347Z
UID:16291-1621535400-1621542600@espaijovegarcilaso.org
SUMMARY:Street Art: tallers participatius de graffiti
DESCRIPTION:Tots els dijous de maig a les 18.30h comencem amb els tallers gratuïts de graffiti amb l’Aquí T’Escoltem!!! \nSeran 4 sessions de tallers on ens explicaran d’on ve el graffiti\, vosaltres mateixis decidireu què fer a una paret de 5 metres de l’Intercanviador\, ens ensenyaran diferents tècniques de pintar una paret i finalment acabareu fent un súper graffiti\, deixant la vostra marca a l’espai!!!! \nSi voleu venir només heu d’escriure’ns al whatsapp o a l’Instagram i correu perquè són poquetes places i estan que volen!!!
URL:https://espaijovegarcilaso.org/esdeveniments/street-art-tallers-participatius-de-graffiti-3/
END:VEVENT
BEGIN:VEVENT
DTSTART;TZID=Europe/Paris:20210520T171500
DTEND;TZID=Europe/Paris:20210520T200000
DTSTAMP:20260425T052722
CREATED:20210514T202139Z
LAST-MODIFIED:20210514T202139Z
UID:16469-1621530900-1621540800@espaijovegarcilaso.org
SUMMARY:Tarda d'autogestió - La Sala
DESCRIPTION:Aquí teniu les activitats setmanals que es realitzaran a La Sala durant la setmana del 17 al 21 de maig.
URL:https://espaijovegarcilaso.org/esdeveniments/tarda-dautogestio-la-sala-5/
END:VEVENT
BEGIN:VEVENT
DTSTART;TZID=Europe/Paris:20210519T180000
DTEND;TZID=Europe/Paris:20210519T200000
DTSTAMP:20260425T052722
CREATED:20210427T163854Z
LAST-MODIFIED:20210427T163854Z
UID:16270-1621447200-1621454400@espaijovegarcilaso.org
SUMMARY:Hot Confinament – Quizz temàtic cada dos dimecres
DESCRIPTION:Arriba maig amb una explosió d’activitats presencials !!!\nEns trobem cada dilluns i dijous i algun dimarts i divendres a partir de les 18h a l’Espai Jove Garcilaso!\n \nEls dilluns veurem una sèrie i després la comentarem i els dijous farem un projecte de graffiti i emocions on plasmarem tot el nostre art.\n \nAquest mes volem destacar l’activitat del dia 11 per a totes aquelles persones que estan cercant feina! \n \n I no ens podem oblidar del Més enllà del Trap del maig\, el divendres 28!\nPer a les activitats presencials recorda que has de reservar plaça pel nostre whatsapp o Instagram i les activitats virtuals les fem totes per Instagram i a vegades les compartim pel Facebook!\nTotes són cap a les 18h! ❔Si tens dubtes pregunta’ns! \n \n\n 
URL:https://espaijovegarcilaso.org/esdeveniments/hot-confinament-quizz-tematic-cada-dos-dimecres-4/
END:VEVENT
BEGIN:VEVENT
DTSTART;TZID=Europe/Paris:20210519T171500
DTEND;TZID=Europe/Paris:20210519T200000
DTSTAMP:20260425T052722
CREATED:20210514T202049Z
LAST-MODIFIED:20210514T202049Z
UID:16467-1621444500-1621454400@espaijovegarcilaso.org
SUMMARY:Taller amb Nus cooperativa: Gestió emocional del grup
DESCRIPTION:Aquí teniu les activitats setmanals que es realitzaran a La Sala durant la setmana del 17 al 21 de maig.
URL:https://espaijovegarcilaso.org/esdeveniments/taller-amb-nus-cooperativa-gestio-emocional-del-grup/
END:VEVENT
BEGIN:VEVENT
DTSTART;TZID=Europe/Paris:20210518T171500
DTEND;TZID=Europe/Paris:20210518T200000
DTSTAMP:20260425T052722
CREATED:20210514T201921Z
LAST-MODIFIED:20210514T201921Z
UID:16465-1621358100-1621368000@espaijovegarcilaso.org
SUMMARY:Teatrefòrum: Sortint del mirall
DESCRIPTION:Aquí teniu les activitats setmanals que es realitzaran a La Sala durant la setmana del 17 al 21 de maig.
URL:https://espaijovegarcilaso.org/esdeveniments/teatreforum-sortint-del-mirall-4/
END:VEVENT
BEGIN:VEVENT
DTSTART;TZID=Europe/Paris:20210517T180000
DTEND;TZID=Europe/Paris:20210517T200000
DTSTAMP:20260425T052722
CREATED:20210427T164626Z
LAST-MODIFIED:20210427T164626Z
UID:16281-1621274400-1621281600@espaijovegarcilaso.org
SUMMARY:Inter&Chill - Projecció d'una sèrie juvenil i debat
DESCRIPTION:Si vols trobar un espai chill per veure sèries i poder xerrar sobre elles amb més gent jove\, vine els dilluns de maig a la tarda a l’Intercanviador!! Veurem una o diverses sèries juvenils per després comentar-les a la TV de l’espai amb pufs i sofas i amb molt de caliu.
URL:https://espaijovegarcilaso.org/esdeveniments/interchill-projeccio-duna-serie-juvenil-i-debat-3/
END:VEVENT
BEGIN:VEVENT
DTSTART;TZID=Europe/Paris:20210517T171500
DTEND;TZID=Europe/Paris:20210517T200000
DTSTAMP:20260425T052722
CREATED:20210514T201815Z
LAST-MODIFIED:20210514T201815Z
UID:16463-1621271700-1621281600@espaijovegarcilaso.org
SUMMARY:Cinefòrum - La Sala
DESCRIPTION:Aquí teniu les activitats setmanals que es realitzaran a La Sala durant la setmana del 17 al 21 de maig.
URL:https://espaijovegarcilaso.org/esdeveniments/cineforum-la-sala-4/
END:VEVENT
END:VCALENDAR