BEGIN:VCALENDAR
VERSION:2.0
PRODID:-//Espai Jove Garcilaso - ECPv6.15.13//NONSGML v1.0//EN
CALSCALE:GREGORIAN
METHOD:PUBLISH
X-WR-CALNAME:Espai Jove Garcilaso
X-ORIGINAL-URL:https://espaijovegarcilaso.org
X-WR-CALDESC:Esdeveniments per Espai Jove Garcilaso
REFRESH-INTERVAL;VALUE=DURATION:PT1H
X-Robots-Tag:noindex
X-PUBLISHED-TTL:PT1H
BEGIN:VTIMEZONE
TZID:Europe/Paris
BEGIN:DAYLIGHT
TZOFFSETFROM:+0100
TZOFFSETTO:+0200
TZNAME:CEST
DTSTART:20220327T010000
END:DAYLIGHT
BEGIN:STANDARD
TZOFFSETFROM:+0200
TZOFFSETTO:+0100
TZNAME:CET
DTSTART:20221030T010000
END:STANDARD
BEGIN:DAYLIGHT
TZOFFSETFROM:+0100
TZOFFSETTO:+0200
TZNAME:CEST
DTSTART:20230326T010000
END:DAYLIGHT
BEGIN:STANDARD
TZOFFSETFROM:+0200
TZOFFSETTO:+0100
TZNAME:CET
DTSTART:20231029T010000
END:STANDARD
BEGIN:DAYLIGHT
TZOFFSETFROM:+0100
TZOFFSETTO:+0200
TZNAME:CEST
DTSTART:20240331T010000
END:DAYLIGHT
BEGIN:STANDARD
TZOFFSETFROM:+0200
TZOFFSETTO:+0100
TZNAME:CET
DTSTART:20241027T010000
END:STANDARD
END:VTIMEZONE
BEGIN:VEVENT
DTSTART;TZID=Europe/Paris:20230310T200000
DTEND;TZID=Europe/Paris:20230310T220000
DTSTAMP:20260420T131043
CREATED:20230127T193347Z
LAST-MODIFIED:20230127T193347Z
UID:19999-1678478400-1678485600@espaijovegarcilaso.org
SUMMARY:Concert dia de la dona
DESCRIPTION:Ja podeu consultar les activitats que es realitzaran al llarg d’aquest trimestre a la nova agenda d’hivern de l’Espai Jove Garcilaso! També podeu accedir al programa virtual escanejant el codi QR adjunt. \n  \nProgramació d’hivern – Espai Jove Garcilaso
URL:https://espaijovegarcilaso.org/esdeveniments/concert-dia-de-la-dona/
END:VEVENT
BEGIN:VEVENT
DTSTART;TZID=Europe/Paris:20230310T180000
DTEND;TZID=Europe/Paris:20230310T190000
DTSTAMP:20260420T131043
CREATED:20230302T183613Z
LAST-MODIFIED:20230302T183613Z
UID:20130-1678471200-1678474800@espaijovegarcilaso.org
SUMMARY:Concert "Alaire"
DESCRIPTION:El proper día 10 a les 18:00 hores tindrem el plaer de gaudir de la música del grup “Alaire”.\n \nPodem realitzar aquest concert gracies al premi suport de la creació del concurs de música acústica 2022 de l’espai jove Garcilaso.\n \nPer a mes informació: https://ajuntament.barcelona.cat/ccivics/lasagrera/p/50473/concert-alaire#\n 
URL:https://espaijovegarcilaso.org/esdeveniments/concert-alaire/
END:VEVENT
BEGIN:VEVENT
DTSTART;TZID=Europe/Paris:20230307T190000
DTEND;TZID=Europe/Paris:20230307T190000
DTSTAMP:20260420T131043
CREATED:20230306T102939Z
LAST-MODIFIED:20230306T102939Z
UID:20138-1678215600-1678215600@espaijovegarcilaso.org
SUMMARY:L'Art de visibilitzar: Mirades femenines
DESCRIPTION:Des de la Comissió de Gènere de Navas -El Niu- en motiu del 8M\, el 7 de març a les 19h tindrà lloc la presentació de l’exposició ‘Art de Visibilitzar: mirades femenines” que pretén donar a conèixer la realitat de les dones de l’Equipament Integral Meridiana a través d’una obra protagonitzada per elles mateixes i creada per dos artistes que també viuen a l’EIM. Alhora\, volem reivindicar que la coneixença és vital per a trencar discursos d’odi i l’estigma. La realitat de les persones en situació de sensellarisme la percebem com a llunyana tot i que la tinguem al costat de casa. La mirem però no la veiem. Així la invisibilitzem. A més\, si es tracta de dones o persones de gèneres dissidents suposa una major exposició i discriminació. \n  \nDesprés de la presentació de l’exposició comptarem amb una taula rodona formada per dones de l’EIM i joves de l’Espai Jove Garcilaso que parlaran sobre com viuen el 8M. \n  \nI\, per finalitzar\, gaudirem d’una lectura de poemes de diferents autores. \n 
URL:https://espaijovegarcilaso.org/esdeveniments/lart-de-visibilitzar-mirades-femenines/
END:VEVENT
BEGIN:VEVENT
DTSTART;TZID=Europe/Paris:20230307T180000
DTEND;TZID=Europe/Paris:20230307T200000
DTSTAMP:20260420T131043
CREATED:20230202T182922Z
LAST-MODIFIED:20230202T182922Z
UID:20049-1678212000-1678219200@espaijovegarcilaso.org
SUMMARY:Mans a l'obra - Intercanviador
DESCRIPTION:Ja podeu consultar les activitats que es realitzaran al llarg d’aquest trimestre a la nova agenda d’hivern de l’Espai Jove Garcilaso! També podeu accedir al programa virtual escanejant el codi QR adjunt. \n  \nProgramació d’hivern – Espai Jove Garcilaso
URL:https://espaijovegarcilaso.org/esdeveniments/mans-a-lobra-intercanviador-4/
END:VEVENT
BEGIN:VEVENT
DTSTART;TZID=Europe/Paris:20230307T180000
DTEND;TZID=Europe/Paris:20230307T200000
DTSTAMP:20260420T131043
CREATED:20230127T195600Z
LAST-MODIFIED:20230127T195600Z
UID:20022-1678212000-1678219200@espaijovegarcilaso.org
SUMMARY:Taller de cuina
DESCRIPTION:Vine a participar en el nostre viatge culinari pels diferents països del món a través del paladar amb l’ajuda de les receptes que farem cada dimarts de 18 a 20h.
URL:https://espaijovegarcilaso.org/esdeveniments/taller-de-cuina-9/
END:VEVENT
BEGIN:VEVENT
DTSTART;TZID=Europe/Paris:20230306T180000
DTEND;TZID=Europe/Paris:20230306T200000
DTSTAMP:20260420T131043
CREATED:20230202T175432Z
LAST-MODIFIED:20230202T175454Z
UID:20039-1678125600-1678132800@espaijovegarcilaso.org
SUMMARY:Cinefòrum
DESCRIPTION:Ja podeu consultar les activitats que es realitzaran al llarg d’aquest trimestre a la nova agenda d’hivern de l’Espai Jove Garcilaso! També podeu accedir al programa virtual escanejant el codi QR adjunt. \n  \nProgramació d’hivern – Espai Jove Garcilaso
URL:https://espaijovegarcilaso.org/esdeveniments/cineforum-5/
END:VEVENT
BEGIN:VEVENT
DTSTART;TZID=Europe/Paris:20230306T180000
DTEND;TZID=Europe/Paris:20230306T200000
DTSTAMP:20260420T131043
CREATED:20230127T192501Z
LAST-MODIFIED:20230127T192501Z
UID:19990-1678125600-1678132800@espaijovegarcilaso.org
SUMMARY:Objectiu professional: Auxiliar de veterinària / Perruqueria canina - IN-FORMA'T
DESCRIPTION:Ja podeu consultar les activitats que es realitzaran al llarg d’aquest trimestre a la nova agenda d’hivern de l’Espai Jove Garcilaso! També podeu accedir al programa virtual escanejant el codi QR adjunt. \n  \nProgramació d’hivern – Espai Jove Garcilaso
URL:https://espaijovegarcilaso.org/esdeveniments/objectiu-professional-auxiliar-de-veterinaria-perruqueria-canina-in-format/
END:VEVENT
BEGIN:VEVENT
DTSTART;TZID=Europe/Paris:20230306T180000
DTEND;TZID=Europe/Paris:20230306T193000
DTSTAMP:20260420T131043
CREATED:20230210T172531Z
LAST-MODIFIED:20230210T172531Z
UID:20097-1678125600-1678131000@espaijovegarcilaso.org
SUMMARY:Objectiu professional: Auxiliar de veterinària / Perruqueria canina
DESCRIPTION:Dilluns 6 de març de 18 a 19.30h – Objectiu professional: Auxiliar de veterinària/ Perruqueria canina \n  \nSi vols treballar amb animals\, apropa’t a aquesta sessió per ampliar informació respecte a aquests estudis! \n  \nActivitat gratuïta. Inscripció prèvia al següent enllaç:https://inscripcions-ajuntament.barcelona.cat/index.php/935642?lang=ca \n 
URL:https://espaijovegarcilaso.org/esdeveniments/objectiu-professional-auxiliar-de-veterinaria-perruqueria-canina/
END:VEVENT
BEGIN:VEVENT
DTSTART;TZID=Europe/Paris:20230228T180000
DTEND;TZID=Europe/Paris:20230228T200000
DTSTAMP:20260420T131043
CREATED:20230127T195525Z
LAST-MODIFIED:20230127T195525Z
UID:20020-1677607200-1677614400@espaijovegarcilaso.org
SUMMARY:Taller de cuina
DESCRIPTION:Vine a participar en el nostre viatge culinari pels diferents països del món a través del paladar amb l’ajuda de les receptes que farem cada dimarts de 18 a 20h.
URL:https://espaijovegarcilaso.org/esdeveniments/taller-de-cuina-8/
END:VEVENT
BEGIN:VEVENT
DTSTART;TZID=Europe/Paris:20230227T180000
DTEND;TZID=Europe/Paris:20230227T190000
DTSTAMP:20260420T131043
CREATED:20230210T172526Z
LAST-MODIFIED:20230210T172526Z
UID:20092-1677520800-1677524400@espaijovegarcilaso.org
SUMMARY:Què és un PFI?
DESCRIPTION:Dilluns 27 de febrer de 18 a 19.30h – Què és un PFI? \n  \nSaps què és un Programa de Formació i Inserció (PFI)? Vine a aquesta sessió informativa on aprofundirem respecte aquests estudis. \n  \nActivitat gratuïta. Inscripció prèvia al següent enllaç:https://inscripcions-ajuntament.barcelona.cat/index.php/935642?lang=ca \n 
URL:https://espaijovegarcilaso.org/esdeveniments/que-es-un-pfi/
END:VEVENT
BEGIN:VEVENT
DTSTART;TZID=Europe/Paris:20230227T180000
DTEND;TZID=Europe/Paris:20230227T180000
DTSTAMP:20260420T131043
CREATED:20230127T192416Z
LAST-MODIFIED:20230127T192416Z
UID:19988-1677520800-1677520800@espaijovegarcilaso.org
SUMMARY:Què és un PFI? sala d’actes - IN-FORMA'T
DESCRIPTION:Ja podeu consultar les activitats que es realitzaran al llarg d’aquest trimestre a la nova agenda d’hivern de l’Espai Jove Garcilaso! També podeu accedir al programa virtual escanejant el codi QR adjunt. \n  \nProgramació d’hivern – Espai Jove Garcilaso
URL:https://espaijovegarcilaso.org/esdeveniments/que-es-un-pfi-sala-dactes-in-format/
END:VEVENT
BEGIN:VEVENT
DTSTART;TZID=Europe/Paris:20230224T100000
DTEND;TZID=Europe/Paris:20230224T140000
DTSTAMP:20260420T131043
CREATED:20230210T172520Z
LAST-MODIFIED:20230210T172520Z
UID:20087-1677232800-1677247200@espaijovegarcilaso.org
SUMMARY:Jornada Cicles Formatius
DESCRIPTION:Coneix amb detall els estudis de la família professional que vulguis cursar (vies d’accés\, continguts\, sortides professionals…) en aquestes xerrades a càrrec de personal docent i alumnat de diversos centres educatius de Barcelona. \n  \nDivendres 24 de febrer es realitzaran les següents xerrades de Cicles Formatius a l’Espai Jove Garcilaso: \nDe 10 a 11h \n\n​Serv​eis socioculturals i a la comunitat\nFabricació mec​ànica \nAdministració i ​gestió\n\nD’11.30 a 12.30h \n\n​Ensenyaments esportius\nInform​àtica i comunicacions\nTransp​ort i manteniment de vehicles \n\n  \nDe 13 a 14h \n\nS​anitat\nHotele​ria i Turisme\n​Electri​citat i electrònica\n\n  \nActivitat gratuïta. Inscripció prèvia al següent enllaç: https://inscripcions-ajuntament.barcelona.cat/index.php/935642?lang=ca \n 
URL:https://espaijovegarcilaso.org/esdeveniments/jornada-cicles-formatius/
END:VEVENT
BEGIN:VEVENT
DTSTART;TZID=Europe/Paris:20230224T100000
DTEND;TZID=Europe/Paris:20230224T120000
DTSTAMP:20260420T131043
CREATED:20230127T192011Z
LAST-MODIFIED:20230127T192011Z
UID:19986-1677232800-1677240000@espaijovegarcilaso.org
SUMMARY:Jornada de Cicles Formatius - IN-FORMA'T
DESCRIPTION:Ja podeu consultar les activitats que es realitzaran al llarg d’aquest trimestre a la nova agenda d’hivern de l’Espai Jove Garcilaso! També podeu accedir al programa virtual escanejant el codi QR adjunt. \n  \nProgramació d’hivern – Espai Jove Garcilaso
URL:https://espaijovegarcilaso.org/esdeveniments/jornada-de-cicles-formatius-in-format/
END:VEVENT
BEGIN:VEVENT
DTSTART;TZID=Europe/Paris:20230221T180000
DTEND;TZID=Europe/Paris:20230221T200000
DTSTAMP:20260420T131043
CREATED:20230202T184424Z
LAST-MODIFIED:20230202T184424Z
UID:20059-1677002400-1677009600@espaijovegarcilaso.org
SUMMARY:Say Cheese
DESCRIPTION:Ja podeu consultar les activitats que es realitzaran al llarg d’aquest trimestre a la nova agenda d’hivern de l’Espai Jove Garcilaso! També podeu accedir al programa virtual escanejant el codi QR adjunt. \n  \nProgramació d’hivern – Espai Jove Garcilaso
URL:https://espaijovegarcilaso.org/esdeveniments/say-cheese-2/
END:VEVENT
BEGIN:VEVENT
DTSTART;TZID=Europe/Paris:20230221T180000
DTEND;TZID=Europe/Paris:20230221T200000
DTSTAMP:20260420T131043
CREATED:20230127T195502Z
LAST-MODIFIED:20230127T195502Z
UID:20018-1677002400-1677009600@espaijovegarcilaso.org
SUMMARY:Taller de cuina
DESCRIPTION:Vine a participar en el nostre viatge culinari pels diferents països del món a través del paladar amb l’ajuda de les receptes que farem cada dimarts de 18 a 20h.
URL:https://espaijovegarcilaso.org/esdeveniments/taller-de-cuina-7/
END:VEVENT
BEGIN:VEVENT
DTSTART;TZID=Europe/Paris:20230221T100000
DTEND;TZID=Europe/Paris:20230221T120000
DTSTAMP:20260420T131043
CREATED:20230210T172516Z
LAST-MODIFIED:20230210T172516Z
UID:20082-1676973600-1676980800@espaijovegarcilaso.org
SUMMARY:Jornada Cicles Emergents
DESCRIPTION:Dimarts 21 de febrer a les 10h – Jornada de Cicles Emergents \n  \nConeix amb detall els estudis de la família professional que vulguis cursar (vies d’accés\, continguts\, sortides professionals…) en aquestes xerrades a càrrec de personal docent i alumnat de diversos centres educatius de Barcelona. \n  \nDimecres 21/02 es realitzaran les següents xerrades de Cicles Formatius relacionats amb FP Emergents: \n– Energia i aigua \n– Agrària \n– Seguretat i medi ambient \n  \nActivitat gratuïta. Inscripció prèvia al següent enllaç: https://inscripcions-ajuntament.barcelona.cat/index.php/935642?lang=ca \n 
URL:https://espaijovegarcilaso.org/esdeveniments/jornada-cicles-emergents/
END:VEVENT
BEGIN:VEVENT
DTSTART;TZID=Europe/Paris:20230221T100000
DTEND;TZID=Europe/Paris:20230221T120000
DTSTAMP:20260420T131043
CREATED:20230127T191506Z
LAST-MODIFIED:20230127T191506Z
UID:19982-1676973600-1676980800@espaijovegarcilaso.org
SUMMARY:Jornada de Cicles Formatius Emergents al Punt infoJOVE de Ciutat Vella - IN-FORMA'T
DESCRIPTION:Ja podeu consultar les activitats que es realitzaran al llarg d’aquest trimestre a la nova agenda d’hivern de l’Espai Jove Garcilaso! També podeu accedir al programa virtual escanejant el codi QR adjunt. \n  \nProgramació d’hivern – Espai Jove Garcilaso
URL:https://espaijovegarcilaso.org/esdeveniments/jornada-de-cicles-formatius-emergents-al-punt-infojove-de-ciutat-vella-in-format/
END:VEVENT
BEGIN:VEVENT
DTSTART;TZID=Europe/Paris:20230220T180000
DTEND;TZID=Europe/Paris:20230220T200000
DTSTAMP:20260420T131043
CREATED:20230202T175401Z
LAST-MODIFIED:20230202T175401Z
UID:20037-1676916000-1676923200@espaijovegarcilaso.org
SUMMARY:Cinefòrum
DESCRIPTION:Ja podeu consultar les activitats que es realitzaran al llarg d’aquest trimestre a la nova agenda d’hivern de l’Espai Jove Garcilaso! També podeu accedir al programa virtual escanejant el codi QR adjunt. \n  \nProgramació d’hivern – Espai Jove Garcilaso
URL:https://espaijovegarcilaso.org/esdeveniments/cineforum-4/
END:VEVENT
BEGIN:VEVENT
DTSTART;TZID=Europe/Paris:20230217T200000
DTEND;TZID=Europe/Paris:20230217T220000
DTSTAMP:20260420T131043
CREATED:20230127T193015Z
LAST-MODIFIED:20230127T193015Z
UID:19996-1676664000-1676671200@espaijovegarcilaso.org
SUMMARY:Sarze - Concerts
DESCRIPTION:Ja podeu consultar les activitats que es realitzaran al llarg d’aquest trimestre a la nova agenda d’hivern de l’Espai Jove Garcilaso! També podeu accedir al programa virtual escanejant el codi QR adjunt. \n  \nProgramació d’hivern – Espai Jove Garcilaso
URL:https://espaijovegarcilaso.org/esdeveniments/sarze-concerts/
END:VEVENT
BEGIN:VEVENT
DTSTART;TZID=Europe/Paris:20230217T180000
DTEND;TZID=Europe/Paris:20230217T200000
DTSTAMP:20260420T131043
CREATED:20230202T184852Z
LAST-MODIFIED:20230202T184852Z
UID:20065-1676656800-1676664000@espaijovegarcilaso.org
SUMMARY:Carnestoltes
DESCRIPTION:Ja podeu consultar les activitats que es realitzaran al llarg d’aquest trimestre a la nova agenda d’hivern de l’Espai Jove Garcilaso! També podeu accedir al programa virtual escanejant el codi QR adjunt. \n  \nProgramació d’hivern – Espai Jove Garcilaso
URL:https://espaijovegarcilaso.org/esdeveniments/carnestoltes-3/
END:VEVENT
BEGIN:VEVENT
DTSTART;TZID=Europe/Paris:20230216T180000
DTEND;TZID=Europe/Paris:20230216T200000
DTSTAMP:20260420T131043
CREATED:20230202T183241Z
LAST-MODIFIED:20230202T183241Z
UID:20053-1676570400-1676577600@espaijovegarcilaso.org
SUMMARY:SexTalk
DESCRIPTION:SexTalk és un projecte que vol crear un espai segur i de confiança per els joves\, on puguin parlar sobre temes relacionats amb la sexualitat i aspectes afectius-sexuals\, els quals seran treballats de forma dinàmica i divertida. \n  \n\n  \nJa podeu consultar les activitats que es realitzaran al llarg d’aquest trimestre a la nova agenda d’hivern de l’Espai Jove Garcilaso! També podeu accedir al programa virtual escanejant el codi QR adjunt. \n  \nProgramació d’hivern – Espai Jove Garcilaso
URL:https://espaijovegarcilaso.org/esdeveniments/sextalk-2/
END:VEVENT
BEGIN:VEVENT
DTSTART;TZID=Europe/Paris:20230214T200000
DTEND;TZID=Europe/Paris:20230214T210000
DTSTAMP:20260420T131043
CREATED:20230206T192811Z
LAST-MODIFIED:20230206T192811Z
UID:20076-1676404800-1676408400@espaijovegarcilaso.org
SUMMARY:Clínic de guitarra elèctrica amb: Jared James Nichols
DESCRIPTION:Dimarts 14 de febrer a les 20h: \n  \nTenim el luxe de tenir al guitarrista nord-americà de blues-rock Jared James Nichols entre nosaltres. La seva tècnica\, el so\, referents\, carrera….és el moment de veure’l prop\, gaudir i preguntar dubtes\, Entrada gratuïta amb places limitades. \n  \nReserva via Whatsapp al 699 62 88 34 \n 
URL:https://espaijovegarcilaso.org/esdeveniments/clinic-de-guitarra-electrica-amb-jared-james-nichols/
END:VEVENT
BEGIN:VEVENT
DTSTART;TZID=Europe/Paris:20230214T180000
DTEND;TZID=Europe/Paris:20230214T200000
DTSTAMP:20260420T131043
CREATED:20230127T195336Z
LAST-MODIFIED:20230127T195336Z
UID:20016-1676397600-1676404800@espaijovegarcilaso.org
SUMMARY:Taller de cuina
DESCRIPTION:Vine a participar en el nostre viatge culinari pels diferents països del món a través del paladar amb l’ajuda de les receptes que farem cada dimarts de 18 a 20h.
URL:https://espaijovegarcilaso.org/esdeveniments/taller-de-cuina-6/
END:VEVENT
BEGIN:VEVENT
DTSTART;TZID=Europe/Paris:20230213T180000
DTEND;TZID=Europe/Paris:20230213T200000
DTSTAMP:20260420T131043
CREATED:20230127T191603Z
LAST-MODIFIED:20230127T191603Z
UID:19984-1676311200-1676318400@espaijovegarcilaso.org
SUMMARY:Estudiants 2.0: App’s per estudiar - IN-FORMA'T
DESCRIPTION:Ja podeu consultar les activitats que es realitzaran al llarg d’aquest trimestre a la nova agenda d’hivern de l’Espai Jove Garcilaso! També podeu accedir al programa virtual escanejant el codi QR adjunt. \n  \nProgramació d’hivern – Espai Jove Garcilaso
URL:https://espaijovegarcilaso.org/esdeveniments/estudiants-2-0-apps-per-estudiar-in-format/
END:VEVENT
BEGIN:VEVENT
DTSTART;TZID=Europe/Paris:20230210T200000
DTEND;TZID=Europe/Paris:20230210T220000
DTSTAMP:20260420T131043
CREATED:20230127T192920Z
LAST-MODIFIED:20230127T192920Z
UID:19994-1676059200-1676066400@espaijovegarcilaso.org
SUMMARY:Joanbar - Concerts
DESCRIPTION:Ja podeu consultar les activitats que es realitzaran al llarg d’aquest trimestre a la nova agenda d’hivern de l’Espai Jove Garcilaso! També podeu accedir al programa virtual escanejant el codi QR adjunt. \n  \nProgramació d’hivern – Espai Jove Garcilaso
URL:https://espaijovegarcilaso.org/esdeveniments/joanbar-concerts/
END:VEVENT
BEGIN:VEVENT
DTSTART;TZID=Europe/Paris:20230209T170000
DTEND;TZID=Europe/Paris:20230209T190000
DTSTAMP:20260420T131043
CREATED:20230127T191417Z
LAST-MODIFIED:20230127T191417Z
UID:19980-1675962000-1675969200@espaijovegarcilaso.org
SUMMARY:Fill/a\, acabes l’ESO i després què? (Activitat per famílies) - IN-FORMA'T
DESCRIPTION:Ja podeu consultar les activitats que es realitzaran al llarg d’aquest trimestre a la nova agenda d’hivern de l’Espai Jove Garcilaso! També podeu accedir al programa virtual escanejant el codi QR adjunt. \n  \nProgramació d’hivern – Espai Jove Garcilaso
URL:https://espaijovegarcilaso.org/esdeveniments/fill-a-acabes-leso-i-despres-que-activitat-per-families-in-format/
END:VEVENT
BEGIN:VEVENT
DTSTART;TZID=Europe/Paris:20230207T180000
DTEND;TZID=Europe/Paris:20230207T200000
DTSTAMP:20260420T131043
CREATED:20230202T182856Z
LAST-MODIFIED:20230202T182856Z
UID:20047-1675792800-1675800000@espaijovegarcilaso.org
SUMMARY:Mans a l'obra - Intercanviador
DESCRIPTION:Ja podeu consultar les activitats que es realitzaran al llarg d’aquest trimestre a la nova agenda d’hivern de l’Espai Jove Garcilaso! També podeu accedir al programa virtual escanejant el codi QR adjunt. \n  \nProgramació d’hivern – Espai Jove Garcilaso
URL:https://espaijovegarcilaso.org/esdeveniments/mans-a-lobra-intercanviador-3/
END:VEVENT
BEGIN:VEVENT
DTSTART;TZID=Europe/Paris:20230207T180000
DTEND;TZID=Europe/Paris:20230207T200000
DTSTAMP:20260420T131043
CREATED:20230127T195314Z
LAST-MODIFIED:20230127T195314Z
UID:20014-1675792800-1675800000@espaijovegarcilaso.org
SUMMARY:Taller de cuina
DESCRIPTION:Vine a participar en el nostre viatge culinari pels diferents països del món a través del paladar amb l’ajuda de les receptes que farem cada dimarts de 18 a 20h.
URL:https://espaijovegarcilaso.org/esdeveniments/taller-de-cuina-5/
END:VEVENT
BEGIN:VEVENT
DTSTART;TZID=Europe/Paris:20230206T180000
DTEND;TZID=Europe/Paris:20230206T200000
DTSTAMP:20260420T131043
CREATED:20230202T175315Z
LAST-MODIFIED:20230202T175315Z
UID:20035-1675706400-1675713600@espaijovegarcilaso.org
SUMMARY:Cinefòrum
DESCRIPTION:Ja podeu consultar les activitats que es realitzaran al llarg d’aquest trimestre a la nova agenda d’hivern de l’Espai Jove Garcilaso! També podeu accedir al programa virtual escanejant el codi QR adjunt. \n  \nProgramació d’hivern – Espai Jove Garcilaso
URL:https://espaijovegarcilaso.org/esdeveniments/cineforum-3/
END:VEVENT
BEGIN:VEVENT
DTSTART;TZID=Europe/Paris:20230131T180000
DTEND;TZID=Europe/Paris:20230131T200000
DTSTAMP:20260420T131043
CREATED:20230202T184533Z
LAST-MODIFIED:20230202T184533Z
UID:20063-1675188000-1675195200@espaijovegarcilaso.org
SUMMARY:Reunió Carnestoltes
DESCRIPTION:Ja podeu consultar les activitats que es realitzaran al llarg d’aquest trimestre a la nova agenda d’hivern de l’Espai Jove Garcilaso! També podeu accedir al programa virtual escanejant el codi QR adjunt. \n  \nProgramació d’hivern – Espai Jove Garcilaso
URL:https://espaijovegarcilaso.org/esdeveniments/reunio-carnestoltes/
END:VEVENT
END:VCALENDAR