BEGIN:VCALENDAR
VERSION:2.0
PRODID:-//Espai Jove Garcilaso - ECPv6.15.13//NONSGML v1.0//EN
CALSCALE:GREGORIAN
METHOD:PUBLISH
X-WR-CALNAME:Espai Jove Garcilaso
X-ORIGINAL-URL:https://espaijovegarcilaso.org
X-WR-CALDESC:Esdeveniments per Espai Jove Garcilaso
REFRESH-INTERVAL;VALUE=DURATION:PT1H
X-Robots-Tag:noindex
X-PUBLISHED-TTL:PT1H
BEGIN:VTIMEZONE
TZID:Europe/Paris
BEGIN:DAYLIGHT
TZOFFSETFROM:+0100
TZOFFSETTO:+0200
TZNAME:CEST
DTSTART:20200329T010000
END:DAYLIGHT
BEGIN:STANDARD
TZOFFSETFROM:+0200
TZOFFSETTO:+0100
TZNAME:CET
DTSTART:20201025T010000
END:STANDARD
BEGIN:DAYLIGHT
TZOFFSETFROM:+0100
TZOFFSETTO:+0200
TZNAME:CEST
DTSTART:20210328T010000
END:DAYLIGHT
BEGIN:STANDARD
TZOFFSETFROM:+0200
TZOFFSETTO:+0100
TZNAME:CET
DTSTART:20211031T010000
END:STANDARD
BEGIN:DAYLIGHT
TZOFFSETFROM:+0100
TZOFFSETTO:+0200
TZNAME:CEST
DTSTART:20220327T010000
END:DAYLIGHT
BEGIN:STANDARD
TZOFFSETFROM:+0200
TZOFFSETTO:+0100
TZNAME:CET
DTSTART:20221030T010000
END:STANDARD
END:VTIMEZONE
BEGIN:VEVENT
DTSTART;TZID=Europe/Paris:20210414T171500
DTEND;TZID=Europe/Paris:20210414T200000
DTSTAMP:20260425T151531
CREATED:20210409T210232Z
LAST-MODIFIED:20210409T210232Z
UID:16160-1618420500-1618430400@espaijovegarcilaso.org
SUMMARY:Projecte: Reciclem roba i serigrafia
DESCRIPTION:Aquí teniu les activitats setmanals que es realitzaran a La Sala durant la setmana del 12 al 16 d’abril.
URL:https://espaijovegarcilaso.org/esdeveniments/projecte-reciclem-roba-i-serigrafia/
END:VEVENT
BEGIN:VEVENT
DTSTART;TZID=Europe/Paris:20210413T171500
DTEND;TZID=Europe/Paris:20210413T200000
DTSTAMP:20260425T151531
CREATED:20210409T210136Z
LAST-MODIFIED:20210409T210136Z
UID:16158-1618334100-1618344000@espaijovegarcilaso.org
SUMMARY:Taller de teatre - La Sala
DESCRIPTION:Aquí teniu les activitats setmanals que es realitzaran a La Sala durant la setmana del 12 al 16 d’abril.
URL:https://espaijovegarcilaso.org/esdeveniments/taller-de-teatre-la-sala-2/
END:VEVENT
BEGIN:VEVENT
DTSTART;TZID=Europe/Paris:20210412T180000
DTEND;TZID=Europe/Paris:20210412T200000
DTSTAMP:20260425T151531
CREATED:20210329T171837Z
LAST-MODIFIED:20210329T171837Z
UID:16095-1618250400-1618257600@espaijovegarcilaso.org
SUMMARY:Patata calenta - Espai de debat i esperit crític
DESCRIPTION:Aquest abril des de l’Intercanviador portem moltes activitats de tot tipus: virtuals\, presencials\, culturals i de lleure. Com a dies destacats tenim el dia de Sant Jordi i el Dia de la Dansa on farem un gran esdeveniment. També recordeu que el 15 d’abril és el bingo musical antiracista que vam posposar el mes anterior\, però aquest cop el farem presencial. \nPer les activitats presencials recorda que has de reservar plaça pel nostre whatsapp o Instagram i les activitats virtuals les fem totes per Instagram i a vegades les compartim pel Facebook! \nTotes són cap a les 18h! Si tens dubtes pregunta’ns!
URL:https://espaijovegarcilaso.org/esdeveniments/patata-calenta-espai-de-debat-i-esperit-critic/
END:VEVENT
BEGIN:VEVENT
DTSTART;TZID=Europe/Paris:20210412T171500
DTEND;TZID=Europe/Paris:20210412T200000
DTSTAMP:20260425T151531
CREATED:20210409T210016Z
LAST-MODIFIED:20210409T210016Z
UID:16156-1618247700-1618257600@espaijovegarcilaso.org
SUMMARY:Cinefòrum: Gran Torino
DESCRIPTION:Aquí teniu les activitats setmanals que es realitzaran a La Sala durant la setmana del 12 al 16 d’abril.
URL:https://espaijovegarcilaso.org/esdeveniments/cineforum-gran-torino/
END:VEVENT
BEGIN:VEVENT
DTSTART;TZID=Europe/Paris:20210409T180000
DTEND;TZID=Europe/Paris:20210409T200000
DTSTAMP:20260425T151531
CREATED:20210329T171641Z
LAST-MODIFIED:20210329T171641Z
UID:16091-1617991200-1617998400@espaijovegarcilaso.org
SUMMARY:Intercheff - Tik Toks de receptes fetes per joves
DESCRIPTION:Aquest abril des de l’Intercanviador portem moltes activitats de tot tipus: virtuals\, presencials\, culturals i de lleure. Com a dies destacats tenim el dia de Sant Jordi i el Dia de la Dansa on farem un gran esdeveniment. També recordeu que el 15 d’abril és el bingo musical antiracista que vam posposar el mes anterior\, però aquest cop el farem presencial. \nPer les activitats presencials recorda que has de reservar plaça pel nostre whatsapp o Instagram i les activitats virtuals les fem totes per Instagram i a vegades les compartim pel Facebook! \nTotes són cap a les 18h! Si tens dubtes pregunta’ns!
URL:https://espaijovegarcilaso.org/esdeveniments/intercheff-tik-toks-de-receptes-fetes-per-joves/
END:VEVENT
BEGIN:VEVENT
DTSTART;TZID=Europe/Paris:20210409T171500
DTEND;TZID=Europe/Paris:20210409T200000
DTSTAMP:20260425T151531
CREATED:20210401T172827Z
LAST-MODIFIED:20210401T172827Z
UID:16143-1617988500-1617998400@espaijovegarcilaso.org
SUMMARY:Sortida: Fem el guiri! - La Sala
DESCRIPTION:Aquí teniu les activitats setmanals que es realitzaran a La Sala durant la setmana del 5 al 9 d’abril.
URL:https://espaijovegarcilaso.org/esdeveniments/sortida-fem-el-guiri-la-sala/
END:VEVENT
BEGIN:VEVENT
DTSTART;TZID=Europe/Paris:20210408T171500
DTEND;TZID=Europe/Paris:20210408T200000
DTSTAMP:20260425T151531
CREATED:20210401T172737Z
LAST-MODIFIED:20210401T172737Z
UID:16141-1617902100-1617912000@espaijovegarcilaso.org
SUMMARY:Tarda d'autogestió - La Sala
DESCRIPTION:Aquí teniu les activitats setmanals que es realitzaran a La Sala durant la setmana del 5 al 9 d’abril.
URL:https://espaijovegarcilaso.org/esdeveniments/tarda-dautogestio-la-sala/
END:VEVENT
BEGIN:VEVENT
DTSTART;TZID=Europe/Paris:20210407T180000
DTEND;TZID=Europe/Paris:20210407T200000
DTSTAMP:20260425T151531
CREATED:20210329T172418Z
LAST-MODIFIED:20210329T172608Z
UID:16105-1617818400-1617825600@espaijovegarcilaso.org
SUMMARY:Hot Confinament! - Quizz temàtic cada dos dimecres
DESCRIPTION:Aquest abril des de l’Intercanviador portem moltes activitats de tot tipus: virtuals\, presencials\, culturals i de lleure. Com a dies destacats tenim el dia de Sant Jordi i el Dia de la Dansa on farem un gran esdeveniment. També recordeu que el 15 d’abril és el bingo musical antiracista que vam posposar el mes anterior\, però aquest cop el farem presencial. \nPer les activitats presencials recorda que has de reservar plaça pel nostre whatsapp o Instagram i les activitats virtuals les fem totes per Instagram i a vegades les compartim pel Facebook! \nTotes són cap a les 18h! Si tens dubtes pregunta’ns!
URL:https://espaijovegarcilaso.org/esdeveniments/hot-confinament-quizz-tematic-cada-dos-dimecres/
END:VEVENT
BEGIN:VEVENT
DTSTART;TZID=Europe/Paris:20210407T171500
DTEND;TZID=Europe/Paris:20210407T200000
DTSTAMP:20260425T151531
CREATED:20210401T172632Z
LAST-MODIFIED:20210401T172632Z
UID:16139-1617815700-1617825600@espaijovegarcilaso.org
SUMMARY:La gimcama del projecte - La Sala
DESCRIPTION:Aquí teniu les activitats setmanals que es realitzaran a La Sala durant la setmana del 5 al 9 d’abril.
URL:https://espaijovegarcilaso.org/esdeveniments/la-gimcama-del-projecte-la-sala/
END:VEVENT
BEGIN:VEVENT
DTSTART;TZID=Europe/Paris:20210406T171500
DTEND;TZID=Europe/Paris:20210406T200000
DTSTAMP:20260425T151531
CREATED:20210401T170439Z
LAST-MODIFIED:20210401T170439Z
UID:16136-1617729300-1617739200@espaijovegarcilaso.org
SUMMARY:Taller de teatre - La Sala
DESCRIPTION:Aquí teniu les activitats setmanals que es realitzaran a La Sala durant la setmana del 5 al 9 d’abril.
URL:https://espaijovegarcilaso.org/esdeveniments/taller-de-teatre-la-sala/
END:VEVENT
BEGIN:VEVENT
DTSTART;TZID=Europe/Paris:20210329T180000
DTEND;TZID=Europe/Paris:20210329T200000
DTSTAMP:20260425T151531
CREATED:20210228T155403Z
LAST-MODIFIED:20210302T204737Z
UID:15841-1617040800-1617048000@espaijovegarcilaso.org
SUMMARY:Shake-Shake - Interculturalitat i ball
DESCRIPTION:Arriba Març amb moltíssima força i ve carregat de moltes d’activitats \nCada dilluns i divendres a partir de les 18 h ens trobem a les xarxes socials o a l’Espai Jove Garcilaso per dur a terme totes aquestes activitats totalment gratuïtes i obertes a tots els i les joves que vulguin apuntar-se!!!\nJa sabeu que algunes són virtuals i altres presencials en funció dels canvis en les mesures sanitàries i que aquestes últimes tenen un aforament reduït. Si tens qualsevol pregunta o vols inscriure’t a alguna activitat no dubtis en escriure’ns al contacte que surt al cartell!!  
URL:https://espaijovegarcilaso.org/esdeveniments/shake-shake-interculturalitat-i-ball/
END:VEVENT
BEGIN:VEVENT
DTSTART;TZID=Europe/Paris:20210329T080000
DTEND;TZID=Europe/Paris:20210329T200000
DTSTAMP:20260425T151531
CREATED:20210317T083516Z
LAST-MODIFIED:20210329T171025Z
UID:15907-1617004800-1617048000@espaijovegarcilaso.org
SUMMARY:Inici Concurs literari Sant Jordi 2021
DESCRIPTION:Ja arriba Sant Jordi i a l’Espai Jove Garcilaso ho celebrem amb un Concurs literari per a joves de 12 a 35 anys. En què consisteix?\nPrimer de tot\, haureu d’escollir una categoria pel vostre escrit (Poesia\, Narrativa o Còmic). El format del text haurà de ser un document en Word en un màxim de 5 pàgines. I a més\, la història haurà de contenir mínim 2 de les següents 5 paraules clau: Cap\, Patata\, Aprovat general\, Hype\, Crush. \nAmb cada escrit presentat al concurs\, s’han d’incloure les següents dades: \n-Títol de l’obra.\n-Nom i cognoms.\n-Pseudònim (optatiu)\n-Telèfon de contacte. \nTeniu des del dia 29 de març fins al 15 d’abril per fer-nos arribar les vostres creacions via email a intercanviadorjoves@gmail.com\nAixí doncs\, encara teniu temps d’anar pensant la vostra història! \nEl dia 23 d’Abril farem l’entrega de premis presencialment a l’Espai Jove Garcilaso i en directe al perfil d’Instagram @espaijovegarcilaso \n 
URL:https://espaijovegarcilaso.org/esdeveniments/inici-concurs-literari-sant-jordi-2021/
END:VEVENT
BEGIN:VEVENT
DTSTART;TZID=Europe/Paris:20210326T180000
DTEND;TZID=Europe/Paris:20210326T200000
DTSTAMP:20260425T151531
CREATED:20210321T224034Z
LAST-MODIFIED:20210321T224034Z
UID:16013-1616781600-1616788800@espaijovegarcilaso.org
SUMMARY:Més enllà del trap: Concert d'AKELARRE
DESCRIPTION:Aquí teniu les activitats setmanals que es realitzaran a La Sala\, del 22 al 26 de març. \n \n  \nUs recordem que Sala Garcilaso té les inscripcions obertes! Si tens ganes de conèixer gent\, passar-t’ho bé i fer moltes activitats\, no dubtis en apuntar-te! \nInscripcions aquí!
URL:https://espaijovegarcilaso.org/esdeveniments/mes-enlla-del-trap-concert-dakelarre/
END:VEVENT
BEGIN:VEVENT
DTSTART;TZID=Europe/Paris:20210325T190000
DTEND;TZID=Europe/Paris:20210325T203000
DTSTAMP:20260425T151531
CREATED:20210318T223006Z
LAST-MODIFIED:20210318T223006Z
UID:15964-1616698800-1616704200@espaijovegarcilaso.org
SUMMARY:Workshop - Manteniment i lutheria bàsica
DESCRIPTION:Dijous 25 de març de 19h a 20:30h \nWorkshop – Manteniment i lutheria bàsica de guitarra i baix. \nActivitat gratuïta! \nPlaces limitades. Confirmació d’assistència via Whatsapp al 699 62 88 34.
URL:https://espaijovegarcilaso.org/esdeveniments/workshop-manteniment-i-lutheria-basica/
END:VEVENT
BEGIN:VEVENT
DTSTART;TZID=Europe/Paris:20210325T180000
DTEND;TZID=Europe/Paris:20210325T200000
DTSTAMP:20260425T151531
CREATED:20210321T223939Z
LAST-MODIFIED:20210321T223939Z
UID:16011-1616695200-1616702400@espaijovegarcilaso.org
SUMMARY:Tarda de jocs
DESCRIPTION:Aquí teniu les activitats setmanals que es realitzaran a La Sala\, del 22 al 26 de març. \n \n  \nUs recordem que Sala Garcilaso té les inscripcions obertes! Si tens ganes de conèixer gent\, passar-t’ho bé i fer moltes activitats\, no dubtis en apuntar-te! \nInscripcions aquí!
URL:https://espaijovegarcilaso.org/esdeveniments/tarda-de-jocs/
END:VEVENT
BEGIN:VEVENT
DTSTART;TZID=Europe/Paris:20210324T180000
DTEND;TZID=Europe/Paris:20210324T200000
DTSTAMP:20260425T151531
CREATED:20210321T223856Z
LAST-MODIFIED:20210321T223856Z
UID:16009-1616608800-1616616000@espaijovegarcilaso.org
SUMMARY:Assemblea per decidir com serà el 3r trimestre
DESCRIPTION:Aquí teniu les activitats setmanals que es realitzaran a La Sala\, del 22 al 26 de març. \n \n  \nUs recordem que Sala Garcilaso té les inscripcions obertes! Si tens ganes de conèixer gent\, passar-t’ho bé i fer moltes activitats\, no dubtis en apuntar-te! \nInscripcions aquí!
URL:https://espaijovegarcilaso.org/esdeveniments/assemblea-per-decidir-com-sera-el-3r-trimestre/
END:VEVENT
BEGIN:VEVENT
DTSTART;TZID=Europe/Paris:20210324T180000
DTEND;TZID=Europe/Paris:20210324T200000
DTSTAMP:20260425T151531
CREATED:20210228T155133Z
LAST-MODIFIED:20210302T204658Z
UID:15837-1616608800-1616616000@espaijovegarcilaso.org
SUMMARY:Cinefòrum - Visibilitat Trans
DESCRIPTION:Arriba Març amb moltíssima força i ve carregat de moltes d’activitats \nCada dilluns i divendres a partir de les 18 h ens trobem a les xarxes socials o a l’Espai Jove Garcilaso per dur a terme totes aquestes activitats totalment gratuïtes i obertes a tots els i les joves que vulguin apuntar-se!!!\nJa sabeu que algunes són virtuals i altres presencials en funció dels canvis en les mesures sanitàries i que aquestes últimes tenen un aforament reduït. Si tens qualsevol pregunta o vols inscriure’t a alguna activitat no dubtis en escriure’ns al contacte que surt al cartell!!  
URL:https://espaijovegarcilaso.org/esdeveniments/cineforum-visibilitat-trans/
END:VEVENT
BEGIN:VEVENT
DTSTART;TZID=Europe/Paris:20210323T180000
DTEND;TZID=Europe/Paris:20210323T200000
DTSTAMP:20260425T151531
CREATED:20210321T223729Z
LAST-MODIFIED:20210321T224317Z
UID:16007-1616522400-1616529600@espaijovegarcilaso.org
SUMMARY:Teatrefòrum: Sortint del mirall
DESCRIPTION:TEATREFÒRUM “Sortint del mirall”: Cada dos dimarts\, és a dir\, cada 15 dies estem fent amb els i les joves de La Sala un teatrefòrum\, on podreu gaudir d’un espectacle de teatre social\, on a més a més podreu participar\, sempre que us vingui de gust. \n  \nAquí teniu les activitats setmanals que es realitzaran a La Sala\, del 22 al 26 de març. \n \n  \nUs recordem que Sala Garcilaso té les inscripcions obertes! Si tens ganes de conèixer gent\, passar-t’ho bé i fer moltes activitats\, no dubtis en apuntar-te! \nInscripcions aquí!
URL:https://espaijovegarcilaso.org/esdeveniments/teatreforum-sortint-del-mirall/
END:VEVENT
BEGIN:VEVENT
DTSTART;TZID=Europe/Paris:20210322T180000
DTEND;TZID=Europe/Paris:20210322T200000
DTSTAMP:20260425T151531
CREATED:20210321T223633Z
LAST-MODIFIED:20210321T223633Z
UID:16004-1616436000-1616443200@espaijovegarcilaso.org
SUMMARY:Cinefòrum: Visibilitat Trans
DESCRIPTION:Aquí teniu les activitats setmanals que es realitzaran a La Sala\, del 22 al 26 de març. \n \n  \nUs recordem que Sala Garcilaso té les inscripcions obertes! Si tens ganes de conèixer gent\, passar-t’ho bé i fer moltes activitats\, no dubtis en apuntar-te! \nInscripcions aquí!
URL:https://espaijovegarcilaso.org/esdeveniments/cineforum-visibilitat-trans-2/
END:VEVENT
BEGIN:VEVENT
DTSTART;TZID=Europe/Paris:20210319T180000
DTEND;TZID=Europe/Paris:20210319T200000
DTSTAMP:20260425T151531
CREATED:20210228T155016Z
LAST-MODIFIED:20210302T204613Z
UID:15835-1616176800-1616184000@espaijovegarcilaso.org
SUMMARY:Bingo Musical - Antirracista
DESCRIPTION:Arriba Març amb moltíssima força i ve carregat de moltes d’activitats \nCada dilluns i divendres a partir de les 18 h ens trobem a les xarxes socials o a l’Espai Jove Garcilaso per dur a terme totes aquestes activitats totalment gratuïtes i obertes a tots els i les joves que vulguin apuntar-se!!!\nJa sabeu que algunes són virtuals i altres presencials en funció dels canvis en les mesures sanitàries i que aquestes últimes tenen un aforament reduït. Si tens qualsevol pregunta o vols inscriure’t a alguna activitat no dubtis en escriure’ns al contacte que surt al cartell!!  
URL:https://espaijovegarcilaso.org/esdeveniments/bingo-musical-antirracista/
END:VEVENT
BEGIN:VEVENT
DTSTART;TZID=Europe/Paris:20210315T180000
DTEND;TZID=Europe/Paris:20210315T200000
DTSTAMP:20260425T151531
CREATED:20210228T154816Z
LAST-MODIFIED:20210302T204550Z
UID:15833-1615831200-1615838400@espaijovegarcilaso.org
SUMMARY:Fes-ho-tu - Fotografia
DESCRIPTION:Arriba Març amb moltíssima força i ve carregat de moltes d’activitats \nCada dilluns i divendres a partir de les 18 h ens trobem a les xarxes socials o a l’Espai Jove Garcilaso per dur a terme totes aquestes activitats totalment gratuïtes i obertes a tots els i les joves que vulguin apuntar-se!!!\nJa sabeu que algunes són virtuals i altres presencials en funció dels canvis en les mesures sanitàries i que aquestes últimes tenen un aforament reduït. Si tens qualsevol pregunta o vols inscriure’t a alguna activitat no dubtis en escriure’ns al contacte que surt al cartell!!  
URL:https://espaijovegarcilaso.org/esdeveniments/fes-ho-tu-fotografia/
END:VEVENT
BEGIN:VEVENT
DTSTART;TZID=Europe/Paris:20210312T180000
DTEND;TZID=Europe/Paris:20210312T200000
DTSTAMP:20260425T151531
CREATED:20210228T154712Z
LAST-MODIFIED:20210302T204527Z
UID:15831-1615572000-1615579200@espaijovegarcilaso.org
SUMMARY:Intercheff - Cuina amb nosaltres!
DESCRIPTION:Arriba Març amb moltíssima força i ve carregat de moltes d’activitats \nCada dilluns i divendres a partir de les 18 h ens trobem a les xarxes socials o a l’Espai Jove Garcilaso per dur a terme totes aquestes activitats totalment gratuïtes i obertes a tots els i les joves que vulguin apuntar-se!!!\nJa sabeu que algunes són virtuals i altres presencials en funció dels canvis en les mesures sanitàries i que aquestes últimes tenen un aforament reduït. Si tens qualsevol pregunta o vols inscriure’t a alguna activitat no dubtis en escriure’ns al contacte que surt al cartell!!  
URL:https://espaijovegarcilaso.org/esdeveniments/intercheff-cuina-amb-nosaltres/
END:VEVENT
BEGIN:VEVENT
DTSTART;TZID=Europe/Paris:20210311T190000
DTEND;TZID=Europe/Paris:20210311T203000
DTSTAMP:20260425T151531
CREATED:20210308T162136Z
LAST-MODIFIED:20210308T162136Z
UID:15871-1615489200-1615494600@espaijovegarcilaso.org
SUMMARY:Workshop - Efectes de so: Estudi i directe
DESCRIPTION:Dijous 11 de març\, de 19h a 20:30h \nWorkshop – Efectes de so: Estudi i directe \nHistòria dels efectes\, tecnologia d’efectes\, efectes vintage\, efectes digitals\, connexionat/routing. \nActivitat gratuïta! \nPlaces limitades. Confirmació d’assistència via Whatsapp al 699 62 88 34.
URL:https://espaijovegarcilaso.org/esdeveniments/workshop-efectes-de-so-estudi-i-directe/
END:VEVENT
BEGIN:VEVENT
DTSTART;TZID=Europe/Paris:20210309T180000
DTEND;TZID=Europe/Paris:20210309T200000
DTSTAMP:20260425T151531
CREATED:20210302T204955Z
LAST-MODIFIED:20210302T205151Z
UID:15859-1615312800-1615320000@espaijovegarcilaso.org
SUMMARY:Teatrefòrum
DESCRIPTION:TEATREFÒRUM “Sortint del mirall”: Cada dos dimarts\, és a dir\, cada 15 dies estem fent amb els i les joves de La Sala un teatrefòrum\, on podreu gaudir d’un espectacle de teatre social\, on a més a més podreu participar\, sempre que us vingui de gust. \nArriba Març amb moltíssima força i ve carregat de moltes d’activitats \nCada dilluns i divendres a partir de les 18 h ens trobem a les xarxes socials o a l’Espai Jove Garcilaso per dur a terme totes aquestes activitats totalment gratuïtes i obertes a tots els i les joves que vulguin apuntar-se!!!\nJa sabeu que algunes són virtuals i altres presencials en funció dels canvis en les mesures sanitàries i que aquestes últimes tenen un aforament reduït. Si tens qualsevol pregunta o vols inscriure’t a alguna activitat no dubtis en escriure’ns al contacte que surt al cartell!!  
URL:https://espaijovegarcilaso.org/esdeveniments/teatreforum/
END:VEVENT
BEGIN:VEVENT
DTSTART;TZID=Europe/Paris:20210305T190000
DTEND;TZID=Europe/Paris:20210305T210000
DTSTAMP:20260425T151531
CREATED:20210224T103657Z
LAST-MODIFIED:20210224T103711Z
UID:15823-1614970800-1614978000@espaijovegarcilaso.org
SUMMARY:CONCERT AMB LA CLIKA PIKA
DESCRIPTION:Cicle d’activitats 8M \n  \nCINEFÒRUM AMB OH MY GOIG \nDilluns 1 de març\n a les 18h \n  \nTEATRE: MISS COSAS Y YO \n Dimecres 3 de març\n a les 18h \n  \nCONCERT AMB LA CLIKA PIKA \n Divendres 5 de març\n a les 19h \n  \nTotes les activitats són gratuïtes i en format presencial! \n Espai Jove Garcilaso\nLes inscripcions es faran via whatsapp! \n 
URL:https://espaijovegarcilaso.org/esdeveniments/concert-amb-la-clika-pika/
END:VEVENT
BEGIN:VEVENT
DTSTART;TZID=Europe/Paris:20210303T180000
DTEND;TZID=Europe/Paris:20210303T200000
DTSTAMP:20260425T151531
CREATED:20210224T103547Z
LAST-MODIFIED:20210224T103547Z
UID:15821-1614794400-1614801600@espaijovegarcilaso.org
SUMMARY:TEATRE: MISS COSAS Y YO
DESCRIPTION:Cicle d’activitats 8M \n  \nCINEFÒRUM AMB OH MY GOIG \nDilluns 1 de març\n a les 18h \n  \nTEATRE: MISS COSAS Y YO \n Dimecres 3 de març\n a les 18h \n  \nCONCERT AMB LA CLIKA PIKA \n Divendres 5 de març\n a les 19h \n  \nTotes les activitats són gratuïtes i en format presencial! \n Espai Jove Garcilaso\nLes inscripcions es faran via whatsapp! \n 
URL:https://espaijovegarcilaso.org/esdeveniments/teatre-miss-cosas-y-yo/
END:VEVENT
BEGIN:VEVENT
DTSTART;TZID=Europe/Paris:20210301T180000
DTEND;TZID=Europe/Paris:20210301T200000
DTSTAMP:20260425T151531
CREATED:20210224T103434Z
LAST-MODIFIED:20210224T103434Z
UID:15818-1614621600-1614628800@espaijovegarcilaso.org
SUMMARY:CINEFÒRUM AMB OH MY GOIG
DESCRIPTION:Cicle d’activitats 8M \n  \nCINEFÒRUM AMB OH MY GOIG \nDilluns 1 de març\n a les 18h \n  \nTEATRE: MISS COSAS Y YO \n Dimecres 3 de març\n a les 18h \n  \nCONCERT AMB LA CLIKA PIKA \n Divendres 5 de març\n a les 19h \n  \nTotes les activitats són gratuïtes i en format presencial! \n Espai Jove Garcilaso\nLes inscripcions es faran via whatsapp! \n 
URL:https://espaijovegarcilaso.org/esdeveniments/cineforum-amb-oh-my-goig/
END:VEVENT
BEGIN:VEVENT
DTSTART;TZID=Europe/Paris:20210226T180000
DTEND;TZID=Europe/Paris:20210226T200000
DTSTAMP:20260425T151531
CREATED:20210212T160503Z
LAST-MODIFIED:20210212T160503Z
UID:15777-1614362400-1614369600@espaijovegarcilaso.org
SUMMARY:Més enllà del Trap
DESCRIPTION:Concerts presencials per a joves. \n  \n\nFebrer ja està aquí i a l’Intercanviador es venen moltes activitats espectaculars!!!🥳\n\n\nCada dilluns i divendres a partir de les 18 h ens trobem a les xarxes socials o a l’Espai Jove Garcilaso per dur a terme totes aquestes activitats totalment gratuïtes i obertes a tots els i les joves que vulguin apuntar-se!!!\n\n\nJa sabeu que algunes són virtuals i altres presencials en funció dels canvis en les mesures sanitàries i que aquestes últimes tenen un aforament reduït. Si tens qualsevol pregunta o vols inscriure’t a alguna activitat no dubtis en escriure’ns al contacte que surt al cartell!!!🧡\n\n 
URL:https://espaijovegarcilaso.org/esdeveniments/mes-enlla-del-trap/
END:VEVENT
BEGIN:VEVENT
DTSTART;TZID=Europe/Paris:20210222T180000
DTEND;TZID=Europe/Paris:20210222T200000
DTSTAMP:20260425T151531
CREATED:20210212T160334Z
LAST-MODIFIED:20210212T160334Z
UID:15775-1614016800-1614024000@espaijovegarcilaso.org
SUMMARY:Reapropia['T] del teu cos
DESCRIPTION:Moviment i autoestima. \n  \n\nFebrer ja està aquí i a l’Intercanviador es venen moltes activitats espectaculars!!!🥳\n\n\nCada dilluns i divendres a partir de les 18 h ens trobem a les xarxes socials o a l’Espai Jove Garcilaso per dur a terme totes aquestes activitats totalment gratuïtes i obertes a tots els i les joves que vulguin apuntar-se!!!\n\n\nJa sabeu que algunes són virtuals i altres presencials en funció dels canvis en les mesures sanitàries i que aquestes últimes tenen un aforament reduït. Si tens qualsevol pregunta o vols inscriure’t a alguna activitat no dubtis en escriure’ns al contacte que surt al cartell!!!🧡\n\n 
URL:https://espaijovegarcilaso.org/esdeveniments/reapropiat-del-teu-cos/
END:VEVENT
BEGIN:VEVENT
DTSTART;TZID=Europe/Paris:20210219T190000
DTEND;TZID=Europe/Paris:20210219T210000
DTSTAMP:20260425T151531
CREATED:20210212T094806Z
LAST-MODIFIED:20210212T113427Z
UID:15723-1613761200-1613768400@espaijovegarcilaso.org
SUMMARY:Concert amb "The Ramellers"
DESCRIPTION:El proper divendres 19 de febrer a partir de les 19h gaudirem de concert a l’Espai Jove Garcilaso amb l’actuació de “The Ramellers”. \nEntrada gratuïta. \nAforament limitat. Reserves via Whatsapp al 699 62 88 34. \nUs hi esperem! \n 
URL:https://espaijovegarcilaso.org/esdeveniments/concert-amb-the-ramellers/
END:VEVENT
END:VCALENDAR