BEGIN:VCALENDAR
VERSION:2.0
PRODID:-//Espai Jove Garcilaso - ECPv6.15.13//NONSGML v1.0//EN
CALSCALE:GREGORIAN
METHOD:PUBLISH
X-ORIGINAL-URL:https://espaijovegarcilaso.org
X-WR-CALDESC:Esdeveniments per Espai Jove Garcilaso
REFRESH-INTERVAL;VALUE=DURATION:PT1H
X-Robots-Tag:noindex
X-PUBLISHED-TTL:PT1H
BEGIN:VTIMEZONE
TZID:Europe/Paris
BEGIN:DAYLIGHT
TZOFFSETFROM:+0100
TZOFFSETTO:+0200
TZNAME:CEST
DTSTART:20210328T010000
END:DAYLIGHT
BEGIN:STANDARD
TZOFFSETFROM:+0200
TZOFFSETTO:+0100
TZNAME:CET
DTSTART:20211031T010000
END:STANDARD
BEGIN:DAYLIGHT
TZOFFSETFROM:+0100
TZOFFSETTO:+0200
TZNAME:CEST
DTSTART:20220327T010000
END:DAYLIGHT
BEGIN:STANDARD
TZOFFSETFROM:+0200
TZOFFSETTO:+0100
TZNAME:CET
DTSTART:20221030T010000
END:STANDARD
BEGIN:DAYLIGHT
TZOFFSETFROM:+0100
TZOFFSETTO:+0200
TZNAME:CEST
DTSTART:20230326T010000
END:DAYLIGHT
BEGIN:STANDARD
TZOFFSETFROM:+0200
TZOFFSETTO:+0100
TZNAME:CET
DTSTART:20231029T010000
END:STANDARD
BEGIN:DAYLIGHT
TZOFFSETFROM:+0100
TZOFFSETTO:+0200
TZNAME:CEST
DTSTART:20240331T010000
END:DAYLIGHT
BEGIN:STANDARD
TZOFFSETFROM:+0200
TZOFFSETTO:+0100
TZNAME:CET
DTSTART:20241027T010000
END:STANDARD
END:VTIMEZONE
BEGIN:VEVENT
DTSTART;TZID=Europe/Paris:20230210T200000
DTEND;TZID=Europe/Paris:20230210T220000
DTSTAMP:20260420T162125
CREATED:20230127T192920Z
LAST-MODIFIED:20230127T192920Z
UID:19994-1676059200-1676066400@espaijovegarcilaso.org
SUMMARY:Joanbar - Concerts
DESCRIPTION:Ja podeu consultar les activitats que es realitzaran al llarg d’aquest trimestre a la nova agenda d’hivern de l’Espai Jove Garcilaso! També podeu accedir al programa virtual escanejant el codi QR adjunt. \n  \nProgramació d’hivern – Espai Jove Garcilaso
URL:https://espaijovegarcilaso.org/esdeveniments/joanbar-concerts/
END:VEVENT
BEGIN:VEVENT
DTSTART;TZID=Europe/Paris:20230209T170000
DTEND;TZID=Europe/Paris:20230209T190000
DTSTAMP:20260420T162125
CREATED:20230127T191417Z
LAST-MODIFIED:20230127T191417Z
UID:19980-1675962000-1675969200@espaijovegarcilaso.org
SUMMARY:Fill/a\, acabes l’ESO i després què? (Activitat per famílies) - IN-FORMA'T
DESCRIPTION:Ja podeu consultar les activitats que es realitzaran al llarg d’aquest trimestre a la nova agenda d’hivern de l’Espai Jove Garcilaso! També podeu accedir al programa virtual escanejant el codi QR adjunt. \n  \nProgramació d’hivern – Espai Jove Garcilaso
URL:https://espaijovegarcilaso.org/esdeveniments/fill-a-acabes-leso-i-despres-que-activitat-per-families-in-format/
END:VEVENT
BEGIN:VEVENT
DTSTART;TZID=Europe/Paris:20230207T180000
DTEND;TZID=Europe/Paris:20230207T200000
DTSTAMP:20260420T162125
CREATED:20230202T182856Z
LAST-MODIFIED:20230202T182856Z
UID:20047-1675792800-1675800000@espaijovegarcilaso.org
SUMMARY:Mans a l'obra - Intercanviador
DESCRIPTION:Ja podeu consultar les activitats que es realitzaran al llarg d’aquest trimestre a la nova agenda d’hivern de l’Espai Jove Garcilaso! També podeu accedir al programa virtual escanejant el codi QR adjunt. \n  \nProgramació d’hivern – Espai Jove Garcilaso
URL:https://espaijovegarcilaso.org/esdeveniments/mans-a-lobra-intercanviador-3/
END:VEVENT
BEGIN:VEVENT
DTSTART;TZID=Europe/Paris:20230207T180000
DTEND;TZID=Europe/Paris:20230207T200000
DTSTAMP:20260420T162125
CREATED:20230127T195314Z
LAST-MODIFIED:20230127T195314Z
UID:20014-1675792800-1675800000@espaijovegarcilaso.org
SUMMARY:Taller de cuina
DESCRIPTION:Vine a participar en el nostre viatge culinari pels diferents països del món a través del paladar amb l’ajuda de les receptes que farem cada dimarts de 18 a 20h.
URL:https://espaijovegarcilaso.org/esdeveniments/taller-de-cuina-5/
END:VEVENT
BEGIN:VEVENT
DTSTART;TZID=Europe/Paris:20230206T180000
DTEND;TZID=Europe/Paris:20230206T200000
DTSTAMP:20260420T162125
CREATED:20230202T175315Z
LAST-MODIFIED:20230202T175315Z
UID:20035-1675706400-1675713600@espaijovegarcilaso.org
SUMMARY:Cinefòrum
DESCRIPTION:Ja podeu consultar les activitats que es realitzaran al llarg d’aquest trimestre a la nova agenda d’hivern de l’Espai Jove Garcilaso! També podeu accedir al programa virtual escanejant el codi QR adjunt. \n  \nProgramació d’hivern – Espai Jove Garcilaso
URL:https://espaijovegarcilaso.org/esdeveniments/cineforum-3/
END:VEVENT
BEGIN:VEVENT
DTSTART;TZID=Europe/Paris:20230131T180000
DTEND;TZID=Europe/Paris:20230131T200000
DTSTAMP:20260420T162125
CREATED:20230202T184533Z
LAST-MODIFIED:20230202T184533Z
UID:20063-1675188000-1675195200@espaijovegarcilaso.org
SUMMARY:Reunió Carnestoltes
DESCRIPTION:Ja podeu consultar les activitats que es realitzaran al llarg d’aquest trimestre a la nova agenda d’hivern de l’Espai Jove Garcilaso! També podeu accedir al programa virtual escanejant el codi QR adjunt. \n  \nProgramació d’hivern – Espai Jove Garcilaso
URL:https://espaijovegarcilaso.org/esdeveniments/reunio-carnestoltes/
END:VEVENT
BEGIN:VEVENT
DTSTART;TZID=Europe/Paris:20230131T180000
DTEND;TZID=Europe/Paris:20230131T200000
DTSTAMP:20260420T162125
CREATED:20230127T195131Z
LAST-MODIFIED:20230127T195131Z
UID:20012-1675188000-1675195200@espaijovegarcilaso.org
SUMMARY:Taller de cuina
DESCRIPTION:Vine a participar en el nostre viatge culinari pels diferents països del món a través del paladar amb l’ajuda de les receptes que farem cada dimarts de 18 a 20h.
URL:https://espaijovegarcilaso.org/esdeveniments/taller-de-cuina-4/
END:VEVENT
BEGIN:VEVENT
DTSTART;TZID=Europe/Paris:20230130T180000
DTEND;TZID=Europe/Paris:20230130T200000
DTSTAMP:20260420T162125
CREATED:20230127T190656Z
LAST-MODIFIED:20230127T190656Z
UID:19978-1675101600-1675108800@espaijovegarcilaso.org
SUMMARY:Cinefòrum: "Cortar por la línea de puntos"
DESCRIPTION:Aquest dilluns veurem alguns capítols de la sèrie “Cortar por la línea de puntos”\, una sèrie d’animació que tracta sobre en Zero\, un noi que explica històries en les que creu que ha fracassat i fa reflexionar\, mentre duu a terme un viatge amb dos amics seus. 🎥🌟 \nEsperem que vingueu a gaudir!!!🤗🤗 \n 
URL:https://espaijovegarcilaso.org/esdeveniments/cineforum-cortar-por-la-linea-de-puntos/
END:VEVENT
BEGIN:VEVENT
DTSTART;TZID=Europe/Paris:20230127T200000
DTEND;TZID=Europe/Paris:20230127T220000
DTSTAMP:20260420T162125
CREATED:20230117T112137Z
LAST-MODIFIED:20230117T112137Z
UID:19939-1674849600-1674856800@espaijovegarcilaso.org
SUMMARY:Concert amb Backdoor
DESCRIPTION:Aquest divendres concert amb els amics de Backdoor. Una banda jove però amb experiència que naveguen pel pop-rock amb pinzellades de rock progressiu.
URL:https://espaijovegarcilaso.org/esdeveniments/concert-amb-backdoor-2/
END:VEVENT
BEGIN:VEVENT
DTSTART;TZID=Europe/Paris:20230127T180000
DTEND;TZID=Europe/Paris:20230127T200000
DTSTAMP:20260420T162125
CREATED:20230127T192812Z
LAST-MODIFIED:20230127T192812Z
UID:19992-1674842400-1674849600@espaijovegarcilaso.org
SUMMARY:Premi acústica al CC La Barraca
DESCRIPTION:Ja podeu consultar les activitats que es realitzaran al llarg d’aquest trimestre a la nova agenda d’hivern de l’Espai Jove Garcilaso! També podeu accedir al programa virtual escanejant el codi QR adjunt. \n  \nProgramació d’hivern – Espai Jove Garcilaso
URL:https://espaijovegarcilaso.org/esdeveniments/premi-acustica-al-cc-la-barraca/
END:VEVENT
BEGIN:VEVENT
DTSTART;TZID=Europe/Paris:20230124T180000
DTEND;TZID=Europe/Paris:20230124T200000
DTSTAMP:20260420T162125
CREATED:20230202T184351Z
LAST-MODIFIED:20230202T184351Z
UID:20057-1674583200-1674590400@espaijovegarcilaso.org
SUMMARY:Say Cheese
DESCRIPTION:Ja podeu consultar les activitats que es realitzaran al llarg d’aquest trimestre a la nova agenda d’hivern de l’Espai Jove Garcilaso! També podeu accedir al programa virtual escanejant el codi QR adjunt. \n  \nProgramació d’hivern – Espai Jove Garcilaso
URL:https://espaijovegarcilaso.org/esdeveniments/say-cheese/
END:VEVENT
BEGIN:VEVENT
DTSTART;TZID=Europe/Paris:20230124T180000
DTEND;TZID=Europe/Paris:20230124T200000
DTSTAMP:20260420T162125
CREATED:20230127T195055Z
LAST-MODIFIED:20230127T195055Z
UID:20010-1674583200-1674590400@espaijovegarcilaso.org
SUMMARY:Taller de cuina
DESCRIPTION:Vine a participar en el nostre viatge culinari pels diferents països del món a través del paladar amb l’ajuda de les receptes que farem cada dimarts de 18 a 20h.
URL:https://espaijovegarcilaso.org/esdeveniments/taller-de-cuina-3/
END:VEVENT
BEGIN:VEVENT
DTSTART;TZID=Europe/Paris:20230123T180000
DTEND;TZID=Europe/Paris:20230123T200000
DTSTAMP:20260420T162125
CREATED:20230202T175236Z
LAST-MODIFIED:20230202T175236Z
UID:20033-1674496800-1674504000@espaijovegarcilaso.org
SUMMARY:Cinefòrum
DESCRIPTION:Ja podeu consultar les activitats que es realitzaran al llarg d’aquest trimestre a la nova agenda d’hivern de l’Espai Jove Garcilaso! També podeu accedir al programa virtual escanejant el codi QR adjunt. \n  \nProgramació d’hivern – Espai Jove Garcilaso
URL:https://espaijovegarcilaso.org/esdeveniments/cineforum-2/
END:VEVENT
BEGIN:VEVENT
DTSTART;TZID=Europe/Paris:20230120T180000
DTEND;TZID=Europe/Paris:20230120T200000
DTSTAMP:20260420T162125
CREATED:20230117T113022Z
LAST-MODIFIED:20230117T113022Z
UID:19941-1674237600-1674244800@espaijovegarcilaso.org
SUMMARY:Concert Acústica al CC La Barraca
DESCRIPTION:Concert amb “Señorita Julia y sus Exs” al CC La Barraca. \nhttps://ajuntament.barcelona.cat/ccivics/lasagrera/p/50472/concert-seorita-julia-y-sus-exs \nSegon Premi del Jurat i Premi del Públic / Concurs Música Acústica Garcilaso 2022. Música Des-Generada per a tots els gustos. \n  \nOn: CC La Sagrera – “La Barraca”\nAdreça: c/ Martí Molins\, 29. Metro La Sagrera
URL:https://espaijovegarcilaso.org/esdeveniments/concert-acustica-al-cc-la-barraca/
END:VEVENT
BEGIN:VEVENT
DTSTART;TZID=Europe/Paris:20230119T180000
DTEND;TZID=Europe/Paris:20230119T200000
DTSTAMP:20260420T162125
CREATED:20230202T183203Z
LAST-MODIFIED:20230202T183203Z
UID:20051-1674151200-1674158400@espaijovegarcilaso.org
SUMMARY:SexTalk
DESCRIPTION:SexTalk és un projecte que vol crear un espai segur i de confiança per els joves\, on puguin parlar sobre temes relacionats amb la sexualitat i aspectes afectius-sexuals\, els quals seran treballats de forma dinàmica i divertida. \n  \n\n  \nJa podeu consultar les activitats que es realitzaran al llarg d’aquest trimestre a la nova agenda d’hivern de l’Espai Jove Garcilaso! També podeu accedir al programa virtual escanejant el codi QR adjunt. \n  \nProgramació d’hivern – Espai Jove Garcilaso
URL:https://espaijovegarcilaso.org/esdeveniments/sextalk/
END:VEVENT
BEGIN:VEVENT
DTSTART;TZID=Europe/Paris:20230119T110000
DTEND;TZID=Europe/Paris:20230119T130000
DTSTAMP:20260420T162125
CREATED:20230110T214739Z
LAST-MODIFIED:20230110T214739Z
UID:19928-1674126000-1674133200@espaijovegarcilaso.org
SUMMARY:Portals de cerca de feina
DESCRIPTION:Dijous 19/01 a les 11h \nEstàs buscant feina i no tens clar quins són els millors canals? Vine a aquesta sessió per descobrir les millors pàgines per poder treballar. \n 
URL:https://espaijovegarcilaso.org/esdeveniments/portals-de-cerca-de-feina/
END:VEVENT
BEGIN:VEVENT
DTSTART;TZID=Europe/Paris:20230117T180000
DTEND;TZID=Europe/Paris:20230117T200000
DTSTAMP:20260420T162125
CREATED:20230127T195009Z
LAST-MODIFIED:20230127T195009Z
UID:20008-1673978400-1673985600@espaijovegarcilaso.org
SUMMARY:Taller de cuina
DESCRIPTION:Vine a participar en el nostre viatge culinari pels diferents països del món a través del paladar amb l’ajuda de les receptes que farem cada dimarts de 18 a 20h.
URL:https://espaijovegarcilaso.org/esdeveniments/taller-de-cuina-2/
END:VEVENT
BEGIN:VEVENT
DTSTART;TZID=Europe/Paris:20230113T223000
DTEND;TZID=Europe/Paris:20230113T223000
DTSTAMP:20260420T162125
CREATED:20230104T184800Z
LAST-MODIFIED:20230104T184800Z
UID:19919-1673649000-1673649000@espaijovegarcilaso.org
SUMMARY:Concert amb Thalassa
DESCRIPTION:El proper divendres 13 de gener a partir de les 22:30h gaudirem de concert a l’Espai Jove Garcilaso amb l’actuació de Thalassa.
URL:https://espaijovegarcilaso.org/esdeveniments/concert-amb-thalassa/
END:VEVENT
BEGIN:VEVENT
DTSTART;TZID=Europe/Paris:20230110T180000
DTEND;TZID=Europe/Paris:20230110T200000
DTSTAMP:20260420T162125
CREATED:20230202T182810Z
LAST-MODIFIED:20230202T182810Z
UID:20044-1673373600-1673380800@espaijovegarcilaso.org
SUMMARY:Mans a l'obra - Intercanviador
DESCRIPTION:Ja podeu consultar les activitats que es realitzaran al llarg d’aquest trimestre a la nova agenda d’hivern de l’Espai Jove Garcilaso! També podeu accedir al programa virtual escanejant el codi QR adjunt. \n  \nProgramació d’hivern – Espai Jove Garcilaso
URL:https://espaijovegarcilaso.org/esdeveniments/mans-a-lobra-intercanviador-2/
END:VEVENT
BEGIN:VEVENT
DTSTART;TZID=Europe/Paris:20230110T180000
DTEND;TZID=Europe/Paris:20230110T200000
DTSTAMP:20260420T162125
CREATED:20230127T194941Z
LAST-MODIFIED:20230127T194941Z
UID:20006-1673373600-1673380800@espaijovegarcilaso.org
SUMMARY:Taller de cuina
DESCRIPTION:Vine a participar en el nostre viatge culinari pels diferents països del món a través del paladar amb l’ajuda de les receptes que farem cada dimarts de 18 a 20h.
URL:https://espaijovegarcilaso.org/esdeveniments/taller-de-cuina/
END:VEVENT
BEGIN:VEVENT
DTSTART;TZID=Europe/Paris:20230109T180000
DTEND;TZID=Europe/Paris:20230109T200000
DTSTAMP:20260420T162125
CREATED:20230202T175152Z
LAST-MODIFIED:20230202T180913Z
UID:20031-1673287200-1673294400@espaijovegarcilaso.org
SUMMARY:Cinefòrum
DESCRIPTION:Ja podeu consultar les activitats que es realitzaran al llarg d’aquest trimestre a la nova agenda d’hivern de l’Espai Jove Garcilaso! També podeu accedir al programa virtual escanejant el codi QR adjunt. \n  \nProgramació d’hivern – Espai Jove Garcilaso
URL:https://espaijovegarcilaso.org/esdeveniments/cineforum/
END:VEVENT
BEGIN:VEVENT
DTSTART;TZID=Europe/Paris:20221230T200000
DTEND;TZID=Europe/Paris:20221230T220000
DTSTAMP:20260420T162125
CREATED:20221227T180355Z
LAST-MODIFIED:20221227T180355Z
UID:19909-1672430400-1672437600@espaijovegarcilaso.org
SUMMARY:Concert amb Cleanstring
DESCRIPTION:El proper divendres 30 de desembre a partir de les 20h gaudirem de concert a l’Espai Jove Garcilaso amb l’actuació de Cleanstring.
URL:https://espaijovegarcilaso.org/esdeveniments/concert-amb-cleanstring-2/
END:VEVENT
BEGIN:VEVENT
DTSTART;TZID=Europe/Paris:20221230T180000
DTEND;TZID=Europe/Paris:20221230T200000
DTSTAMP:20260420T162125
CREATED:20221210T124227Z
LAST-MODIFIED:20221210T124227Z
UID:19856-1672423200-1672430400@espaijovegarcilaso.org
SUMMARY:Festa cap d'any - Intercanviador
DESCRIPTION:Ho ho ho\, l’Intercanviador tancarà aquest any amb un munt d’activitats nadalenques i festives ⛄🎁🎄 \n🕑 Comença la recta final per dir adeu al 2022 i donar la benvinguda al 2023 🥳 \n🙋🏾🙋‍♀️🙋🏽‍♂️ Per apuntar-se a les activitats\, recorda que has de reservar plaça enviant-nos un whatsapp o un DM al nostre Instagram. \n 
URL:https://espaijovegarcilaso.org/esdeveniments/festa-cap-dany-intercanviador/
END:VEVENT
BEGIN:VEVENT
DTSTART;TZID=Europe/Paris:20221223T200000
DTEND;TZID=Europe/Paris:20221223T220000
DTSTAMP:20260420T162125
CREATED:20221221T193757Z
LAST-MODIFIED:20221221T193757Z
UID:19892-1671825600-1671832800@espaijovegarcilaso.org
SUMMARY:Concert amb Istari
DESCRIPTION:Moltes ganes de divendres tenir aprop i gaudir dels amics @istari.music i el seu #metal a l’@ejgarcilaso🤘
URL:https://espaijovegarcilaso.org/esdeveniments/concert-amb-istari/
END:VEVENT
BEGIN:VEVENT
DTSTART;TZID=Europe/Paris:20221222T200000
DTEND;TZID=Europe/Paris:20221222T220000
DTSTAMP:20260420T162125
CREATED:20221221T193200Z
LAST-MODIFIED:20221221T193200Z
UID:19890-1671739200-1671746400@espaijovegarcilaso.org
SUMMARY:Concert de Nadal amb Blue Dreams
DESCRIPTION:Concert de Nadal aquest dijous a les 20h amb @bluedreams.music i entrada lliure!!
URL:https://espaijovegarcilaso.org/esdeveniments/concert-de-nadal-amb-blue-dreams/
END:VEVENT
BEGIN:VEVENT
DTSTART;TZID=Europe/Paris:20221220T180000
DTEND;TZID=Europe/Paris:20221220T200000
DTSTAMP:20260420T162125
CREATED:20221210T124047Z
LAST-MODIFIED:20221210T124047Z
UID:19854-1671559200-1671566400@espaijovegarcilaso.org
SUMMARY:Say Cheese - Intercanviador
DESCRIPTION:Ho ho ho\, l’Intercanviador tancarà aquest any amb un munt d’activitats nadalenques i festives ⛄🎁🎄 \n🕑 Comença la recta final per dir adeu al 2022 i donar la benvinguda al 2023 🥳 \n🙋🏾🙋‍♀️🙋🏽‍♂️ Per apuntar-se a les activitats\, recorda que has de reservar plaça enviant-nos un whatsapp o un DM al nostre Instagram. \n 
URL:https://espaijovegarcilaso.org/esdeveniments/say-cheese-intercanviador-2/
END:VEVENT
BEGIN:VEVENT
DTSTART;TZID=Europe/Paris:20221219T180000
DTEND;TZID=Europe/Paris:20221219T200000
DTSTAMP:20260420T162125
CREATED:20221204T105012Z
LAST-MODIFIED:20221209T164319Z
UID:19830-1671472800-1671480000@espaijovegarcilaso.org
SUMMARY:Manualitats Nadalenques - La Sala
DESCRIPTION:S’apropa Nadal i ja es nota en l’ambient. Us deixem per aquí les activitats que durem a terme aquest mes de desembre. Vine a gaudir de les activitats i a refugiar-te del fred!! T’esperem!!
URL:https://espaijovegarcilaso.org/esdeveniments/manualitats-nadalenques-la-sala/
END:VEVENT
BEGIN:VEVENT
DTSTART;TZID=Europe/Paris:20221216T183000
DTEND;TZID=Europe/Paris:20221216T203000
DTSTAMP:20260420T162125
CREATED:20221210T124555Z
LAST-MODIFIED:20221210T124555Z
UID:19858-1671215400-1671222600@espaijovegarcilaso.org
SUMMARY:Festa de Nadal
DESCRIPTION:Ja arriba l’hivern i s’acosta la fi d’un gran any\, i quina millor manera de celebrar l’arribada del Nadal que amb una festa.\nEl 16 de desembre a les 18.30h celebrarem la Festa de Nadal que estarà ambientada en els anys 2000.\nTrobaràs DJ\, passarel·la\, jocs…\nT’ho perdràs?
URL:https://espaijovegarcilaso.org/esdeveniments/festa-de-nadal/
END:VEVENT
BEGIN:VEVENT
DTSTART;TZID=Europe/Paris:20221216T173000
DTEND;TZID=Europe/Paris:20221216T183000
DTSTAMP:20260420T162125
CREATED:20221210T124924Z
LAST-MODIFIED:20221210T124924Z
UID:19863-1671211800-1671215400@espaijovegarcilaso.org
SUMMARY:Gimcana infantil
DESCRIPTION:El proper 16 de desembre a les 17.30h a Jardins de Virginia Woolf joves de l’Intercanviador han preparat una gimcana per a infants de 5 a 12 anys per celebrar que ja arriba el Nadal.\nCal inscripció prèvia a intercanviadorjoves@gmail.com o escriu al Instagram @intercanviadorjoves\, amb el nom\, cognom i edat de l’infant.\n \nT’hi esperem amb molta il·lusió!\n 
URL:https://espaijovegarcilaso.org/esdeveniments/gimcana-infantil/
END:VEVENT
BEGIN:VEVENT
DTSTART;TZID=Europe/Paris:20221215T180000
DTEND;TZID=Europe/Paris:20221215T200000
DTSTAMP:20260420T162125
CREATED:20221210T122727Z
LAST-MODIFIED:20221210T122727Z
UID:19852-1671127200-1671134400@espaijovegarcilaso.org
SUMMARY:Trencant la barrera del só - Intercanviador
DESCRIPTION:Ho ho ho\, l’Intercanviador tancarà aquest any amb un munt d’activitats nadalenques i festives ⛄🎁🎄 \n🕑 Comença la recta final per dir adeu al 2022 i donar la benvinguda al 2023 🥳 \n🙋🏾🙋‍♀️🙋🏽‍♂️ Per apuntar-se a les activitats\, recorda que has de reservar plaça enviant-nos un whatsapp o un DM al nostre Instagram. \n 
URL:https://espaijovegarcilaso.org/esdeveniments/trencant-la-barrera-del-so-intercanviador/
END:VEVENT
END:VCALENDAR